Workbook

Sheet Portada
G3: Área de Calidade
C5: Cadro de Mando da Escola de Enxeñaría Forestal
C7: Indicadores do Sistema de Garantía de Calidade
E8: Curso 2023/2024;2024/2025;2025/2026
C9: Índice
D10: Datos | F10: Resultados
D11: Indicadores de Centro | F11: Resumo dos Resultados
D12: =+"Anexos do "&Centro!F4 -> Anexos do Curso 2023-2024 | F12: Resultados por procedementos
D13: =+"Anexos do "&Centro!J4 -> Anexos do Curso 2024-2025
D14: =+"Anexos do "&Centro!N4 -> Anexos do Curso 2025-2026
D16: Indicadores de Grao en Enxeñaría Forestal
G20: Actualizado: 21/07/2026
B21: Aprobado en Xunta de Escola do 21 de Xullo de 2026

Sheet Centro
A2: Panel de indicadores - Cadro de mando da Escola de Enxeñaría Forestal
A4: Indicadores | C4: Procedimientos asociados | E4: Crit. | F4: Curso 2023-2024 | J4: Curso 2024-2025 | N4: Curso 2025-2026
A5: Cod | B5: Denominación Indicador | C5: Denominación | D5: Descripcion e Fonte de Información | E5: IRPD | F5: Meta | G5: Resultado | H5: Observacións | J5: Meta | K5: Resultado | L5: Observacións | N5: Meta | O5: Resultado | P5: Observacións
A6: Indicadores dos Programas de Calidade | F6: =+COUNTIF(H$7:H$37,"meta Conseguida")+COUNTIF(H$7:H$37,"meta Non Conseguida") -> 14 | G6: =+COUNTIF(H$7:H$37,"meta Conseguida") -> 10 | H6: =+IFERROR(G6/F6,0) -> 0.71428571 | J6: =+COUNTIF(L$7:L$37,"meta Conseguida")+COUNTIF(L$7:L$37,"meta Non Conseguida") -> 12 | K6: =+COUNTIF(L$7:L$37,"meta Conseguida") -> 10 | L6: =+IFERROR(K6/J6,0) -> 0.83333333 | N6: =+COUNTIF(P$7:P$37,"meta Conseguida")+COUNTIF(P$7:P$37,"meta Non Conseguida") -> 0 | O6: =+COUNTIF(P$7:P$37,"meta Conseguida") -> 0 | P6: =+IFERROR(O6/N6,0) -> 0
A7: I6 | B7: % Participación do PAS do centro en plans de formación | C7: PE-01 Xestión do PAS | D7: Só cubrir o Resultado, é un indicador informativo. Indicar a % do centro da columna "% Formación Si" do documento do "PAS_Formación" do portal de transparencia: https://secretaria.uvigo.gal/uv/web/transparencia/informe/show/5/37/86 Son os resultados do curso 23-24 | E7: 4 | F7: 0.33 | G7: 0.64237668 | H7: =+IF(ISBLANK(G7),"Introducir Resultado","Resultado Introducido") -> Resultado Introducido | J7: 0.33 | K7: 0.3997 | L7: =+IF(ISBLANK(K7),"Introducir Resultado","Resultado Introducido") -> Resultado Introducido | N7: ---- | P7: =+IF(ISBLANK(O7),"Introducir Resultado","Resultado Introducido") -> Introducir Resultado
A9: Indicadores institucionais da Universidade de Vigo
A10: I27 | B10: Nº Queixas recibidas | C10: MC-02: Xestión das queixas, suxestións e parabéns | D10: Cubrir Meta e Resultado. O indicador acádase se o resultado é igual ou inferior á meta. Indicar o Nº de queixas recibidas no curso e que sexan competencia do centro ou das súas titulacións. https://secretaria.uvigo.gal/uv/web/qsp/ | E10: 3 | F10: 2 | G10: 1 | H10: =+IF(AND(ISBLANK(F10),ISBLANK(G10)),"Introducir Meta e Resultado",IF(ISBLANK(F10),"Indicador Sen Meta",IF(ISBLANK(G10),"Introducir Resultado",IF(G10<=F10,"Meta Conseguida","Meta Non Conseguida")))) -> Meta Conseguida | J10: 2 | K10: 0 | L10: =+IF(AND(ISBLANK(J10),ISBLANK(K10)),"Introducir Meta e Resultado",IF(ISBLANK(J10),"Indicador Sen Meta",IF(ISBLANK(K10),"Introducir Resultado",IF(K10<=J10,"Meta Conseguida","Meta Non Conseguida")))) -> Meta Conseguida | P10: =+IF(AND(ISBLANK(N10),ISBLANK(O10)),"Introducir Meta e Resultado",IF(ISBLANK(N10),"Indicador Sen Meta",IF(ISBLANK(O10),"Introducir Resultado",IF(O10<=N10,"Meta Conseguida","Meta Non Conseguida")))) -> Introducir Meta e Resultado
A11: I28 | B11: % de Titulacións que renovaron a súa acreditación | C11: DO-0101: Deseño, verificación, modificación e acreditación das titulacións oficiais | D11: Cubrir Meta e Resultado Indicar a % de titulacións que se imparten no centro que renovaron a súa acreditación sobre o total das titulacións que participaron na renovación da acreditación. Ter en conta únicamente as titulacións que recibiron o informe definitivo neste curso. | E11: 1 | F11: 1 | G11: 1 | H11: =+IF(AND(ISBLANK(F11),ISBLANK(G11)),"Introducir Meta e Resultado",IF(ISBLANK(F11),"Indicador Sen Meta",IF(ISBLANK(G11),"Introducir Resultado",IF(G11>=F11,"Meta Conseguida","Meta Non Conseguida")))) -> Meta Conseguida | J11: 1 | K11: 1 | L11: =+IF(AND(ISBLANK(J11),ISBLANK(K11)),"Introducir Meta e Resultado",IF(ISBLANK(J11),"Indicador Sen Meta",IF(ISBLANK(K11),"Introducir Resultado",IF(K11>=J11,"Meta Conseguida","Meta Non Conseguida")))) -> Meta Conseguida | P11: =+IF(AND(ISBLANK(N11),ISBLANK(O11)),"Introducir Meta e Resultado",IF(ISBLANK(N11),"Indicador Sen Meta",IF(ISBLANK(O11),"Introducir Resultado",IF(O11>=N11,"Meta Conseguida","Meta Non Conseguida")))) -> Introducir Meta e Resultado
A12: I29-1 | B12: Nº Titulacións en proceso de verificación | C12: DO-0101: Deseño, verificación, modificación e acreditación das titulacións oficiais | D12: Só cubrir o Resultado, é un indicador informativo Indicar o Nº de titulacións que se imparten no centro que estan en proceso de verificación. | E12: 1 | F12: 1 | G12: 1 | H12: =+IF(ISBLANK(G12),"Introducir Resultado","Resultado Introducido") -> Resultado Introducido | J12: 1 | K12: 1 | L12: =+IF(ISBLANK(K12),"Introducir Resultado","Resultado Introducido") -> Resultado Introducido | N12: ---- | P12: =+IF(ISBLANK(O12),"Introducir Resultado","Resultado Introducido") -> Introducir Resultado
A13: I29-2 | B13: Nº Titulacións en proceso de modificación substancial | C13: DO-0101: Deseño, verificación, modificación e acreditación das titulacións oficiais | D13: Só cubrir o Resultado, é un indicador informativo Indicar o Nº de titulacións que se imparten no centro que estan en proceso de modificación substancial. | E13: 1 | F13: 1 | G13: 1 | H13: =+IF(ISBLANK(G13),"Introducir Resultado","Resultado Introducido") -> Resultado Introducido | J13: 1 | K13: 1 | L13: =+IF(ISBLANK(K13),"Introducir Resultado","Resultado Introducido") -> Resultado Introducido | N13: ---- | P13: =+IF(ISBLANK(O13),"Introducir Resultado","Resultado Introducido") -> Introducir Resultado
A14: I29-3 | B14: Nº Titulacións en proceso de renovación da acreditación | C14: DO-0101: Deseño, verificación, modificación e acreditación das titulacións oficiais | D14: Só cubrir o Resultado, é un indicador informativo Indicar o Nº de titulacións que se imparten no centro que estan en proceso de renovación da acreditación. | E14: 1 | F14: 1 | G14: 1 | H14: =+IF(ISBLANK(G14),"Introducir Resultado","Resultado Introducido") -> Resultado Introducido | J14: 1 | K14: 1 | L14: =+IF(ISBLANK(K14),"Introducir Resultado","Resultado Introducido") -> Resultado Introducido | N14: ---- | P14: =+IF(ISBLANK(O14),"Introducir Resultado","Resultado Introducido") -> Introducir Resultado
A15: I30 | B15: % Titulacións con avaliación favorable en Seguimento | C15: DO-0102: Seguimento e mellora das titulacións | D15: Cubrir Meta e Resultado Indicar a % de titulacións que se imparten no centro que obtiveron unha avaliación Favorable no Informe de definitivo do Seguimento da ACSUG sobre o total das titulacións que participaron. Incluír únicamente as titulacións que recibiron o informe final neste curso. | E15: 1 | F15: 1 | G15: 1 | H15: =+IF(AND(ISBLANK(F15),ISBLANK(G15)),"Introducir Meta e Resultado",IF(ISBLANK(F15),"Indicador Sen Meta",IF(ISBLANK(G15),"Introducir Resultado",IF(G15>=F15,"Meta Conseguida","Meta Non Conseguida")))) -> Meta Conseguida | J15: 1 | K15: 1 | L15: =+IF(AND(ISBLANK(J15),ISBLANK(K15)),"Introducir Meta e Resultado",IF(ISBLANK(J15),"Indicador Sen Meta",IF(ISBLANK(K15),"Introducir Resultado",IF(K15>=J15,"Meta Conseguida","Meta Non Conseguida")))) -> Meta Conseguida | P15: =+IF(AND(ISBLANK(N15),ISBLANK(O15)),"Introducir Meta e Resultado",IF(ISBLANK(N15),"Indicador Sen Meta",IF(ISBLANK(O15),"Introducir Resultado",IF(O15>=N15,"Meta Conseguida","Meta Non Conseguida")))) -> Introducir Meta e Resultado
A16: I31 | B16: Nº Titulacións en proceso de Seguimento | C16: DO-0102: Seguimento e mellora das titulacións | D16: Só cubrir o Resultado, é un indicador informativo Indicar o Nº de titulacións que se imparten no centro que estan en proceso de seguimento da ACSUG | E16: 1 | F16: 1 | G16: 1 | H16: =+IF(ISBLANK(G16),"Introducir Resultado","Indicador Completado") -> Indicador Completado | J16: 1 | K16: 1 | L16: =+IF(ISBLANK(K16),"Introducir Resultado","Indicador Completado") -> Indicador Completado | N16: ---- | P16: =+IF(ISBLANK(O16),"Introducir Resultado","Indicador Completado") -> Introducir Resultado
A17: I32 | B17: Nº Titulacións en proceso de extinción ou suspensión | C17: DO-0103: Suspensión e extinción dunha titulación | D17: Só cubrir o Resultado, é un indicador informativo Indicar o Nº de titulacións que se impartiron no centro no curso pasado, que están nun proceso de suspensión ou extinción | E17: 1 | F17: 0 | G17: 0 | H17: =+IF(ISBLANK(G17),"Introducir Resultado","Indicador Completado") -> Indicador Completado | J17: 0 | K17: 0 | L17: =+IF(ISBLANK(K17),"Introducir Resultado","Indicador Completado") -> Indicador Completado | N17: ---- | P17: =+IF(ISBLANK(O17),"Introducir Resultado","Indicador Completado") -> Introducir Resultado
A18: I33 | B18: Nº Accións de promoción realizadas | C18: DO-0202 Promoción das titulacións | D18: Só cubrir o Resultado, é un indicador informativo Indicar o Nº de accións de promoción realizadas segundo o plan de promoción previsto polo centro e as súas titulacións. | E18: 1 | F18: 4 | G18: 10 | H18: =+IF(ISBLANK(G18),"Introducir Resultado","Indicador Completado") -> Indicador Completado | J18: 4 | K18: 20 | L18: =+IF(ISBLANK(K18),"Introducir Resultado","Indicador Completado") -> Indicador Completado | N18: ---- | P18: =+IF(ISBLANK(O18),"Introducir Resultado","Indicador Completado") -> Introducir Resultado
A19: I34 | B19: Nº Accións de mellora definidas neste curso | C19: DO-0102: Seguimento e mellora das titulacións | D19: Só cubrir o Resultado, é un indicador informativo Nº de melloras rexistradas asociadas ao centro na aplicación SGIC neste curso | E19: 3 | F19: ---- | G19: 1 | H19: =+IF(ISBLANK(G19),"Introducir Resultado","Indicador Completado") -> Indicador Completado | J19: ---- | K19: 7 | L19: =+IF(ISBLANK(K19),"Introducir Resultado","Indicador Completado") -> Indicador Completado | N19: ---- | P19: =+IF(ISBLANK(O19),"Introducir Resultado","Indicador Completado") -> Introducir Resultado
A20: I37 | B20: Grao de Satisfacción do estudantado co PAT | C20: DO-0203: Orientación do estudantado e atención ás NEAE | D20: Cubrir Meta e Resultado Indicar o Grao de satisfacción do estudantado co PAT, mediante unha enquisa vosa. No caso de utilizar a enquisa do Anexo IV-A da "Guía para a elaboración do PAT", incluiríase o valor do ítem 4 " Valore o grao de utilidade do PAT" | E20: 5 | F20: 3 | G20: 3.5 | H20: =+IF(AND(ISBLANK(F20),ISBLANK(G20)),"Introducir Meta e Resultado",IF(ISBLANK(F20),"Indicador Sen Meta",IF(ISBLANK(G20),"Introducir Resultado",IF(G20>=F20,"Meta Conseguida","Meta Non Conseguida")))) -> Meta Conseguida | J20: 0.03 | K20: 0.04 | L20: =+IF(AND(ISBLANK(J20),ISBLANK(K20)),"Introducir Meta e Resultado",IF(ISBLANK(J20),"Indicador Sen Meta",IF(ISBLANK(K20),"Introducir Resultado",IF(K20>=J20,"Meta Conseguida","Meta Non Conseguida")))) -> Meta Conseguida | P20: =+IF(AND(ISBLANK(N20),ISBLANK(O20)),"Introducir Meta e Resultado",IF(ISBLANK(N20),"Indicador Sen Meta",IF(ISBLANK(O20),"Introducir Resultado",IF(O20>=N20,"Meta Conseguida","Meta Non Conseguida")))) -> Introducir Meta e Resultado
A21: I40 | B21: Nº de procedementos actualizados no curso académico | C21: XD-01: Control dos documentos e dos rexistros | D21: Só cubrir o Resultado, é un indicador informativo Indicar o Nº de procedementos actualizados neste curso | E21: 3 | F21: 1 | G21: 1 | H21: =+IF(ISBLANK(G21),"Introducir Resultado","Indicador Completado") -> Indicador Completado | J21: 1 | K21: 1 | L21: =+IF(ISBLANK(K21),"Introducir Resultado","Indicador Completado") -> Indicador Completado | N21: ---- | P21: =+IF(ISBLANK(O21),"Introducir Resultado","Indicador Completado") -> Introducir Resultado
A22: I41 | B22: % Rexistros en estado completado na aplicación SGIC | C22: XD-01: Control dos documentos e dos rexistros | D22: Cubrir Meta e Resultado Indicar a % de rexistros co estado "Completado" na aplicación SGIC do curso pasado | E22: 3 | F22: 1 | G22: 1 | H22: =+IF(AND(ISBLANK(F22),ISBLANK(G22)),"Introducir Meta e Resultado",IF(ISBLANK(F22),"Indicador Sen Meta",IF(ISBLANK(G22),"Introducir Resultado",IF(G22>=F22,"Meta Conseguida","Meta Non Conseguida")))) -> Meta Conseguida | J22: 1 | K22: 1 | L22: =+IF(AND(ISBLANK(J22),ISBLANK(K22)),"Introducir Meta e Resultado",IF(ISBLANK(J22),"Indicador Sen Meta",IF(ISBLANK(K22),"Introducir Resultado",IF(K22>=J22,"Meta Conseguida","Meta Non Conseguida")))) -> Meta Conseguida | P22: =+IF(AND(ISBLANK(N22),ISBLANK(O22)),"Introducir Meta e Resultado",IF(ISBLANK(N22),"Indicador Sen Meta",IF(ISBLANK(O22),"Introducir Resultado",IF(O22>=N22,"Meta Conseguida","Meta Non Conseguida")))) -> Introducir Meta e Resultado
A23: I42 | B23: % Accións de Mellora finalizadas en prazo | C23: XD-01: Control dos documentos e dos rexistros | D23: Cubrir Meta e Resultado Porcentaxe das accións de mellora que está prevista a súa finalización neste curso, e efectivamente están finalizadas, sobre o total das accións de mellora que finalizaban o curso de referencia. | E23: 3 | H23: =+IF(AND(ISBLANK(F23),ISBLANK(G23)),"Introducir Meta e Resultado",IF(ISBLANK(F23),"Indicador Sen Meta",IF(ISBLANK(G23),"Introducir Resultado",IF(G23>=F23,"Meta Conseguida","Meta Non Conseguida")))) -> Introducir Meta e Resultado | K23: 1 | L23: =+IF(AND(ISBLANK(J23),ISBLANK(K23)),"Introducir Meta e Resultado",IF(ISBLANK(J23),"Indicador Sen Meta",IF(ISBLANK(K23),"Introducir Resultado",IF(K23>=J23,"Meta Conseguida","Meta Non Conseguida")))) -> Indicador Sen Meta | P23: =+IF(AND(ISBLANK(N23),ISBLANK(O23)),"Introducir Meta e Resultado",IF(ISBLANK(N23),"Indicador Sen Meta",IF(ISBLANK(O23),"Introducir Resultado",IF(O23>=N23,"Meta Conseguida","Meta Non Conseguida")))) -> Introducir Meta e Resultado
A25: Indicadores do programa estratéxico de centro
A27: I50 | B27: Indicadores do programa estratexico do centro | C27: DE-01: Programación e desenvolvemento estratéxico | D27: Só Cubrir a Meta entre os valores [0-10] Nº dos obxectivos I50-1 ata I50-10 que se acadan | F27: =+COUNTA(H28:H50)-COUNTIF(H28:H50,"Introducir Resultado")-COUNTIF(H28:H50,"Introducir Meta e Resultado") -> 21 | G27: =+COUNTIF(H28:H50,"Meta Conseguida") -> 17 | H27: =+IF(COUNTA(F28:F50)=0,"Indicador Sen Meta",IF(COUNTA(G28:G50)=0,"Indicador Sen Resultados",IF(G27=0,"Ningunha Meta Alcanzada",IF(G27=F27,"Meta Totalmente Alcanzada",IF(G27>0,"Meta Parcialmente Alcanzada"))))) -> Meta Parcialmente Alcanzada | J27: 16 | K27: =+COUNTIF(L28:L50,"Meta Conseguida") -> 16 | L27: =+IF(COUNTA(J28:J50)=0,"Indicador Sen Meta",IF(COUNTA(K28:K50)=0,"Indicador Sen Resultados",IF(K27=0,"Ningunha Meta Alcanzada",IF(K27=J27,"Meta Totalmente Alcanzada",IF(K27>0,"Meta Parcialmente Alcanzada"))))) -> Meta Totalmente Alcanzada | N27: =+COUNTA(P28:P50)-COUNTIF(P28:P50,"Introducir Resultado")-COUNTIF(P28:P50,"Introducir Meta e Resultado") -> 0 | O27: =+COUNTIF(P28:P50,"Meta Conseguida") -> 0 | P27: =+IF(COUNTA(N28:N50)=0,"Indicador Sen Meta",IF(COUNTA(O28:O50)=0,"Indicador Sen Resultados",IF(O27=0,"Ningunha Meta Alcanzada",IF(O27=N27,"Meta Totalmente Alcanzada",IF(O27>0,"Meta Parcialmente Alcanzada"))))) -> Indicador Sen Meta
A28: I50-1 | B28: Análise anual de resultados a través do Informe de revisión pola dirección e o cadro de mando. | C28: DE-01: Programación e desenvolvemento estratéxico | D28: meta cualitativa: Informe de Revisión pola Dirección | F28: 1 | G28: 1 | H28: =+IF(AND(ISBLANK(F28),ISBLANK(G28)),"Introducir Meta e Resultado",IF(ISBLANK(F28),"Introducir Meta",IF(ISBLANK(G28),"Introducir Resultado",IF(G28>=F28,"Meta Conseguida","Meta Non Conseguida")))) -> Meta Conseguida | J28: 1 | K28: 1 | L28: =+IF(AND(ISBLANK(J28),ISBLANK(K28)),"Introducir Meta e Resultado",IF(ISBLANK(J28),"Introducir Meta",IF(ISBLANK(K28),"Introducir Resultado",IF(K28>=J28,"Meta Conseguida","Meta Non Conseguida")))) -> Meta Conseguida | P28: =+IF(AND(ISBLANK(N28),ISBLANK(O28)),"Introducir Meta e Resultado",IF(ISBLANK(N28),"Introducir Meta",IF(ISBLANK(O28),"Introducir Resultado",IF(O28>=N28,"Meta Conseguida","Meta Non Conseguida")))) -> Introducir Meta e Resultado
A29: I50-2 | B29: Implatación dun titulo de mestrado | C29: DE-01: Programación e desenvolvemento estratéxico | D29: meta cualitativa: Título de mestrado | F29: 1 | G29: 0 | H29: =+IF(AND(ISBLANK(F29),ISBLANK(G29)),"Introducir Meta e Resultado",IF(ISBLANK(F29),"Introducir Meta",IF(ISBLANK(G29),"Introducir Resultado",IF(G29>=F29,"Meta Conseguida","Meta Non Conseguida")))) -> Meta Non Conseguida | J29: 1 | K29: 0 | L29: =+IF(AND(ISBLANK(J29),ISBLANK(K29)),"Introducir Meta e Resultado",IF(ISBLANK(J29),"Introducir Meta",IF(ISBLANK(K29),"Introducir Resultado",IF(K29>=J29,"Meta Conseguida","Meta Non Conseguida")))) -> Meta Non Conseguida | P29: =+IF(AND(ISBLANK(N29),ISBLANK(O29)),"Introducir Meta e Resultado",IF(ISBLANK(N29),"Introducir Meta",IF(ISBLANK(O29),"Introducir Resultado",IF(O29>=N29,"Meta Conseguida","Meta Non Conseguida")))) -> Introducir Meta e Resultado
A30: I50-3 | B30: I1-I2. Nº Estudantes de novo ingreso (Grao e Máster | C30: DE-01: Programación e desenvolvemento estratéxico | D30: Este indicador está establecido polo centro, e está asociado ao centro. Indicar o resultado e a meta asociada. | F30: =GEnxFor!F7 -> 45 | G30: =GEnxFor!G7 -> 15 | H30: =+IF(AND(ISBLANK(F30),ISBLANK(G30)),"Introducir Meta e Resultado",IF(ISBLANK(F30),"Introducir Meta",IF(ISBLANK(G30),"Introducir Resultado",IF(G30>=F30,"Meta Conseguida","Meta Non Conseguida")))) -> Meta Non Conseguida | J30: 45 | K30: 21 | L30: =+IF(AND(ISBLANK(J30),ISBLANK(K30)),"Introducir Meta e Resultado",IF(ISBLANK(J30),"Introducir Meta",IF(ISBLANK(K30),"Introducir Resultado",IF(K30>=J30,"Meta Conseguida","Meta Non Conseguida")))) -> Meta Non Conseguida | P30: =+IF(AND(ISBLANK(N30),ISBLANK(O30)),"Introducir Meta e Resultado",IF(ISBLANK(N30),"Introducir Meta",IF(ISBLANK(O30),"Introducir Resultado",IF(O30>=N30,"Meta Conseguida","Meta Non Conseguida")))) -> Introducir Meta e Resultado
A31: I50-4 | B31: Informe bienal do perfil de ingreso dos estudantes de grao. | C31: DE-01: Programación e desenvolvemento estratéxico | D31: meta cualitativa: Informe bienal do perfil de ingreso dos estudantes de grao. | F31: ---- | H31: =+IF(AND(ISBLANK(F31),ISBLANK(G31)),"Introducir Meta e Resultado",IF(ISBLANK(F31),"Introducir Meta",IF(ISBLANK(G31),"Introducir Resultado",IF(G31>=F31,"Meta Conseguida","Meta Non Conseguida")))) -> Introducir Resultado | J31: ---- | L31: =+IF(AND(ISBLANK(J31),ISBLANK(K31)),"Introducir Meta e Resultado",IF(ISBLANK(J31),"Introducir Meta",IF(ISBLANK(K31),"Introducir Resultado",IF(K31>=J31,"Meta Conseguida","Meta Non Conseguida")))) -> Introducir Resultado | P31: =+IF(AND(ISBLANK(N31),ISBLANK(O31)),"Introducir Meta e Resultado",IF(ISBLANK(N31),"Introducir Meta",IF(ISBLANK(O31),"Introducir Resultado",IF(O31>=N31,"Meta Conseguida","Meta Non Conseguida")))) -> Introducir Meta e Resultado
A32: I50-5 | B32: Actividades anuais desenvolvidas no marco do Plan de Captación | C32: DE-01: Programación e desenvolvemento estratéxico | F32: 4 | G32: 10 | H32: =+IF(AND(ISBLANK(F32),ISBLANK(G32)),"Introducir Meta e Resultado",IF(ISBLANK(F32),"Introducir Meta",IF(ISBLANK(G32),"Introducir Resultado",IF(G32>=F32,"Meta Conseguida","Meta Non Conseguida")))) -> Meta Conseguida | J32: 4 | K32: 20 | L32: =+IF(AND(ISBLANK(J32),ISBLANK(K32)),"Introducir Meta e Resultado",IF(ISBLANK(J32),"Introducir Meta",IF(ISBLANK(K32),"Introducir Resultado",IF(K32>=J32,"Meta Conseguida","Meta Non Conseguida")))) -> Meta Conseguida | P32: =+IF(AND(ISBLANK(N32),ISBLANK(O32)),"Introducir Meta e Resultado",IF(ISBLANK(N32),"Introducir Meta",IF(ISBLANK(O32),"Introducir Resultado",IF(O32>=N32,"Meta Conseguida","Meta Non Conseguida")))) -> Introducir Meta e Resultado
A33: I50-6 | B33: I5-1. Nº PDI en plans de formación do título | C33: DE-01: Programación e desenvolvemento estratéxico | D33: Este indicador está establecido polo centro, e está asociado ao centro. Indicar o resultado e a meta asociada. | F33: =GEnxFor!F13 -> - | G33: =GEnxFor!G13 -> 6 | H33: =+IF(AND(ISBLANK(F33),ISBLANK(G33)),"Introducir Meta e Resultado",IF(ISBLANK(F33),"Introducir Meta",IF(ISBLANK(G33),"Introducir Resultado",IF(G33>=F33,"Meta Conseguida","Meta Non Conseguida")))) -> Meta Non Conseguida | J33: =GEnxFor!J13 -> 4 | L33: =+IF(AND(ISBLANK(J33),ISBLANK(K33)),"Introducir Meta e Resultado",IF(ISBLANK(J33),"Introducir Meta",IF(ISBLANK(K33),"Introducir Resultado",IF(K33>=J33,"Meta Conseguida","Meta Non Conseguida")))) -> Introducir Resultado | P33: =+IF(AND(ISBLANK(N33),ISBLANK(O33)),"Introducir Meta e Resultado",IF(ISBLANK(N33),"Introducir Meta",IF(ISBLANK(O33),"Introducir Resultado",IF(O33>=N33,"Meta Conseguida","Meta Non Conseguida")))) -> Introducir Meta e Resultado
A34: I50-7 | B34: I5-2. Participación do PDI do título en plans de formación | C34: DE-01: Programación e desenvolvemento estratéxico | D34: Este indicador está establecido polo centro, e está asociado ao centro. Indicar o resultado e a meta asociada. | F34: =GEnxFor!F14 -> - | G34: =GEnxFor!G14 -> 0.14634146 | H34: =+IF(AND(ISBLANK(F34),ISBLANK(G34)),"Introducir Meta e Resultado",IF(ISBLANK(F34),"Introducir Meta",IF(ISBLANK(G34),"Introducir Resultado",IF(G34>=F34,"Meta Conseguida","Meta Non Conseguida")))) -> Meta Non Conseguida | J34: =GEnxFor!J14 -> 0.12 | L34: =+IF(AND(ISBLANK(J34),ISBLANK(K34)),"Introducir Meta e Resultado",IF(ISBLANK(J34),"Introducir Meta",IF(ISBLANK(K34),"Introducir Resultado",IF(K34>=J34,"Meta Conseguida","Meta Non Conseguida")))) -> Introducir Resultado | P34: =+IF(AND(ISBLANK(N34),ISBLANK(O34)),"Introducir Meta e Resultado",IF(ISBLANK(N34),"Introducir Meta",IF(ISBLANK(O34),"Introducir Resultado",IF(O34>=N34,"Meta Conseguida","Meta Non Conseguida")))) -> Introducir Meta e Resultado
A35: I50-8 | B35: I6. % Participación do PAS do centro en plans de formación | C35: DE-01: Programación e desenvolvemento estratéxico | D35: Este indicador está establecido polo centro, e está asociado ao centro. Indicar o resultado e a meta asociada. | F35: =Centro!F7 -> 0.33 | G35: =G7 -> 0.64237668 | H35: =+IF(AND(ISBLANK(F35),ISBLANK(G35)),"Introducir Meta e Resultado",IF(ISBLANK(F35),"Introducir Meta",IF(ISBLANK(G35),"Introducir Resultado",IF(G35>=F35,"Meta Conseguida","Meta Non Conseguida")))) -> Meta Conseguida | J35: =Centro!J7 -> 0.33 | K35: 0.3997 | L35: =+IF(AND(ISBLANK(J35),ISBLANK(K35)),"Introducir Meta e Resultado",IF(ISBLANK(J35),"Introducir Meta",IF(ISBLANK(K35),"Introducir Resultado",IF(K35>=J35,"Meta Conseguida","Meta Non Conseguida")))) -> Meta Conseguida | P35: =+IF(AND(ISBLANK(N35),ISBLANK(O35)),"Introducir Meta e Resultado",IF(ISBLANK(N35),"Introducir Meta",IF(ISBLANK(O35),"Introducir Resultado",IF(O35>=N35,"Meta Conseguida","Meta Non Conseguida")))) -> Introducir Meta e Resultado
A36: I50-9 | B36: I44-1. Satisfacción do Estudantado coa organización e o desenvolvemento. | C36: DE-01: Programación e desenvolvemento estratéxico | D36: Este indicador está establecido polo centro, e está asociado ao centro. Indicar o resultado e a meta asociada. | F36: =GEnxFor!F83 -> 3 | G36: =GEnxFor!G83 -> 3.1666667 | H36: =+IF(AND(ISBLANK(F36),ISBLANK(G36)),"Introducir Meta e Resultado",IF(ISBLANK(F36),"Introducir Meta",IF(ISBLANK(G36),"Introducir Resultado",IF(G36>=F36,"Meta Conseguida","Meta Non Conseguida")))) -> Meta Conseguida | J36: =GEnxFor!J83 -> 3 | K36: 3.17 | L36: =+IF(AND(ISBLANK(J36),ISBLANK(K36)),"Introducir Meta e Resultado",IF(ISBLANK(J36),"Introducir Meta",IF(ISBLANK(K36),"Introducir Resultado",IF(K36>=J36,"Meta Conseguida","Meta Non Conseguida")))) -> Meta Conseguida | P36: =+IF(AND(ISBLANK(N36),ISBLANK(O36)),"Introducir Meta e Resultado",IF(ISBLANK(N36),"Introducir Meta",IF(ISBLANK(O36),"Introducir Resultado",IF(O36>=N36,"Meta Conseguida","Meta Non Conseguida")))) -> Introducir Meta e Resultado
A37: I50-10 | B37: I44-2. Satisfacción do Profesorado coa organización e o desenvolvemento. | C37: DE-01: Programación e desenvolvemento estratéxico | D37: Este indicador está establecido polo centro, e está asociado ao centro. Indicar o resultado e a meta asociada. | F37: =GEnxFor!F84 -> 3 | G37: =GEnxFor!G84 -> - | H37: =+IF(AND(ISBLANK(F37),ISBLANK(G37)),"Introducir Meta e Resultado",IF(ISBLANK(F37),"Introducir Meta",IF(ISBLANK(G37),"Introducir Resultado",IF(G37>=F37,"Meta Conseguida","Meta Non Conseguida")))) -> Meta Conseguida | J37: =GEnxFor!J84 -> 3 | K37: 4.37 | L37: =+IF(AND(ISBLANK(J37),ISBLANK(K37)),"Introducir Meta e Resultado",IF(ISBLANK(J37),"Introducir Meta",IF(ISBLANK(K37),"Introducir Resultado",IF(K37>=J37,"Meta Conseguida","Meta Non Conseguida")))) -> Meta Conseguida | P37: =+IF(AND(ISBLANK(N37),ISBLANK(O37)),"Introducir Meta e Resultado",IF(ISBLANK(N37),"Introducir Meta",IF(ISBLANK(O37),"Introducir Resultado",IF(O37>=N37,"Meta Conseguida","Meta Non Conseguida")))) -> Introducir Meta e Resultado
A38: I50-11 | B38: Actividades desenvolvidas internas e externas (cursos, xornadas, préstamo de aulas, exposicions, seminarios,..etc) nos espazos propios do centro. | C38: DE-01: Programación e desenvolvemento estratéxico | D38: Este indicador está establecido polo centro, e está asociado ao centro. Indicar o resultado e a meta asociada. | F38: 10 | G38: 15 | H38: =+IF(AND(ISBLANK(F38),ISBLANK(G38)),"Introducir Meta e Resultado",IF(ISBLANK(F38),"Introducir Meta",IF(ISBLANK(G38),"Introducir Resultado",IF(G38>=F38,"Meta Conseguida","Meta Non Conseguida")))) -> Meta Conseguida | J38: 10 | K38: 10 | L38: =+IF(AND(ISBLANK(J38),ISBLANK(K38)),"Introducir Meta e Resultado",IF(ISBLANK(J38),"Introducir Meta",IF(ISBLANK(K38),"Introducir Resultado",IF(K38>=J38,"Meta Conseguida","Meta Non Conseguida")))) -> Meta Conseguida | P38: =+IF(AND(ISBLANK(N38),ISBLANK(O38)),"Introducir Meta e Resultado",IF(ISBLANK(N38),"Introducir Meta",IF(ISBLANK(O38),"Introducir Resultado",IF(O38>=N38,"Meta Conseguida","Meta Non Conseguida")))) -> Introducir Meta e Resultado
A39: I50-12 | B39: Análise anual de resultados asociados a accións de mellora nas instalacións do centro. | C39: DE-01: Programación e desenvolvemento estratéxico | D39: meta cualitativa: Informe de Revisión pola Dirección | F39: 1 | G39: 1 | H39: =+IF(AND(ISBLANK(F39),ISBLANK(G39)),"Introducir Meta e Resultado",IF(ISBLANK(F39),"Introducir Meta",IF(ISBLANK(G39),"Introducir Resultado",IF(G39>=F39,"Meta Conseguida","Meta Non Conseguida")))) -> Meta Conseguida | J39: 1 | K39: 1 | L39: =+IF(AND(ISBLANK(J39),ISBLANK(K39)),"Introducir Meta e Resultado",IF(ISBLANK(J39),"Introducir Meta",IF(ISBLANK(K39),"Introducir Resultado",IF(K39>=J39,"Meta Conseguida","Meta Non Conseguida")))) -> Meta Conseguida | P39: =+IF(AND(ISBLANK(N39),ISBLANK(O39)),"Introducir Meta e Resultado",IF(ISBLANK(N39),"Introducir Meta",IF(ISBLANK(O39),"Introducir Resultado",IF(O39>=N39,"Meta Conseguida","Meta Non Conseguida")))) -> Introducir Meta e Resultado
A40: I50-13 | B40: I20-1. Índice de satisfacción do Estudantado coas titulacións | C40: DE-01: Programación e desenvolvemento estratéxico | D40: Este indicador está establecido polo centro, e está asociado ao centro. Indicar o resultado e a meta asociada. | F40: =GEnxFor!F47 -> 3 | G40: =GEnxFor!G47 -> 3.5142857 | H40: =+IF(AND(ISBLANK(F40),ISBLANK(G40)),"Introducir Meta e Resultado",IF(ISBLANK(F40),"Introducir Meta",IF(ISBLANK(G40),"Introducir Resultado",IF(G40>=F40,"Meta Conseguida","Meta Non Conseguida")))) -> Meta Conseguida | J40: =GEnxFor!J47 -> 3 | K40: 3.51 | L40: =+IF(AND(ISBLANK(J40),ISBLANK(K40)),"Introducir Meta e Resultado",IF(ISBLANK(J40),"Introducir Meta",IF(ISBLANK(K40),"Introducir Resultado",IF(K40>=J40,"Meta Conseguida","Meta Non Conseguida")))) -> Meta Conseguida | P40: =+IF(AND(ISBLANK(N40),ISBLANK(O40)),"Introducir Meta e Resultado",IF(ISBLANK(N40),"Introducir Meta",IF(ISBLANK(O40),"Introducir Resultado",IF(O40>=N40,"Meta Conseguida","Meta Non Conseguida")))) -> Introducir Meta e Resultado
A41: I50-14 | B41: I20-2. Índice de satisfacción do Profesorado coas titulacións | C41: DE-01: Programación e desenvolvemento estratéxico | D41: Este indicador está establecido polo centro, e está asociado ao centro. Indicar o resultado e a meta asociada. | F41: =GEnxFor!F48 -> 3 | G41: =GEnxFor!G48 -> - | H41: =+IF(AND(ISBLANK(F41),ISBLANK(G41)),"Introducir Meta e Resultado",IF(ISBLANK(F41),"Introducir Meta",IF(ISBLANK(G41),"Introducir Resultado",IF(G41>=F41,"Meta Conseguida","Meta Non Conseguida")))) -> Meta Conseguida | J41: =GEnxFor!J48 -> 3 | K41: 4.37 | L41: =+IF(AND(ISBLANK(J41),ISBLANK(K41)),"Introducir Meta e Resultado",IF(ISBLANK(J41),"Introducir Meta",IF(ISBLANK(K41),"Introducir Resultado",IF(K41>=J41,"Meta Conseguida","Meta Non Conseguida")))) -> Meta Conseguida | P41: =+IF(AND(ISBLANK(N41),ISBLANK(O41)),"Introducir Meta e Resultado",IF(ISBLANK(N41),"Introducir Meta",IF(ISBLANK(O41),"Introducir Resultado",IF(O41>=N41,"Meta Conseguida","Meta Non Conseguida")))) -> Introducir Meta e Resultado
A42: I50-15 | B42: I20-3. Índice de satisfacción das Persoas tituladas coas titulacións | C42: DE-01: Programación e desenvolvemento estratéxico | D42: Este indicador está establecido polo centro, e está asociado ao centro. Indicar o resultado e a meta asociada. | F42: =GEnxFor!F49 -> 3 | G42: =GEnxFor!G49 -> 4 | H42: =+IF(AND(ISBLANK(F42),ISBLANK(G42)),"Introducir Meta e Resultado",IF(ISBLANK(F42),"Introducir Meta",IF(ISBLANK(G42),"Introducir Resultado",IF(G42>=F42,"Meta Conseguida","Meta Non Conseguida")))) -> Meta Conseguida | J42: =GEnxFor!J49 -> 3 | K42: 4.21 | L42: =+IF(AND(ISBLANK(J42),ISBLANK(K42)),"Introducir Meta e Resultado",IF(ISBLANK(J42),"Introducir Meta",IF(ISBLANK(K42),"Introducir Resultado",IF(K42>=J42,"Meta Conseguida","Meta Non Conseguida")))) -> Meta Conseguida | P42: =+IF(AND(ISBLANK(N42),ISBLANK(O42)),"Introducir Meta e Resultado",IF(ISBLANK(N42),"Introducir Meta",IF(ISBLANK(O42),"Introducir Resultado",IF(O42>=N42,"Meta Conseguida","Meta Non Conseguida")))) -> Introducir Meta e Resultado
A43: I50-16 | B43: I20-4. Índice de satisfacción do PTXAS coas titulacións | C43: DE-01: Programación e desenvolvemento estratéxico | D43: Este indicador está establecido polo centro, e está asociado ao centro. Indicar o resultado e a meta asociada. | F43: =GEnxFor!F50 -> 3 | G43: =GEnxFor!G50 -> - | H43: =+IF(AND(ISBLANK(F43),ISBLANK(G43)),"Introducir Meta e Resultado",IF(ISBLANK(F43),"Introducir Meta",IF(ISBLANK(G43),"Introducir Resultado",IF(G43>=F43,"Meta Conseguida","Meta Non Conseguida")))) -> Meta Conseguida | J43: =GEnxFor!J50 -> 3 | K43: 3.23 | L43: =+IF(AND(ISBLANK(J43),ISBLANK(K43)),"Introducir Meta e Resultado",IF(ISBLANK(J43),"Introducir Meta",IF(ISBLANK(K43),"Introducir Resultado",IF(K43>=J43,"Meta Conseguida","Meta Non Conseguida")))) -> Meta Conseguida | P43: =+IF(AND(ISBLANK(N43),ISBLANK(O43)),"Introducir Meta e Resultado",IF(ISBLANK(N43),"Introducir Meta",IF(ISBLANK(O43),"Introducir Resultado",IF(O43>=N43,"Meta Conseguida","Meta Non Conseguida")))) -> Introducir Meta e Resultado
A44: I50-17 | B44: I20-5. Índice de satisfacción de entidades empregadoras coas titulacións | C44: DE-01: Programación e desenvolvemento estratéxico | D44: Este indicador está establecido polo centro, e está asociado ao centro. Indicar o resultado e a meta asociada. | F44: =GEnxFor!F51 -> 3 | G44: =GEnxFor!G51 -> -- | H44: =+IF(AND(ISBLANK(F44),ISBLANK(G44)),"Introducir Meta e Resultado",IF(ISBLANK(F44),"Introducir Meta",IF(ISBLANK(G44),"Introducir Resultado",IF(G44>=F44,"Meta Conseguida","Meta Non Conseguida")))) -> Meta Conseguida | J44: =GEnxFor!J51 -> 3 | L44: =+IF(AND(ISBLANK(J44),ISBLANK(K44)),"Introducir Meta e Resultado",IF(ISBLANK(J44),"Introducir Meta",IF(ISBLANK(K44),"Introducir Resultado",IF(K44>=J44,"Meta Conseguida","Meta Non Conseguida")))) -> Introducir Resultado | P44: =+IF(AND(ISBLANK(N44),ISBLANK(O44)),"Introducir Meta e Resultado",IF(ISBLANK(N44),"Introducir Meta",IF(ISBLANK(O44),"Introducir Resultado",IF(O44>=N44,"Meta Conseguida","Meta Non Conseguida")))) -> Introducir Meta e Resultado
A45: I50-18 | B45: Participación do PDI nas enquisas de satisfacción | C45: DE-01: Programación e desenvolvemento estratéxico | D45: Este indicador está establecido polo centro, e está asociado ao centro. Indicar o resultado e a meta asociada. | F45: 0.5 | G45: - | H45: =+IF(AND(ISBLANK(F45),ISBLANK(G45)),"Introducir Meta e Resultado",IF(ISBLANK(F45),"Introducir Meta",IF(ISBLANK(G45),"Introducir Resultado",IF(G45>=F45,"Meta Conseguida","Meta Non Conseguida")))) -> Meta Conseguida | J45: 0.5 | K45: 0.54 | L45: =+IF(AND(ISBLANK(J45),ISBLANK(K45)),"Introducir Meta e Resultado",IF(ISBLANK(J45),"Introducir Meta",IF(ISBLANK(K45),"Introducir Resultado",IF(K45>=J45,"Meta Conseguida","Meta Non Conseguida")))) -> Meta Conseguida
A46: I50-19 | B46: Participación do PTXAS nas enquisas de satisfacción | C46: DE-01: Programación e desenvolvemento estratéxico | D46: Este indicador está establecido polo centro, e está asociado ao centro. Indicar o resultado e a meta asociada. | F46: 0.2 | G46: - | H46: =+IF(AND(ISBLANK(F46),ISBLANK(G46)),"Introducir Meta e Resultado",IF(ISBLANK(F46),"Introducir Meta",IF(ISBLANK(G46),"Introducir Resultado",IF(G46>=F46,"Meta Conseguida","Meta Non Conseguida")))) -> Meta Conseguida | J46: 0.2 | K46: 0.37 | L46: =+IF(AND(ISBLANK(J46),ISBLANK(K46)),"Introducir Meta e Resultado",IF(ISBLANK(J46),"Introducir Meta",IF(ISBLANK(K46),"Introducir Resultado",IF(K46>=J46,"Meta Conseguida","Meta Non Conseguida")))) -> Meta Conseguida
A47: I50-20 | B47: Nº de saídas de campo | C47: DE-01: Programación e desenvolvemento estratéxico | D47: Este indicador está establecido polo centro, e está asociado ao centro. Indicar o resultado e a meta asociada. | F47: 22 | G47: 24 | H47: =+IF(AND(ISBLANK(F47),ISBLANK(G47)),"Introducir Meta e Resultado",IF(ISBLANK(F47),"Introducir Meta",IF(ISBLANK(G47),"Introducir Resultado",IF(G47>=F47,"Meta Conseguida","Meta Non Conseguida")))) -> Meta Conseguida | J47: 22 | K47: 28 | L47: =+IF(AND(ISBLANK(J47),ISBLANK(K47)),"Introducir Meta e Resultado",IF(ISBLANK(J47),"Introducir Meta",IF(ISBLANK(K47),"Introducir Resultado",IF(K47>=J47,"Meta Conseguida","Meta Non Conseguida")))) -> Meta Conseguida
A48: I50-21 | B48: Relación Oferta/solicitudes de prácticas curriculares | C48: DE-01: Programación e desenvolvemento estratéxico | D48: Este indicador está establecido polo centro, e está asociado ao centro. Indicar o resultado e a meta asociada. | F48: 1 | G48: 2 | H48: =+IF(AND(ISBLANK(F48),ISBLANK(G48)),"Introducir Meta e Resultado",IF(ISBLANK(F48),"Introducir Meta",IF(ISBLANK(G48),"Introducir Resultado",IF(G48>=F48,"Meta Conseguida","Meta Non Conseguida")))) -> Meta Conseguida | J48: 1 | K48: 2 | L48: =+IF(AND(ISBLANK(J48),ISBLANK(K48)),"Introducir Meta e Resultado",IF(ISBLANK(J48),"Introducir Meta",IF(ISBLANK(K48),"Introducir Resultado",IF(K48>=J48,"Meta Conseguida","Meta Non Conseguida")))) -> Meta Conseguida
A49: I50-22 | B49: Nº Actividades con perspectiva de xénero | C49: DE-01: Programación e desenvolvemento estratéxico | D49: Este indicador está establecido polo centro, e está asociado ao centro. Indicar o resultado e a meta asociada. | F49: 1 | G49: 1 | H49: =+IF(AND(ISBLANK(F49),ISBLANK(G49)),"Introducir Meta e Resultado",IF(ISBLANK(F49),"Introducir Meta",IF(ISBLANK(G49),"Introducir Resultado",IF(G49>=F49,"Meta Conseguida","Meta Non Conseguida")))) -> Meta Conseguida | J49: 1 | K49: 1 | L49: =+IF(AND(ISBLANK(J49),ISBLANK(K49)),"Introducir Meta e Resultado",IF(ISBLANK(J49),"Introducir Meta",IF(ISBLANK(K49),"Introducir Resultado",IF(K49>=J49,"Meta Conseguida","Meta Non Conseguida")))) -> Meta Conseguida

Sheet GEnxFor
A2: Panel de indicadores- Cadro de mando do Grao en Enxeñaría Forestal
A4: Indicadores | C4: Procedimientos asociados | E4: Crit. | F4: =+Centro!F4 -> Curso 2023-2024 | J4: =+Centro!J4 -> Curso 2024-2025 | N4: =+Centro!N4 -> Curso 2025-2026
A5: Cod | B5: Denominación Indicador | C5: Denominación | D5: Descripcion e Fonte de Información | E5: IRPD | F5: Meta | G5: Resultado | H5: Observacións | J5: Meta | K5: Resultado | L5: Observacións | N5: Meta | O5: Resultado | P5: Observacións
A6: Indicadores dos Programas de Calidade
A7: I1-I2 | B7: Nº Estudantes de novo ingreso (Grao e Máster) | C7: AC-01: Acceso, evolución e Expedición de Titulos Oficiais | D7: Cubrir Meta e Resultado Elixir o documento Grao ACC_1 ou Máster ACC_1, segundo o caso: https://secretaria.uvigo.gal/uv/web/transparencia/informe/show/5/51/63 Os resultados son do curso 23/24 | E7: 1 e 7 | F7: 45 | G7: 15 | H7: =+IF(AND(ISBLANK(F7),ISBLANK(G7)),"Introducir Meta e Resultado",IF(ISBLANK(F7),"Indicador Sen Meta",IF(ISBLANK(G7),"Introducir Resultado",IF(G7>=F7,"Meta Conseguida","Meta Non Conseguida")))) -> Meta Non Conseguida | K7: 21 | L7: =+IF(AND(ISBLANK(J7),ISBLANK(K7)),"Introducir Meta e Resultado",IF(ISBLANK(J7),"Indicador Sen Meta",IF(ISBLANK(K7),"Introducir Resultado",IF(K7>=J7,"Meta Conseguida","Meta Non Conseguida")))) -> Indicador Sen Meta | P7: =+IF(AND(ISBLANK(N7),ISBLANK(O7)),"Introducir Meta e Resultado",IF(ISBLANK(N7),"Indicador Sen Meta",IF(ISBLANK(O7),"Introducir Resultado",IF(O7>=N7,"Meta Conseguida","Meta Non Conseguida")))) -> Introducir Meta e Resultado
A8: I3 | B8: Indicadores de mobilidade do estudantado | C8: DO-0205: Xestión da mobilidade | D8: Nº dos obxectivos I3-1 e I3-2 que se acadan | E8: 1 | F8: =+COUNTA(F9:F10) -> 2 | G8: =+COUNTIF(H9:H10,"Meta Conseguida") -> 0 | H8: =+IF(COUNTA(F9:F10)=0,"Indicador Sen Meta",IF(G8=2,"Meta Totalmente Alcanzada",IF(G9=0,"Introducir Resultado",IF(G8=0,"Ningunha Meta Alcanzada",IF(G8>0,"Meta Parcialmente Alcanzada"))))) -> Ningunha Meta Alcanzada | J8: =+COUNTA(J9:J10) -> 2 | K8: =+COUNTIF(L9:L10,"Meta Conseguida") -> 0 | L8: =+IF(COUNTA(J9:J10)=0,"Indicador Sen Meta",IF(K8=2,"Meta Totalmente Alcanzada",IF(K9=0,"Introducir Resultado",IF(K8=0,"Ningunha Meta Alcanzada",IF(K8>0,"Meta Parcialmente Alcanzada"))))) -> Ningunha Meta Alcanzada | N8: =+COUNTA(N9:N10) -> 0 | O8: =+COUNTIF(P9:P10,"Meta Conseguida") -> 0 | P8: =+IF(COUNTA(N9:N10)=0,"Indicador Sen Meta",IF(O8=2,"Meta Totalmente Alcanzada",IF(O9=0,"Introducir Resultado",IF(O8=0,"Ningunha Meta Alcanzada",IF(O8>0,"Meta Parcialmente Alcanzada"))))) -> Indicador Sen Meta
A9: I3-1 | B9: Nº Estudantes propios que participan en programas de mobilidade | C9: DO-0205: Xestión da mobilidade | D9: Cubrir Meta e Resultado Selecciónar o dato da titulación da columna "Total_SAÍNTE" da Folla Mobilidade_TOTAL do documento "Mobilidade" do portal de transparencia. https://secretaria.uvigo.gal/uv/web/transparencia/informe/show/5/4/19 Os resultados son do curso 23/24 | E9: 1 | F9: - | G9: 10 | H9: =+IF(AND(ISBLANK(F9),ISBLANK(G9)),"Introducir Meta e Resultado",IF(ISBLANK(F9),"Introducir Meta",IF(ISBLANK(G9),"Introducir Resultado",IF(G9>=F9,"Meta Conseguida","Meta Non Conseguida")))) -> Meta Non Conseguida | J9: 2 | K9: 1 | L9: =+IF(AND(ISBLANK(J9),ISBLANK(K9)),"Introducir Meta e Resultado",IF(ISBLANK(J9),"Introducir Meta",IF(ISBLANK(K9),"Introducir Resultado",IF(K9>=J9,"Meta Conseguida","Meta Non Conseguida")))) -> Meta Non Conseguida | P9: =+IF(AND(ISBLANK(N9),ISBLANK(O9)),"Introducir Meta e Resultado",IF(ISBLANK(N9),"Introducir Meta",IF(ISBLANK(O9),"Introducir Resultado",IF(O9>=N9,"Meta Conseguida","Meta Non Conseguida")))) -> Introducir Meta e Resultado
A10: I3-2 | B10: % Estudantes que participan en programas de mobilidade | C10: DO-0205: Xestión da mobilidade | D10: Só Cubrir a Meta. O Resultado calcúlase de xeito automático % Estudantado que participa en programas de mobilidade con relación ao estudantado matriculado. Porcentaxe que se calcula de xeito automático, a partir do indicador I3-1 e I45 | E10: 1 | F10: - | G10: =+IFERROR(G$9/G$87,0) -> 0.094339623 | H10: =+IF(AND(ISBLANK(F10),ISBLANK(G10)),"Introducir Meta e Resultado",IF(ISBLANK(F10),"Introducir Meta",IF(ISBLANK(G10),"Introducir Resultado",IF(G10>=F10,"Meta Conseguida","Meta Non Conseguida")))) -> Meta Non Conseguida | J10: 0.02 | K10: =+IFERROR(K$9/K$87,0) -> 0.0098039216 | L10: =+IF(AND(ISBLANK(J10),ISBLANK(K10)),"Introducir Meta e Resultado",IF(ISBLANK(J10),"Introducir Meta",IF(ISBLANK(K10),"Introducir Resultado",IF(K10>=J10,"Meta Conseguida","Meta Non Conseguida")))) -> Meta Non Conseguida | O10: =+IFERROR(O$9/O$87,0) -> 0 | P10: =+IF(AND(ISBLANK(N10),ISBLANK(O10)),"Introducir Meta e Resultado",IF(ISBLANK(N10),"Introducir Meta",IF(ISBLANK(O10),"Introducir Resultado",IF(O10>=N10,"Meta Conseguida","Meta Non Conseguida")))) -> Introducir Meta
A11: I4 | B11: Resultados dos indicadores do SGC | C11: DE-02 Seguimento e Medición | D11: Non Cubrir a Meta nin o Resultado. Calcúlanse de xeito automático Este indicador mostra a porcentaxe dos obxectivos que acadan as súas metas establecidas. | E11: 3 | F11: =+G11+COUNTIF(H$7:H$10,"Meta non Conseguida")+COUNTIF(H$12:H$89,"Meta non Conseguida") -> 55 | G11: =+COUNTIF(H$6:H$10,"Meta Conseguida")+COUNTIF(H$12:H$89,"Meta Conseguida") -> 37 | H11: =+IFERROR(G11/F11,"Introducir Meta") -> 0.67272727 | J11: 55 | K11: =+COUNTIF(L$6:L$10,"Meta Conseguida")+COUNTIF(L$12:L$89,"Meta Conseguida") -> 35 | L11: =+IFERROR(K11/J11,"Introducir Meta") -> 0.63636364 | N11: =+O11+COUNTIF(P$7:P$10,"Meta non Conseguida")+COUNTIF(P$12:P$89,"Meta non Conseguida") -> 0 | O11: =+COUNTIF(P$6:P$10,"Meta Conseguida")+COUNTIF(P$12:P$89,"Meta Conseguida") -> 0 | P11: =+IFERROR(O11/N11,"Introducir Meta") -> Introducir Meta
A12: I5 | B12: Indicadores de formación do PDI | C12: PE-02 Xestión de PDI | D12: Nº dos obxectivos I5-1 e I5-2 que se acadan | E12: 4 | F12: =+COUNTA(F13:F14) -> 2 | G12: =+COUNTIF(H13:H14,"Meta Conseguida") -> 0 | H12: =+IF(COUNTA(F13:F14)=0,"Indicador Sen Meta",IF(G12=2,"Meta Totalmente Alcanzada",IF(G13=0,"Introducir Resultado",IF(G12=0,"Ningunha Meta Alcanzada",IF(G12>0,"Meta Parcialmente Alcanzada"))))) -> Ningunha Meta Alcanzada | J12: =+COUNTA(J13:J14) -> 2 | K12: =+COUNTIF(L13:L14,"Meta Conseguida") -> 0 | L12: =+IF(COUNTA(J13:J14)=0,"Indicador Sen Meta",IF(K12=2,"Meta Totalmente Alcanzada",IF(K13=0,"Introducir Resultado",IF(K12=0,"Ningunha Meta Alcanzada",IF(K12>0,"Meta Parcialmente Alcanzada"))))) -> Introducir Resultado | N12: =+COUNTA(N13:N14) -> 0 | O12: =+COUNTIF(P13:P14,"Meta Conseguida") -> 0 | P12: =+IF(COUNTA(N13:N14)=0,"Indicador Sen Meta",IF(O12=2,"Meta Totalmente Alcanzada",IF(O13=0,"Introducir Resultado",IF(O12=0,"Ningunha Meta Alcanzada",IF(O12>0,"Meta Parcialmente Alcanzada"))))) -> Indicador Sen Meta
A13: I5-1 | B13: Nº PDI en plans de formación do título | C13: PE-02 Xestión de PDI | D13: Cubrir Meta e Resultado Seleccionar o dato na consulta "FOR.Formación e mobilidade do PDI" do portal de transparencia https://secretaria.uvigo.gal/uv/web/transparencia/informe/show/5/34/68 Os resultados son do curso 23/24 | E13: 4 | F13: - | G13: 6 | H13: =+IF(AND(ISBLANK(F13),ISBLANK(G13)),"Introducir Meta e Resultado",IF(ISBLANK(F13),"Introducir Meta",IF(ISBLANK(G13),"Introducir Resultado",IF(G13>=F13,"Meta Conseguida","Meta Non Conseguida")))) -> Meta Non Conseguida | J13: 4 | L13: =+IF(AND(ISBLANK(J13),ISBLANK(K13)),"Introducir Meta e Resultado",IF(ISBLANK(J13),"Introducir Meta",IF(ISBLANK(K13),"Introducir Resultado",IF(K13>=J13,"Meta Conseguida","Meta Non Conseguida")))) -> Introducir Resultado | P13: =+IF(AND(ISBLANK(N13),ISBLANK(O13)),"Introducir Meta e Resultado",IF(ISBLANK(N13),"Introducir Meta",IF(ISBLANK(O13),"Introducir Resultado",IF(O13>=N13,"Meta Conseguida","Meta Non Conseguida")))) -> Introducir Meta e Resultado
A14: I5-2 | B14: % Participación do PDI do título en plans de formación | C14: PE-02 Xestión de PDI | D14: Cubrir a Meta. O Resultado calcúlase de xeito automático. É a porcentaxe do PDI que participa en plans de formación, que se calcula de xeito automático a partir do indicador I5-1 e I46 | E14: 4 | F14: - | G14: =+IFERROR(G$13/G$88,0) -> 0.14634146 | H14: =+IF(AND(ISBLANK(F14),ISBLANK(G14)),"Introducir Meta e Resultado",IF(ISBLANK(F14),"Introducir Meta",IF(ISBLANK(G14),"Introducir Resultado",IF(G14>=F14,"Meta Conseguida","Meta Non Conseguida")))) -> Meta Non Conseguida | J14: 0.12 | K14: =+IFERROR(K$13/K$88,0) -> 0 | L14: =+IF(AND(ISBLANK(J14),ISBLANK(K14)),"Introducir Meta e Resultado",IF(ISBLANK(J14),"Introducir Meta",IF(ISBLANK(K14),"Introducir Resultado",IF(K14>=J14,"Meta Conseguida","Meta Non Conseguida")))) -> Meta Non Conseguida | O14: =+IFERROR(O$13/O$88,0) -> 0 | P14: =+IF(AND(ISBLANK(N14),ISBLANK(O14)),"Introducir Meta e Resultado",IF(ISBLANK(N14),"Introducir Meta",IF(ISBLANK(O14),"Introducir Resultado",IF(O14>=N14,"Meta Conseguida","Meta Non Conseguida")))) -> Introducir Meta
A15: I6-AI | B15: % Participación do PDI en Grupos de Innovación Docente | C15: PE-02 Xestión de PDI | D15: Só cubrir o Resultado, é un indicador informativo E a porcentaxe do PDI que participa en Grupos de innovación docente | E15: 4 | F15: ---- | G15: 0.14634146 | H15: =+IF(ISBLANK(G15),"Introducir Resultado","Resultado Introducido") -> Resultado Introducido | J15: 0.2 | K15: 0.417 | L15: =+IF(AND(ISBLANK(J15),ISBLANK(K15)),"Introducir Meta e Resultado",IF(ISBLANK(J15),"Introducir Meta",IF(ISBLANK(K15),"Introducir Resultado",IF(K15>=J15,"Meta Conseguida","Meta Non Conseguida")))) -> Meta Conseguida | N15: ---- | P15: =+IF(ISBLANK(O15),"Introducir Resultado","Resultado Introducido") -> Introducir Resultado
A16: I7 | B16: % PDI do título avaliado polo programa DOCENTIA e resultados obtidos | C16: PE-02 Xestión de PDI | D16: Nº dos obxectivos (I7-1 e I7-2) que se acadan | E16: 4 | F16: =+COUNTA(F17:F18) -> 2 | G16: =+COUNTIF(H17:H18,"Meta Conseguida") -> 0 | H16: =+IF(COUNTA(F17:F18)=0,"Indicador Sen Meta",IF(G16=2,"Meta Totalmente Alcanzada",IF(G17=0,"Introducir Resultado",IF(G16=0,"Ningunha Meta Alcanzada",IF(G16>0,"Meta Parcialmente Alcanzada"))))) -> Ningunha Meta Alcanzada | J16: =+COUNTA(J17:J18) -> 2 | K16: =+COUNTIF(L17:L18,"Meta Conseguida") -> 2 | L16: =+IF(COUNTA(J17:J18)=0,"Indicador Sen Meta",IF(K16=2,"Meta Totalmente Alcanzada",IF(K17=0,"Introducir Resultado",IF(K16=0,"Ningunha Meta Alcanzada",IF(K16>0,"Meta Parcialmente Alcanzada"))))) -> Meta Totalmente Alcanzada | N16: =+COUNTA(N17:N18) -> 0 | O16: =+COUNTIF(P17:P18,"Meta Conseguida") -> 0 | P16: =+IF(COUNTA(N17:N18)=0,"Indicador Sen Meta",IF(O16=2,"Meta Totalmente Alcanzada",IF(O17=0,"Introducir Resultado",IF(O16=0,"Ningunha Meta Alcanzada",IF(O16>0,"Meta Parcialmente Alcanzada"))))) -> Indicador Sen Meta
A17: I7-1 | B17: Nº PDI avaliado en DOCENTIA | C17: PE-02 Xestión de PDI | D17: Cubrir Meta e Resultado Nº acumulado do PDI avaliado en todas as convocatorias do Docentia. Sumar o PDI avaliado do conxunto das convocatorias de avaliación (Suma das 4 convocatorias) | E17: 4 | F17: - | G17: 5 | H17: =+IF(AND(ISBLANK(F17),ISBLANK(G17)),"Introducir Meta e Resultado",IF(ISBLANK(F17),"Introducir Meta",IF(ISBLANK(G17),"Introducir Resultado",IF(G17>=F17,"Meta Conseguida","Meta Non Conseguida")))) -> Meta Non Conseguida | J17: 2 | K17: 5 | L17: =+IF(AND(ISBLANK(J17),ISBLANK(K17)),"Introducir Meta e Resultado",IF(ISBLANK(J17),"Introducir Meta",IF(ISBLANK(K17),"Introducir Resultado",IF(K17>=J17,"Meta Conseguida","Meta Non Conseguida")))) -> Meta Conseguida | P17: =+IF(AND(ISBLANK(N17),ISBLANK(O17)),"Introducir Meta e Resultado",IF(ISBLANK(N17),"Introducir Meta",IF(ISBLANK(O17),"Introducir Resultado",IF(O17>=N17,"Meta Conseguida","Meta Non Conseguida")))) -> Introducir Meta e Resultado
A18: I7-2 | B18: % PDI que participa en DOCENTIA | C18: PE-02 Xestión de PDI | D18: Só Cubrir a Meta. O Resultado calcúlase de xeito automático. % do PDI avaliado entre o Nº total de PDI que imparte docencia na titulación, que se calcula a partir do indicador I7-1 e I46. | E18: 4 | F18: - | G18: =+IFERROR(G$17/G$88,0) -> 0.12195122 | H18: =+IF(AND(ISBLANK(F18),ISBLANK(G18)),"Introducir Meta e Resultado",IF(ISBLANK(F18),"Introducir Meta",IF(ISBLANK(G18),"Introducir Resultado",IF(G18>=F18,"Meta Conseguida","Meta Non Conseguida")))) -> Meta Non Conseguida | J18: 0.06 | K18: =+IFERROR(K$17/K$88,0) -> 0.23809524 | L18: =+IF(AND(ISBLANK(J18),ISBLANK(K18)),"Introducir Meta e Resultado",IF(ISBLANK(J18),"Introducir Meta",IF(ISBLANK(K18),"Introducir Resultado",IF(K18>=J18,"Meta Conseguida","Meta Non Conseguida")))) -> Meta Conseguida | O18: =+IFERROR(O$17/O$88,0) -> 0 | P18: =+IF(AND(ISBLANK(N18),ISBLANK(O18)),"Introducir Meta e Resultado",IF(ISBLANK(N18),"Introducir Meta",IF(ISBLANK(O18),"Introducir Resultado",IF(O18>=N18,"Meta Conseguida","Meta Non Conseguida")))) -> Introducir Meta
A19: I7-3 | B19: Resultados do PDI avaliado | C19: PE-02 Xestión de PDI | D19: Engadir a información da titulación da táboa "2.7 Resultados por centro" do informe institucional de resultados na folla de anexos https://www.uvigo.gal/universidade/calidade/programas-calidade/docencia/programa-docentia | E19: 4 | F19: ---- | G19: ---- | H19: ---- | J19: ---- | K19: ---- | L19: ---- | N19: ---- | O19: ---- | P19: ----
A20: I8 | B20: Indicadores de mobilidade do PDI | C20: PE-02 Xestión de PDI | D20: Nº dos obxectivos (I8-1 e I8-2) que se acadan | E20: 4 | F20: =+COUNTA(F21:F22) -> 2 | G20: =+COUNTIF(H21:H22,"Meta Conseguida") -> 0 | H20: =+IF(COUNTA(F21:F22)=0,"Indicador Sen Meta",IF(G20=2,"Meta Totalmente Alcanzada",IF(G21=0,"Introducir Resultado",IF(G20=0,"Ningunha Meta Alcanzada",IF(G20>0,"Meta Parcialmente Alcanzada"))))) -> Ningunha Meta Alcanzada | J20: =+COUNTA(J21:J22) -> 2 | K20: =+COUNTIF(L21:L22,"Meta Conseguida") -> 0 | L20: =+IF(COUNTA(J21:J22)=0,"Indicador Sen Meta",IF(K20=2,"Meta Totalmente Alcanzada",IF(K21=0,"Introducir Resultado",IF(K20=0,"Ningunha Meta Alcanzada",IF(K20>0,"Meta Parcialmente Alcanzada"))))) -> Introducir Resultado | N20: =+COUNTA(N21:N22) -> 0 | O20: =+COUNTIF(P21:P22,"Meta Conseguida") -> 0 | P20: =+IF(COUNTA(N21:N22)=0,"Indicador Sen Meta",IF(O20=2,"Meta Totalmente Alcanzada",IF(O21=0,"Introducir Resultado",IF(O20=0,"Ningunha Meta Alcanzada",IF(O20>0,"Meta Parcialmente Alcanzada"))))) -> Indicador Sen Meta
A21: I8-1 | B21: Nº PDI propio que participa en programas de mobilidade | C21: PE-02 Xestión de PDI | D21: Cubrir Meta e Resultado Seleccionar o dato na consulta "FOR. Formación e mobilidade do PDI" do portal de transparencia https://secretaria.uvigo.gal/uv/web/transparencia/informe/show/5/34/68 Os resultados son do curso 23/24 | E21: 4 | F21: - | G21: 2 | H21: =+IF(AND(ISBLANK(F21),ISBLANK(G21)),"Introducir Meta e Resultado",IF(ISBLANK(F21),"Introducir Meta",IF(ISBLANK(G21),"Introducir Resultado",IF(G21>=F21,"Meta Conseguida","Meta Non Conseguida")))) -> Meta Non Conseguida | J21: 2 | L21: =+IF(AND(ISBLANK(J21),ISBLANK(K21)),"Introducir Meta e Resultado",IF(ISBLANK(J21),"Introducir Meta",IF(ISBLANK(K21),"Introducir Resultado",IF(K21>=J21,"Meta Conseguida","Meta Non Conseguida")))) -> Introducir Resultado | P21: =+IF(AND(ISBLANK(N21),ISBLANK(O21)),"Introducir Meta e Resultado",IF(ISBLANK(N21),"Introducir Meta",IF(ISBLANK(O21),"Introducir Resultado",IF(O21>=N21,"Meta Conseguida","Meta Non Conseguida")))) -> Introducir Meta e Resultado
A22: I8-2 | B22: % de PDI que participa en programas de mobilidade | C22: PE-02 Xestión de PDI | D22: Só Cubrir a Meta. O Resultado calcúlase de xeito automático. % de PDI que participa en programas de mobilidade con relación ao PDI total, que se calcula a partir dos indicadores I8-1 e I46 | E22: 4 | F22: - | G22: =+IFERROR(G$21/G$88,0) -> 0.048780488 | H22: =+IF(AND(ISBLANK(F22),ISBLANK(G22)),"Introducir Meta e Resultado",IF(ISBLANK(F22),"Introducir Meta",IF(ISBLANK(G22),"Introducir Resultado",IF(G22>=F22,"Meta Conseguida","Meta Non Conseguida")))) -> Meta Non Conseguida | J22: 0.06 | K22: =+IFERROR(K$21/K$88,0) -> 0 | L22: =+IF(AND(ISBLANK(J22),ISBLANK(K22)),"Introducir Meta e Resultado",IF(ISBLANK(J22),"Introducir Meta",IF(ISBLANK(K22),"Introducir Resultado",IF(K22>=J22,"Meta Conseguida","Meta Non Conseguida")))) -> Meta Non Conseguida | O22: =+IFERROR(O$21/O$88,0) -> 0 | P22: =+IF(AND(ISBLANK(N22),ISBLANK(O22)),"Introducir Meta e Resultado",IF(ISBLANK(N22),"Introducir Meta",IF(ISBLANK(O22),"Introducir Resultado",IF(O22>=N22,"Meta Conseguida","Meta Non Conseguida")))) -> Introducir Meta
A23: I9 | B23: Distribución de alumnado por centros de prácticas | C23: DO-0204 Xestión de prácticas | D23: Este indicador atópase no rexistro "R1 DO-0204" na aplicación SGIC da secretaría virtual: https://secretaria.uvigo.gal/uv/web/sgic/admin/evidencias/list | E23: 5 | F23: ---- | G23: ---- | H23: ---- | J23: ---- | K23: ---- | L23: ---- | N23: ---- | O23: ---- | P23: ----
A24: I10 | B24: Indicadores de resultados | C24: DE-02 Seguimento e Medición; DE-03 Revisión do sistema pola dirección | D24: Nº dos obxectivos (I10-1 ata I10-12) que se acadan | E24: 6 e 7 | F24: =+COUNTA(F25:F30)+COUNTA(F32:F33)+COUNTA(F35:F36) -> 10 | G24: =+COUNTIF(H25:H36,"Meta Conseguida") -> 5 | H24: =+IF((G24+F24)=0,"Introducir Meta e Resultado",IF(COUNTA(G25:G30)=0,"Indicador Sen Resultados",IF(G24=0,"Ningunha Meta Alcanzada",IF(G24>=F24,"Meta Totalmente Alcanzada",IF(G24>0,"Meta Parcialmente Alcanzada"))))) -> Meta Parcialmente Alcanzada | J24: =+COUNTA(J25:J30)+COUNTA(J32:J33)+COUNTA(J35:J36) -> 10 | K24: =+COUNTIF(L25:L36,"Meta Conseguida") -> 7 | L24: =+IF((K24+J24)=0,"Introducir Meta e Resultado",IF(COUNTA(K25:K30)=0,"Indicador Sen Resultados",IF(K24=0,"Ningunha Meta Alcanzada",IF(K24>=J24,"Meta Totalmente Alcanzada",IF(K24>0,"Meta Parcialmente Alcanzada"))))) -> Meta Parcialmente Alcanzada | N24: =+COUNTA(N25:N30)+COUNTA(N32:N33)+COUNTA(N35:N36) -> 0 | O24: =+COUNTIF(P25:P36,"Meta Conseguida") -> 0 | P24: =+IF((O24+N24)=0,"Introducir Meta e Resultado",IF(COUNTA(O25:O30)=0,"Indicador Sen Resultados",IF(O24=0,"Ningunha Meta Alcanzada",IF(O24>=N24,"Meta Totalmente Alcanzada",IF(O24>0,"Meta Parcialmente Alcanzada"))))) -> Introducir Meta e Resultado
A25: I10-1 | B25: Taxa de graduación da titulación | C25: DE-02 Seguimento e Medición; DE-03 Revisión do sistema pola dirección | D25: Cubrir Meta e Resultado Escoller o documento excel do grao ou máster segundo o caso, do menú de GRA. Graduación https://secretaria.uvigo.gal/uv/web/transparencia/informe/show/5/51/66 Os resultados son do curso 22/23 | E25: 7 | F25: 0.2 | G25: 0.26923077 | H25: =+IF(AND(ISBLANK(F25),ISBLANK(G25)),"Introducir Meta e Resultado",IF(ISBLANK(F25),"Introducir Meta",IF(ISBLANK(G25),"Introducir Resultado",IF(G25>=F25,"Meta Conseguida","Meta Non Conseguida")))) -> Meta Conseguida | J25: 0.2 | K25: 0.1667 | L25: =+IF(AND(ISBLANK(J25),ISBLANK(K25)),"Introducir Meta e Resultado",IF(ISBLANK(J25),"Introducir Meta",IF(ISBLANK(K25),"Introducir Resultado",IF(K25>=J25,"Meta Conseguida","Meta Non Conseguida")))) -> Meta Non Conseguida | P25: =+IF(AND(ISBLANK(N25),ISBLANK(O25)),"Introducir Meta e Resultado",IF(ISBLANK(N25),"Introducir Meta",IF(ISBLANK(O25),"Introducir Resultado",IF(O25>=N25,"Meta Conseguida","Meta Non Conseguida")))) -> Introducir Meta e Resultado
A26: I10-2 | B26: Taxa de abandono da titulación (CURSA) | C26: DE-02 Seguimento e Medición; DE-03 Revisión do sistema pola dirección | D26: Cubrir Meta e Resultado. O indicador acádase se o resultado é igual ou inferior á meta Escoller o documento excel do grao ou máster segundo o caso, do menú ABA: abandono https://secretaria.uvigo.gal/uv/web/transparencia/informe/show/5/51/65 Os resultados son do curso 23/24 | E26: 7 | F26: 0.25 | G26: 0.21052632 | H26: =+IF(AND(ISBLANK(F26),ISBLANK(G26)),"Introducir Meta e Resultado",IF(ISBLANK(F26),"Introducir Meta",IF(ISBLANK(G26),"Introducir Resultado",IF(G26<=F26,"Meta Conseguida","Meta Non Conseguida")))) -> Meta Conseguida | J26: 0.25 | K26: 0.3846 | L26: =+IF(AND(ISBLANK(J26),ISBLANK(K26)),"Introducir Meta e Resultado",IF(ISBLANK(J26),"Introducir Meta",IF(ISBLANK(K26),"Introducir Resultado",IF(K26<=J26,"Meta Conseguida","Meta Non Conseguida")))) -> Meta Non Conseguida | P26: =+IF(AND(ISBLANK(N26),ISBLANK(O26)),"Introducir Meta e Resultado",IF(ISBLANK(N26),"Introducir Meta",IF(ISBLANK(O26),"Introducir Resultado",IF(O26<=N26,"Meta Conseguida","Meta Non Conseguida")))) -> Introducir Meta e Resultado
A27: I10-3 | B27: Taxa de eficiencia | C27: DE-02 Seguimento e Medición; DE-03 Revisión do sistema pola dirección | D27: Cubrir Meta e Resultado Escoller o documento excel do grao ou máster segundo o caso, do menú de GRA. Graduación https://secretaria.uvigo.gal/uv/web/transparencia/informe/show/5/51/66 Os resultados son do curso 22/23 | E27: 7 | F27: 0.5 | G27: 0.67510549 | H27: =+IF(AND(ISBLANK(F27),ISBLANK(G27)),"Introducir Meta e Resultado",IF(ISBLANK(F27),"Introducir Meta",IF(ISBLANK(G27),"Introducir Resultado",IF(G27>=F27,"Meta Conseguida","Meta Non Conseguida")))) -> Meta Conseguida | J27: 0.5 | K27: 0.804 | L27: =+IF(AND(ISBLANK(J27),ISBLANK(K27)),"Introducir Meta e Resultado",IF(ISBLANK(J27),"Introducir Meta",IF(ISBLANK(K27),"Introducir Resultado",IF(K27>=J27,"Meta Conseguida","Meta Non Conseguida")))) -> Meta Conseguida | P27: =+IF(AND(ISBLANK(N27),ISBLANK(O27)),"Introducir Meta e Resultado",IF(ISBLANK(N27),"Introducir Meta",IF(ISBLANK(O27),"Introducir Resultado",IF(O27>=N27,"Meta Conseguida","Meta Non Conseguida")))) -> Introducir Meta e Resultado
A28: I10-4 | B28: Taxa de Rendemento | C28: DE-02 Seguimento e Medición; DE-03 Revisión do sistema pola dirección | D28: Cubrir Meta e Resultado Elixir o documento excel do grao ou máster segundo o caso, do menú REN Rendemento https://secretaria.uvigo.gal/uv/web/transparencia/informe/show/5/51/64 Os resultados son do curso 23/24 | E28: 7 | F28: 0.6 | G28: 0.70630279 | H28: =+IF(AND(ISBLANK(F28),ISBLANK(G28)),"Introducir Meta e Resultado",IF(ISBLANK(F28),"Introducir Meta",IF(ISBLANK(G28),"Introducir Resultado",IF(G28>=F28,"Meta Conseguida","Meta Non Conseguida")))) -> Meta Conseguida | J28: 0.6 | K28: 0.73 | L28: =+IF(AND(ISBLANK(J28),ISBLANK(K28)),"Introducir Meta e Resultado",IF(ISBLANK(J28),"Introducir Meta",IF(ISBLANK(K28),"Introducir Resultado",IF(K28>=J28,"Meta Conseguida","Meta Non Conseguida")))) -> Meta Conseguida | P28: =+IF(AND(ISBLANK(N28),ISBLANK(O28)),"Introducir Meta e Resultado",IF(ISBLANK(N28),"Introducir Meta",IF(ISBLANK(O28),"Introducir Resultado",IF(O28>=N28,"Meta Conseguida","Meta Non Conseguida")))) -> Introducir Meta e Resultado
A29: I10-5 | B29: Taxa de éxito | C29: DE-02 Seguimento e Medición; DE-03 Revisión do sistema pola dirección | D29: Cubrir Meta e Resultado Elixir o documento excel do grao ou máster segundo o caso, do menú REN Rendemento https://secretaria.uvigo.gal/uv/web/transparencia/informe/show/5/51/64 Os resultados son do curso 23/24 | E29: 7 | F29: 0.8 | G29: 0.86751796 | H29: =+IF(AND(ISBLANK(F29),ISBLANK(G29)),"Introducir Meta e Resultado",IF(ISBLANK(F29),"Introducir Meta",IF(ISBLANK(G29),"Introducir Resultado",IF(G29>=F29,"Meta Conseguida","Meta Non Conseguida")))) -> Meta Conseguida | J29: 0.8 | K29: 0.88 | L29: =+IF(AND(ISBLANK(J29),ISBLANK(K29)),"Introducir Meta e Resultado",IF(ISBLANK(J29),"Introducir Meta",IF(ISBLANK(K29),"Introducir Resultado",IF(K29>=J29,"Meta Conseguida","Meta Non Conseguida")))) -> Meta Conseguida | P29: =+IF(AND(ISBLANK(N29),ISBLANK(O29)),"Introducir Meta e Resultado",IF(ISBLANK(N29),"Introducir Meta",IF(ISBLANK(O29),"Introducir Resultado",IF(O29>=N29,"Meta Conseguida","Meta Non Conseguida")))) -> Introducir Meta e Resultado
A30: I10-6 | B30: Taxa de avaliación | C30: DE-02 Seguimento e Medición; DE-03 Revisión do sistema pola dirección | D30: Cubrir Meta e Resultado Elixir o documento excel do grao ou máster segundo o caso, do menú REN Rendemento https://secretaria.uvigo.gal/uv/web/transparencia/informe/show/5/51/64 Os resultados son do curso 23/24 | E30: 7 | F30: - | G30: 0.81416504 | H30: =+IF(AND(ISBLANK(F30),ISBLANK(G30)),"Introducir Meta e Resultado",IF(ISBLANK(F30),"Introducir Meta",IF(ISBLANK(G30),"Introducir Resultado",IF(G30>=F30,"Meta Conseguida","Meta Non Conseguida")))) -> Meta Non Conseguida | J30: 0.75 | K30: 0.83 | L30: =+IF(AND(ISBLANK(J30),ISBLANK(K30)),"Introducir Meta e Resultado",IF(ISBLANK(J30),"Introducir Meta",IF(ISBLANK(K30),"Introducir Resultado",IF(K30>=J30,"Meta Conseguida","Meta Non Conseguida")))) -> Meta Conseguida | P30: =+IF(AND(ISBLANK(N30),ISBLANK(O30)),"Introducir Meta e Resultado",IF(ISBLANK(N30),"Introducir Meta",IF(ISBLANK(O30),"Introducir Resultado",IF(O30>=N30,"Meta Conseguida","Meta Non Conseguida")))) -> Introducir Meta e Resultado
A31: I10-7 | B31: Taxa de Rendemento por materia | C31: DE-02 Seguimento e Medición; DE-03 Revisión do sistema pola dirección | D31: Engadir a información na Folla Anexos do Cadro de Mando, sobre as taxas de rendemento das titulación que se pode obter na consulta REN. Rendemento por materia https://secretaria.uvigo.gal/uv/web/transparencia/informe/show/5/51/64 | E31: 6 | F31: ---- | G31: ---- | H31: ---- | J31: ---- | K31: ---- | L31: ---- | N31: ---- | O31: ---- | P31: ----
A32: I10-8 | B32: Valor mínimo das taxas de Rendemento dunha materia da titulación | C32: DE-02 Seguimento e Medición; DE-03 Revisión do sistema pola dirección | D32: Só Cubrir a Meta. O Resultado calcúlase de xeito automático. Indicar o valor mínimo das taxas de rendemento das materias da titulación, do indicador I10-7 | E32: 6 | F32: - | G32: =+MIN('Anexos 1'!$O$6:$O$100) -> 0.39285714 | H32: =+IF(AND(ISBLANK(F32),ISBLANK(G32)),"Introducir Meta e Resultado",IF(ISBLANK(F32),"Introducir Meta",IF(ISBLANK(G32),"Introducir Resultado",IF(G32>=F32,"Meta Conseguida","Meta Non Conseguida")))) -> Meta Non Conseguida | J32: 0.5 | K32: =+IFERROR(MIN('Anexos 2'!$O$6:$O$202),"----") -> 0.42857143 | L32: =+IF(AND(ISBLANK(J32),ISBLANK(K32)),"Introducir Meta e Resultado",IF(ISBLANK(J32),"Introducir Meta",IF(ISBLANK(K32),"Introducir Resultado",IF(K32>=J32,"Meta Conseguida","Meta Non Conseguida")))) -> Meta Non Conseguida | O32: =+IFERROR(MIN('Anexos 3'!$O$6:$O$200),"----") -> 0 | P32: =+IF(AND(ISBLANK(N32),ISBLANK(O32)),"Introducir Meta e Resultado",IF(ISBLANK(N32),"Introducir Meta",IF(ISBLANK(O32),"Introducir Resultado",IF(O32>=N32,"Meta Conseguida","Meta Non Conseguida")))) -> Introducir Meta
A33: I10-9 | B33: % de materias que acadan unha Taxa de Rendemento de 50% | C33: DE-02 Seguimento e Medición; DE-03 Revisión do sistema pola dirección | D33: Só Cubrir a Meta. O Resultado calcúlase de xeito automático. Indicar a % de materias cunha taxa de rendemento igual ou superior a un valor establecido (Por exemplo o 50%). O Resultado calcúlase de xeito automático, indicando na columna T da folla "Anexos" o valor establecido da taxa de cada materia | E33: 6 | F33: - | G33: ='Anexos 1'!$S$3 -> 0 | H33: =+IF(AND(ISBLANK(F33),ISBLANK(G33)),"Introducir Meta e Resultado",IF(ISBLANK(F33),"Introducir Meta",IF(ISBLANK(G33),"Introducir Resultado",IF(G33>=F33,"Meta Conseguida","Meta Non Conseguida")))) -> Meta Non Conseguida | J33: 0.75 | K33: =+'Anexos 2'!$S$3 -> 0.95238095 | L33: =+IF(AND(ISBLANK(J33),ISBLANK(K33)),"Introducir Meta e Resultado",IF(ISBLANK(J33),"Introducir Meta",IF(ISBLANK(K33),"Introducir Resultado",IF(K33>=J33,"Meta Conseguida","Meta Non Conseguida")))) -> Meta Conseguida | O33: =+'Anexos 3'!$S$3 -> 0 | P33: =+IF(AND(ISBLANK(N33),ISBLANK(O33)),"Introducir Meta e Resultado",IF(ISBLANK(N33),"Introducir Meta",IF(ISBLANK(O33),"Introducir Resultado",IF(O33>=N33,"Meta Conseguida","Meta Non Conseguida")))) -> Introducir Meta
A34: I10-10 | B34: Taxa de éxito por materia | C34: DE-02 Seguimento e Medición; DE-03 Revisión do sistema pola dirección | D34: Engadir a información na Folla Anexos do Cadro de Mando, sobre as taxas de Éxito das titulación que se pode obter na consulta REN. Rendemento por materia https://secretaria.uvigo.gal/uv/web/transparencia/informe/show/5/51/64 | E34: 6 | F34: ---- | G34: ---- | H34: ---- | J34: ---- | K34: ---- | L34: ---- | N34: ---- | O34: ---- | P34: ----
A35: I10-11 | B35: Valor mínimo das taxas de Éxito dunha materia da titulación | C35: DE-02 Seguimento e Medición; DE-03 Revisión do sistema pola dirección | D35: Só Cubrir a Meta. O Resultado calcúlase de xeito automático. Indicar o valor mínimo das taxas de Éxito das materias da titulación, do indicador I10-10 | E35: 6 | F35: - | G35: =+MIN('Anexos 1'!$N$6:$N$100) -> 0.57894737 | H35: =+IF(AND(ISBLANK(F35),ISBLANK(G35)),"Introducir Meta e Resultado",IF(ISBLANK(F35),"Introducir Meta",IF(ISBLANK(G35),"Introducir Resultado",IF(G35>=F35,"Meta Conseguida","Meta Non Conseguida")))) -> Meta Non Conseguida | J35: 0.5 | K35: =+IFERROR(MIN('Anexos 2'!$N$6:$N$202),"----") -> 0.625 | L35: =+IF(AND(ISBLANK(J35),ISBLANK(K35)),"Introducir Meta e Resultado",IF(ISBLANK(J35),"Introducir Meta",IF(ISBLANK(K35),"Introducir Resultado",IF(K35>=J35,"Meta Conseguida","Meta Non Conseguida")))) -> Meta Conseguida | O35: =+IFERROR(MIN('Anexos 3'!$N$6:$N$200),"----") -> 0 | P35: =+IF(AND(ISBLANK(N35),ISBLANK(O35)),"Introducir Meta e Resultado",IF(ISBLANK(N35),"Introducir Meta",IF(ISBLANK(O35),"Introducir Resultado",IF(O35>=N35,"Meta Conseguida","Meta Non Conseguida")))) -> Introducir Meta
A36: I10-12 | B36: Xº de materias que acadan unha Taxa de Éxito de 50% | C36: DE-02 Seguimento e Medición; DE-03 Revisión do sistema pola dirección | D36: Só Cubrir a Meta. O Resultado calcúlase de xeito automático. Indicar a % de materias cunha taxa de Éxito igual ou superior a un valor establecido (Por exemplo o 50%). O Resultado calcúlase de xeito automático, indicando na columna S da folla "Anexos" o valor establecido da taxa de cada materia | E36: 6 | F36: - | G36: ='Anexos 1'!$R$3 -> 0 | H36: =+IF(AND(ISBLANK(F36),ISBLANK(G36)),"Introducir Meta e Resultado",IF(ISBLANK(F36),"Introducir Meta",IF(ISBLANK(G36),"Introducir Resultado",IF(G36>=F36,"Meta Conseguida","Meta Non Conseguida")))) -> Meta Non Conseguida | J36: 0.75 | K36: =+'Anexos 2'!$R$3 -> 1 | L36: =+IF(AND(ISBLANK(J36),ISBLANK(K36)),"Introducir Meta e Resultado",IF(ISBLANK(J36),"Introducir Meta",IF(ISBLANK(K36),"Introducir Resultado",IF(K36>=J36,"Meta Conseguida","Meta Non Conseguida")))) -> Meta Conseguida | O36: =+'Anexos 3'!$R$3 -> 0 | P36: =+IF(AND(ISBLANK(N36),ISBLANK(O36)),"Introducir Meta e Resultado",IF(ISBLANK(N36),"Introducir Meta",IF(ISBLANK(O36),"Introducir Resultado",IF(O36>=N36,"Meta Conseguida","Meta Non Conseguida")))) -> Introducir Meta
A37: I11 | B37: Relación de Oferta / Demanda de prazas | C37: AC-01: Acceso, evolución e Expedición de Titulos Oficiais | D37: Nº dos obxectivos (I11-1, I11-2 e I11-3) que se acadan | E37: 7 | F37: =+COUNTA(F38:F40) -> 3 | G37: =+COUNTIF(H38:H40,"Meta Conseguida") -> 1 | H37: =+IF(COUNTA(F38:F40)=0,"Indicador Sen Meta",IF(COUNTA(G38:G40)=0,"Indicador Sen Resultados",IF(G37=0,"Ningunha Meta Alcanzada",IF(G37>=F37,"Meta Totalmente Alcanzada",IF(G37>0,"Meta Parcialmente Alcanzada"))))) -> Meta Parcialmente Alcanzada | J37: =+COUNTA(J38:J40) -> 3 | K37: =+COUNTIF(L38:L40,"Meta Conseguida") -> 1 | L37: =+IF(COUNTA(J38:J40)=0,"Indicador Sen Meta",IF(COUNTA(K38:K40)=0,"Indicador Sen Resultados",IF(K37=0,"Ningunha Meta Alcanzada",IF(K37>=J37,"Meta Totalmente Alcanzada",IF(K37>0,"Meta Parcialmente Alcanzada"))))) -> Meta Parcialmente Alcanzada | N37: =+COUNTA(N38:N40) -> 0 | O37: =+COUNTIF(P38:P40,"Meta Conseguida") -> 0 | P37: =+IF(COUNTA(N38:N40)=0,"Indicador Sen Meta",IF(COUNTA(O38:O40)=0,"Indicador Sen Resultados",IF(O37=0,"Ningunha Meta Alcanzada",IF(O37>=N37,"Meta Totalmente Alcanzada",IF(O37>0,"Meta Parcialmente Alcanzada"))))) -> Indicador Sen Meta
A38: I11-1 | B38: Taxa de Ocupación | C38: AC-01: Acceso, evolución e Expedición de Titulos Oficiais | D38: Cubrir Meta e Resultado Escoller PRE.GRA Admisión de Grao ou PRE.MÁS. Admisión de máster segundo o caso https://secretaria.uvigo.gal/uv/web/transparencia/informe/show/5/51/3 o documento excel correspondente e posteriormente elixir a columna de Taxas de ocupación | E38: 7 | F38: 0.85 | G38: 0.33333333 | H38: =+IF(AND(ISBLANK(F38),ISBLANK(G38)),"Introducir Meta e Resultado",IF(ISBLANK(F38),"Introducir Meta",IF(ISBLANK(G38),"Introducir Resultado",IF(G38>=F38,"Meta Conseguida","Meta Non Conseguida")))) -> Meta Non Conseguida | J38: 0.85 | K38: 0.4667 | L38: =+IF(AND(ISBLANK(J38),ISBLANK(K38)),"Introducir Meta e Resultado",IF(ISBLANK(J38),"Introducir Meta",IF(ISBLANK(K38),"Introducir Resultado",IF(K38>=J38,"Meta Conseguida","Meta Non Conseguida")))) -> Meta Non Conseguida | P38: =+IF(AND(ISBLANK(N38),ISBLANK(O38)),"Introducir Meta e Resultado",IF(ISBLANK(N38),"Introducir Meta",IF(ISBLANK(O38),"Introducir Resultado",IF(O38>=N38,"Meta Conseguida","Meta Non Conseguida")))) -> Introducir Meta e Resultado
A39: I11-2 | B39: Taxa de Preferencia (só Graos) | C39: AC-01: Acceso, evolución e Expedición de Titulos Oficiais | D39: Cubrir Meta e Resultado (Só Graos) Seleccionar a columna Taxa de Preferencia no documento excel PRE.GRA Admisión de Grao, que se atopa en https://secretaria.uvigo.gal/uv/web/transparencia/informe/show/5/51/3 | E39: 7 | F39: 0.85 | G39: 0.46666667 | H39: =+IF(AND(ISBLANK(F39),ISBLANK(G39)),"Introducir Meta e Resultado",IF(ISBLANK(F39),"Introducir Meta",IF(ISBLANK(G39),"Introducir Resultado",IF(G39>=F39,"Meta Conseguida","Meta Non Conseguida")))) -> Meta Non Conseguida | J39: 0.85 | K39: 0.5111 | L39: =+IF(AND(ISBLANK(J39),ISBLANK(K39)),"Introducir Meta e Resultado",IF(ISBLANK(J39),"Introducir Meta",IF(ISBLANK(K39),"Introducir Resultado",IF(K39>=J39,"Meta Conseguida","Meta Non Conseguida")))) -> Meta Non Conseguida | P39: =+IF(AND(ISBLANK(N39),ISBLANK(O39)),"Introducir Meta e Resultado",IF(ISBLANK(N39),"Introducir Meta",IF(ISBLANK(O39),"Introducir Resultado",IF(O39>=N39,"Meta Conseguida","Meta Non Conseguida")))) -> Introducir Meta e Resultado
A40: I11-3 | B40: Taxa de Adecuación (só Graos) | C40: AC-01: Acceso, evolución e Expedición de Titulos Oficiais | D40: Cubrir Meta e Resultado (Só Graos) Seleccionar a columna Taxa de Adecuación no documento excel PRE.GRA Admisión de Grao, que se atopa en https://secretaria.uvigo.gal/uv/web/transparencia/informe/show/5/51/3 | E40: 7 | F40: 0.8 | G40: 0.93333333 | H40: =+IF(AND(ISBLANK(F40),ISBLANK(G40)),"Introducir Meta e Resultado",IF(ISBLANK(F40),"Introducir Meta",IF(ISBLANK(G40),"Introducir Resultado",IF(G40>=F40,"Meta Conseguida","Meta Non Conseguida")))) -> Meta Conseguida | J40: 0.8 | K40: 0.9048 | L40: =+IF(AND(ISBLANK(J40),ISBLANK(K40)),"Introducir Meta e Resultado",IF(ISBLANK(J40),"Introducir Meta",IF(ISBLANK(K40),"Introducir Resultado",IF(K40>=J40,"Meta Conseguida","Meta Non Conseguida")))) -> Meta Conseguida | P40: =+IF(AND(ISBLANK(N40),ISBLANK(O40)),"Introducir Meta e Resultado",IF(ISBLANK(N40),"Introducir Meta",IF(ISBLANK(O40),"Introducir Resultado",IF(O40>=N40,"Meta Conseguida","Meta Non Conseguida")))) -> Introducir Meta e Resultado
A41: I12 | B41: Resultados de inserción laboral | C41: DE-02 Seguimento e Medición; DE-03 Revisión do sistema pola dirección | D41: Só cubrir o Resultado, é un indicador informativo Introducir a inserción laboral da da titulación da secretaría virtual https://secretaria.uvigo.gal/uv/web/transparencia/grupo/show/5/69 | E41: 7 | F41: ---- | G41: 1 | H41: =+IF(ISBLANK(G41),"Introducir Resultado","Indicador Completado") -> Indicador Completado | J41: ---- | L41: =+IF(ISBLANK(K41),"Introducir Resultado","Indicador Completado") -> Introducir Resultado | N41: ---- | P41: =+IF(ISBLANK(O41),"Introducir Resultado","Indicador Completado") -> Introducir Resultado
A42: I13 | B42: Media alumnos por grupo de docencia ou PDA | C42: DO-0201 Planificación e desenvolvemento da ensinanza | D42: Este indicador atópase no rexistro "R1 DO-0201 PDA" na aplicación SGIC da secretaría virtual: https://secretaria.uvigo.gal/uv/web/sgic/admin/evidencias/list | E42: 1 | F42: ---- | G42: ---- | H42: ---- | J42: ---- | K42: ---- | L42: ---- | N42: ---- | O42: ---- | P42: ----
A44: Indicadores institucionais da Universidade de Vigo
A46: I20 | B46: Índice das enquisas de satisfacción coas titulacións | C46: MC-05 Medición satisfacción | D46: Nº dos obxectivos (I20-1, I20-2, I20-3 e I20-4) que se acadan | E46: 7 | F46: =+COUNTA(F47:F51) -> 5 | G46: =+COUNTIF(H47:H51,"Meta Conseguida") -> 5 | H46: =+IF((G46+F46)=0,"Introducir Meta e Resultado",IF(COUNTA(G47:G51)=0,"Indicador Sen Resultados",IF(F46=0,"Indicador Sen Meta",IF(G46=0,"Ningunha Meta Alcanzada",IF(G46>=F46,"Meta Totalmente Alcanzada",IF(G46>0,"Meta Parcialmente Alcanzada")))))) -> Meta Totalmente Alcanzada | J46: =+COUNTA(J47:J51) -> 5 | K46: =+COUNTIF(L47:L51,"Meta Conseguida") -> 4 | L46: =+IF((K46+J46)=0,"Introducir Meta e Resultado",IF(COUNTA(K47:K51)=0,"Indicador Sen Resultados",IF(J46=0,"Indicador Sen Meta",IF(K46=0,"Ningunha Meta Alcanzada",IF(K46>=J46,"Meta Totalmente Alcanzada",IF(K46>0,"Meta Parcialmente Alcanzada")))))) -> Meta Parcialmente Alcanzada | N46: =+COUNTA(N47:N51) -> 0 | O46: =+COUNTIF(P47:P51,"Meta Conseguida") -> 0 | P46: =+IF((O46+N46)=0,"Introducir Meta e Resultado",IF(COUNTA(O47:O51)=0,"Indicador Sen Resultados",IF(N46=0,"Indicador Sen Meta",IF(O46=0,"Ningunha Meta Alcanzada",IF(O46>=N46,"Meta Totalmente Alcanzada",IF(O46>0,"Meta Parcialmente Alcanzada")))))) -> Introducir Meta e Resultado
A47: I20-1 | B47: Índice de satisfacción do Estudantado coas titulacións | C47: MC-05 Medición satisfacción | D47: Cubrir Meta e Resultado. A meta poderá estar entre os valores [1-5] Introducir o Grao de satisfacción do estudantado coa titulación, que se atopa na folla "Titulación", na columna "Resultado" na fila de "ValoraciónTotal" da titulación do informe do portal de transparencia. https://secretaria.uvigo.gal/uv/web/transparencia/grupo/show/5/28 Os resultados son do curso 23-24 | E47: 7 | F47: 3 | G47: 3.5142857 | H47: =+IF(AND(ISBLANK(F47),ISBLANK(G47)),"Introducir Meta e Resultado",IF(ISBLANK(F47),"Introducir Meta",IF(ISBLANK(G47),"Introducir Resultado",IF(G47>=F47,"Meta Conseguida","Meta Non Conseguida")))) -> Meta Conseguida | J47: 3 | K47: 3.51 | L47: =+IF(AND(ISBLANK(J47),ISBLANK(K47)),"Introducir Meta e Resultado",IF(ISBLANK(J47),"Introducir Meta",IF(ISBLANK(K47),"Introducir Resultado",IF(K47>=J47,"Meta Conseguida","Meta Non Conseguida")))) -> Meta Conseguida | P47: =+IF(AND(ISBLANK(N47),ISBLANK(O47)),"Introducir Meta e Resultado",IF(ISBLANK(N47),"Introducir Meta",IF(ISBLANK(O47),"Introducir Resultado",IF(O47>=N47,"Meta Conseguida","Meta Non Conseguida")))) -> Introducir Meta e Resultado
A48: I20-2 | B48: Índice de satisfacción do Profesorado coas titulacións | C48: MC-05 Medición satisfacción | D48: Cubrir Meta e Resultado. A meta poderá estar entre os valores [1-5] Introducir o Grao de satisfacción do PDI coa titulación, que se atopa na folla "Titulación", na columna "Resultado" na fila de "Valoración Total" da titulación do informe do portal de transparencia. https://secretaria.uvigo.gal/uv/web/transparencia/grupo/show/5/28 No caso que no curso de referencia non houbera resultados, seleccionar o índice do curso pasado Os resultados son do curso 22-23 | E48: 7 | F48: 3 | G48: - | H48: =+IF(AND(ISBLANK(F48),ISBLANK(G48)),"Introducir Meta e Resultado",IF(ISBLANK(F48),"Introducir Meta",IF(ISBLANK(G48),"Introducir Resultado",IF(G48>=F48,"Meta Conseguida","Meta Non Conseguida")))) -> Meta Conseguida | J48: 3 | K48: 4.37 | L48: =+IF(AND(ISBLANK(J48),ISBLANK(K48)),"Introducir Meta e Resultado",IF(ISBLANK(J48),"Introducir Meta",IF(ISBLANK(K48),"Introducir Resultado",IF(K48>=J48,"Meta Conseguida","Meta Non Conseguida")))) -> Meta Conseguida | P48: =+IF(AND(ISBLANK(N48),ISBLANK(O48)),"Introducir Meta e Resultado",IF(ISBLANK(N48),"Introducir Meta",IF(ISBLANK(O48),"Introducir Resultado",IF(O48>=N48,"Meta Conseguida","Meta Non Conseguida")))) -> Introducir Meta e Resultado
A49: I20-3 | B49: Índice de satisfacción das Persoas tituladas coas titulacións | C49: MC-05 Medición satisfacción | D49: Cubrir Meta e Resultado. A meta poderá estar entre os valores [1-5] Introducir o Grao de satisfacción das Persoas Tituladas coa titulación, que se atopa na folla "Titulación", na columna "Resultado" na fila de "Valoración Total" da titulación do informe do portal de transparencia. https://secretaria.uvigo.gal/uv/web/transparencia/grupo/show/5/28 Os resultados son do curso 23-24 | E49: 7 | F49: 3 | G49: 4 | H49: =+IF(AND(ISBLANK(F49),ISBLANK(G49)),"Introducir Meta e Resultado",IF(ISBLANK(F49),"Introducir Meta",IF(ISBLANK(G49),"Introducir Resultado",IF(G49>=F49,"Meta Conseguida","Meta Non Conseguida")))) -> Meta Conseguida | J49: 3 | K49: 4.21 | L49: =+IF(AND(ISBLANK(J49),ISBLANK(K49)),"Introducir Meta e Resultado",IF(ISBLANK(J49),"Introducir Meta",IF(ISBLANK(K49),"Introducir Resultado",IF(K49>=J49,"Meta Conseguida","Meta Non Conseguida")))) -> Meta Conseguida | P49: =+IF(AND(ISBLANK(N49),ISBLANK(O49)),"Introducir Meta e Resultado",IF(ISBLANK(N49),"Introducir Meta",IF(ISBLANK(O49),"Introducir Resultado",IF(O49>=N49,"Meta Conseguida","Meta Non Conseguida")))) -> Introducir Meta e Resultado
A50: I20-4 | B50: Índice de satisfacción do PTXAS coas titulacións | C50: MC-05 Medición satisfacción | D50: Cubrir Meta e Resultado. A meta poderá estar entre os valores [1-5] Introducir o Grao de satisfacción do PTXAS coa titulación, que se atopa na folla "Titulación", na columna "Resultado" na fila de "Valoración Total" da titulación do informe do portal de transparencia. https://secretaria.uvigo.gal/uv/web/transparencia/grupo/show/5/28 No caso que no curso de referencia non houbera resultados, seleccionar o índice do curso pasado Os resultados son do curso 22-23 | E50: 7 | F50: 3 | G50: - | H50: =+IF(AND(ISBLANK(F50),ISBLANK(G50)),"Introducir Meta e Resultado",IF(ISBLANK(F50),"Introducir Meta",IF(ISBLANK(G50),"Introducir Resultado",IF(G50>=F50,"Meta Conseguida","Meta Non Conseguida")))) -> Meta Conseguida | J50: 3 | K50: 3.23 | L50: =+IF(AND(ISBLANK(J50),ISBLANK(K50)),"Introducir Meta e Resultado",IF(ISBLANK(J50),"Introducir Meta",IF(ISBLANK(K50),"Introducir Resultado",IF(K50>=J50,"Meta Conseguida","Meta Non Conseguida")))) -> Meta Conseguida | P50: =+IF(AND(ISBLANK(N50),ISBLANK(O50)),"Introducir Meta e Resultado",IF(ISBLANK(N50),"Introducir Meta",IF(ISBLANK(O50),"Introducir Resultado",IF(O50>=N50,"Meta Conseguida","Meta Non Conseguida")))) -> Introducir Meta e Resultado
A51: I20-5 | B51: Índice de satisfacción de entidades empregadoras coas titulacións | C51: MC-05 Medición satisfacción | D51: Cubrir Meta e Resultado. A meta poderá estar entre os valores [1-5] Introducir o Grao de satisfacción das entidades empregadoras coa titulación, que se atopa na folla "Titulación", na columna "Resultado" do informe achegado pola Área de Calidade. No caso que no curso de referencia non houbera resultados, seleccionar o índice do curso pasado Os resultados son do curso 23-24 | E51: 7 | F51: 3 | G51: -- | H51: =+IF(AND(ISBLANK(F51),ISBLANK(G51)),"Introducir Meta e Resultado",IF(ISBLANK(F51),"Introducir Meta",IF(ISBLANK(G51),"Introducir Resultado",IF(G51>=F51,"Meta Conseguida","Meta Non Conseguida")))) -> Meta Conseguida | J51: 3 | L51: =+IF(AND(ISBLANK(J51),ISBLANK(K51)),"Introducir Meta e Resultado",IF(ISBLANK(J51),"Introducir Meta",IF(ISBLANK(K51),"Introducir Resultado",IF(K51>=J51,"Meta Conseguida","Meta Non Conseguida")))) -> Introducir Resultado | P51: =+IF(AND(ISBLANK(N51),ISBLANK(O51)),"Introducir Meta e Resultado",IF(ISBLANK(N51),"Introducir Meta",IF(ISBLANK(O51),"Introducir Resultado",IF(O51>=N51,"Meta Conseguida","Meta Non Conseguida")))) -> Introducir Meta e Resultado
A52: I21 | B52: Taxa de abandono (Egreso) | C52: DE-02 Seguimento e Medición; DE-03 Revisión do sistema pola dirección | D52: Cubrir Meta e Resultado. O indicador acádase se o resultado é igual ou inferior á meta Elixir o documento excel do grao ou máster segundo o caso, do menú ABA. abandono https://secretaria.uvigo.gal/uv/web/transparencia/informe/show/5/51/65 Os resultados son do curso 23-24 | E52: 7 | F52: - | G52: 0.21052632 | H52: =+IF(AND(ISBLANK(F52),ISBLANK(G52)),"Indicador Sen Meta e Resultado",IF(ISBLANK(F52),"Indicador Sen Meta",IF(ISBLANK(G52),"Introducir Resultado",IF(G52<=F52,"Meta Conseguida","Meta Non Conseguida")))) -> Meta Conseguida | J52: 0.25 | K52: 0.3846 | L52: =+IF(AND(ISBLANK(J52),ISBLANK(K52)),"Indicador Sen Meta e Resultado",IF(ISBLANK(J52),"Indicador Sen Meta",IF(ISBLANK(K52),"Introducir Resultado",IF(K52<=J52,"Meta Conseguida","Meta Non Conseguida")))) -> Meta Non Conseguida | P52: =+IF(AND(ISBLANK(N52),ISBLANK(O52)),"Indicador Sen Meta e Resultado",IF(ISBLANK(N52),"Indicador Sen Meta",IF(ISBLANK(O52),"Introducir Resultado",IF(O52<=N52,"Meta Conseguida","Meta Non Conseguida")))) -> Indicador Sen Meta e Resultado
A53: I22 | B53: Taxa de cambio de estudo | C53: DE-02 Seguimento e Medición; DE-03 Revisión do sistema pola dirección | D53: Cubrir Meta e Resultado. O indicador acádase se o resultado é igual ou inferior á meta Elixir o documento excel do grao ou máster segundo o caso, do menú ABA. abandono https://secretaria.uvigo.gal/uv/web/transparencia/informe/show/5/51/65 Os resultados son do curso 23-24 | E53: 7 | F53: - | G53: 0 | H53: =+IF(AND(ISBLANK(F53),ISBLANK(G53)),"Indicador Sen Meta e Resultado",IF(ISBLANK(F53),"Indicador Sen Meta",IF(ISBLANK(G53),"Introducir Resultado",IF(G53<=F53,"Meta Conseguida","Meta Non Conseguida")))) -> Meta Conseguida | J53: 0.1 | K53: 0.1538 | L53: =+IF(AND(ISBLANK(J53),ISBLANK(K53)),"Indicador Sen Meta e Resultado",IF(ISBLANK(J53),"Indicador Sen Meta",IF(ISBLANK(K53),"Introducir Resultado",IF(K53<=J53,"Meta Conseguida","Meta Non Conseguida")))) -> Meta Non Conseguida | P53: =+IF(AND(ISBLANK(N53),ISBLANK(O53)),"Indicador Sen Meta e Resultado",IF(ISBLANK(N53),"Indicador Sen Meta",IF(ISBLANK(O53),"Introducir Resultado",IF(O53<=N53,"Meta Conseguida","Meta Non Conseguida")))) -> Indicador Sen Meta e Resultado
A54: I23 | B54: Índice de satisfacción cos recursos materiais e servizos | C54: IA-01: Xestión dos recursos materiais e dos servizos | D54: Nº dos obxectivos (I23-1, I23-2, I23-3 e I23-4) que se acadan | E54: 5 | F54: =+COUNTA(F55:F58) -> 4 | G54: =+COUNTIF(H55:H58,"Meta Conseguida") -> 4 | H54: =+IF((G54+F54)=0,"Introducir Meta e Resultado",IF(COUNTA(G55:G58)=0,"Indicador Sen Resultados",IF(F54=0,"Indicador Sen Meta",IF(G54=0,"Ningunha Meta Alcanzada",IF(G54>=F54,"Meta Totalmente Alcanzada",IF(G54>0,"Meta Parcialmente Alcanzada")))))) -> Meta Totalmente Alcanzada | J54: =+COUNTA(J55:J58) -> 4 | K54: =+COUNTIF(L55:L58,"Meta Conseguida") -> 4 | L54: =+IF((K54+J54)=0,"Introducir Meta e Resultado",IF(COUNTA(K55:K58)=0,"Indicador Sen Resultados",IF(J54=0,"Indicador Sen Meta",IF(K54=0,"Ningunha Meta Alcanzada",IF(K54>=J54,"Meta Totalmente Alcanzada",IF(K54>0,"Meta Parcialmente Alcanzada")))))) -> Meta Totalmente Alcanzada | N54: =+COUNTA(N55:N58) -> 0 | O54: =+COUNTIF(P55:P58,"Meta Conseguida") -> 0 | P54: =+IF((O54+N54)=0,"Introducir Meta e Resultado",IF(COUNTA(O55:O58)=0,"Indicador Sen Resultados",IF(N54=0,"Indicador Sen Meta",IF(O54=0,"Ningunha Meta Alcanzada",IF(O54>=N54,"Meta Totalmente Alcanzada",IF(O54>0,"Meta Parcialmente Alcanzada")))))) -> Introducir Meta e Resultado
A55: I23-1 | B55: Satisfacción do Estudantado cos recursos materiais e servizos | C55: IA-01: Xestión dos recursos materiais e dos servizos | D55: Cubrir Meta e Resultado. A meta poderá estar entre os valores [1-5] Introducir o valor que se atopa na folla de "Bloque", na columna "Resultado" na fila "Valoración Total" do "Bloque 5 Recursos materiais e servizos" da titulación do informe de "Enquisas de Satisfacción de estudantado" do portal de transparencia. https://secretaria.uvigo.gal/uv/web/transparencia/grupo/show/5/28 Os resultados son do curso 23-24 | E55: 5 | F55: 3 | G55: 3.75 | H55: =+IF(AND(ISBLANK(F55),ISBLANK(G55)),"Introducir Meta e Resultado",IF(ISBLANK(F55),"Introducir Meta",IF(ISBLANK(G55),"Introducir Resultado",IF(G55>=F55,"Meta Conseguida","Meta Non Conseguida")))) -> Meta Conseguida | J55: 3 | K55: 4.25 | L55: =+IF(AND(ISBLANK(J55),ISBLANK(K55)),"Introducir Meta e Resultado",IF(ISBLANK(J55),"Introducir Meta",IF(ISBLANK(K55),"Introducir Resultado",IF(K55>=J55,"Meta Conseguida","Meta Non Conseguida")))) -> Meta Conseguida | P55: =+IF(AND(ISBLANK(N55),ISBLANK(O55)),"Introducir Meta e Resultado",IF(ISBLANK(N55),"Introducir Meta",IF(ISBLANK(O55),"Introducir Resultado",IF(O55>=N55,"Meta Conseguida","Meta Non Conseguida")))) -> Introducir Meta e Resultado
A56: I23-2 | B56: Satisfacción do Profesorado cos recursos materiais e servizos | C56: IA-01: Xestión dos recursos materiais e dos servizos | D56: Cubrir Meta e Resultado. A meta poderá estar entre os valores [1-5] Introducir o valor que se atopa na folla de "Bloque", na columna "Resultado" na fila "Valoración Total" do "Bloque 5 Recursos materiais e servizos" da titulación do informe de "Enquisas de Satisfacción do Profesorado" do portal de transparencia. https://secretaria.uvigo.gal/uv/web/transparencia/grupo/show/5/28 No caso que no curso de referencia non houbera resultados, seleccionar o índice do curso pasado Os resultados son do curso 22-23 | E56: 5 | F56: 3 | G56: - | H56: =+IF(AND(ISBLANK(F56),ISBLANK(G56)),"Introducir Meta e Resultado",IF(ISBLANK(F56),"Introducir Meta",IF(ISBLANK(G56),"Introducir Resultado",IF(G56>=F56,"Meta Conseguida","Meta Non Conseguida")))) -> Meta Conseguida | J56: 3 | K56: 4.43 | L56: =+IF(AND(ISBLANK(J56),ISBLANK(K56)),"Introducir Meta e Resultado",IF(ISBLANK(J56),"Introducir Meta",IF(ISBLANK(K56),"Introducir Resultado",IF(K56>=J56,"Meta Conseguida","Meta Non Conseguida")))) -> Meta Conseguida | P56: =+IF(AND(ISBLANK(N56),ISBLANK(O56)),"Introducir Meta e Resultado",IF(ISBLANK(N56),"Introducir Meta",IF(ISBLANK(O56),"Introducir Resultado",IF(O56>=N56,"Meta Conseguida","Meta Non Conseguida")))) -> Introducir Meta e Resultado
A57: I23-3 | B57: Satisfacción das Persoas tituladas cos recursos materiais e servizos | C57: IA-01: Xestión dos recursos materiais e dos servizos | D57: Cubrir Meta e Resultado. A meta poderá estar entre os valores [1-5] Introducir o valor que se atopa na folla de "Bloque", na columna "Resultado" na fila "Valoración Total" do "Bloque 5 Recursos materiais e servizos" da titulación do informe de "Enquisas de Satisfacción dos/das egresados/as " do portal de transparencia. https://secretaria.uvigo.gal/uv/web/transparencia/grupo/show/5/28 Os resultados son do curso 23-24 | E57: 5 | F57: 3 | G57: 4.33 | H57: =+IF(AND(ISBLANK(F57),ISBLANK(G57)),"Introducir Meta e Resultado",IF(ISBLANK(F57),"Introducir Meta",IF(ISBLANK(G57),"Introducir Resultado",IF(G57>=F57,"Meta Conseguida","Meta Non Conseguida")))) -> Meta Conseguida | J57: 3 | K57: 4.33 | L57: =+IF(AND(ISBLANK(J57),ISBLANK(K57)),"Introducir Meta e Resultado",IF(ISBLANK(J57),"Introducir Meta",IF(ISBLANK(K57),"Introducir Resultado",IF(K57>=J57,"Meta Conseguida","Meta Non Conseguida")))) -> Meta Conseguida | P57: =+IF(AND(ISBLANK(N57),ISBLANK(O57)),"Introducir Meta e Resultado",IF(ISBLANK(N57),"Introducir Meta",IF(ISBLANK(O57),"Introducir Resultado",IF(O57>=N57,"Meta Conseguida","Meta Non Conseguida")))) -> Introducir Meta e Resultado
A58: I23-4 | B58: Satisfacción do PTXAS cos recursos materiais e servizos | C58: IA-01: Xestión dos recursos materiais e dos servizos | D58: Cubrir Meta e Resultado. A meta poderá estar entre os valores [1-5] Introducir o valor que se atopa na folla de "Bloque", na columna "Resultado" na fila "Valoración Total" do "Bloque 4 Recursos materiais e servizos" da titulación do informe de "Enquisas de Satisfacción do PTXAS" do portal de transparencia. https://secretaria.uvigo.gal/uv/web/transparencia/grupo/show/5/28 No caso que no curso de referencia non houbera resultados, seleccionar o índice do curso pasado Os resultados son do curso 22-23 | E58: 5 | F58: 3 | G58: - | H58: =+IF(AND(ISBLANK(F58),ISBLANK(G58)),"Introducir Meta e Resultado",IF(ISBLANK(F58),"Introducir Meta",IF(ISBLANK(G58),"Introducir Resultado",IF(G58>=F58,"Meta Conseguida","Meta Non Conseguida")))) -> Meta Conseguida | J58: 3 | K58: 3.86 | L58: =+IF(AND(ISBLANK(J58),ISBLANK(K58)),"Introducir Meta e Resultado",IF(ISBLANK(J58),"Introducir Meta",IF(ISBLANK(K58),"Introducir Resultado",IF(K58>=J58,"Meta Conseguida","Meta Non Conseguida")))) -> Meta Conseguida | P58: =+IF(AND(ISBLANK(N58),ISBLANK(O58)),"Introducir Meta e Resultado",IF(ISBLANK(N58),"Introducir Meta",IF(ISBLANK(O58),"Introducir Resultado",IF(O58>=N58,"Meta Conseguida","Meta Non Conseguida")))) -> Introducir Meta e Resultado
A59: I24 | B59: Índice de satisfacción coa orientación recibida no centro | C59: DO-0203: Orientación do estudantado e atención ás NEAE | D59: Nº dos obxectivos (I24-1, I24-2, I24-3 e I24-4) que se acadan | E59: 5 | F59: =+COUNTA(F60:F63) -> 4 | G59: =+COUNTIF(H60:H63,"Meta Conseguida") -> 4 | H59: =+IF((G59+F59)=0,"Introducir Meta e Resultado",IF(COUNTA(G60:G63)=0,"Indicador Sen Resultados",IF(F59=0,"Indicador Sen Meta",IF(G59=0,"Ningunha Meta Alcanzada",IF(G59>=F59,"Meta Totalmente Alcanzada",IF(G59>0,"Meta Parcialmente Alcanzada")))))) -> Meta Totalmente Alcanzada | J59: =+COUNTA(J60:J63) -> 4 | K59: =+COUNTIF(L60:L63,"Meta Conseguida") -> 3 | L59: =+IF((K59+J59)=0,"Introducir Meta e Resultado",IF(COUNTA(K60:K63)=0,"Indicador Sen Resultados",IF(J59=0,"Indicador Sen Meta",IF(K59=0,"Ningunha Meta Alcanzada",IF(K59>=J59,"Meta Totalmente Alcanzada",IF(K59>0,"Meta Parcialmente Alcanzada")))))) -> Meta Parcialmente Alcanzada | N59: =+COUNTA(N60:N63) -> 0 | O59: =+COUNTIF(P60:P63,"Meta Conseguida") -> 0 | P59: =+IF((O59+N59)=0,"Introducir Meta e Resultado",IF(COUNTA(O60:O63)=0,"Indicador Sen Resultados",IF(N59=0,"Indicador Sen Meta",IF(O59=0,"Ningunha Meta Alcanzada",IF(O59>=N59,"Meta Totalmente Alcanzada",IF(O59>0,"Meta Parcialmente Alcanzada")))))) -> Introducir Meta e Resultado
A60: I24-1 | B60: Satisfacción do Estudantado coa orientación recibida no centro | C60: DO-0203: Orientación do estudantado e atención ás NEAE | D60: Cubrir Meta e Resultado. A meta poderá estar entre os valores [1-5] Introducir o Valor que se atopa na folla "Preguntas", na columna "Resultado" na fila "Valoración Total" da pregunta Nº 6 "Orientación académica recibida no PAT"do informe "Enquisas de Satisfacción de estudantado", do portal de transparencia. https://secretaria.uvigo.gal/uv/web/transparencia/grupo/show/5/28 Os resultados son do curso 23-24 | E60: 5 | F60: 3 | G60: 3.5 | H60: =+IF(AND(ISBLANK(F60),ISBLANK(G60)),"Introducir Meta e Resultado",IF(ISBLANK(F60),"Introducir Meta",IF(ISBLANK(G60),"Introducir Resultado",IF(G60>=F60,"Meta Conseguida","Meta Non Conseguida")))) -> Meta Conseguida | J60: 3 | K60: 2 | L60: =+IF(AND(ISBLANK(J60),ISBLANK(K60)),"Introducir Meta e Resultado",IF(ISBLANK(J60),"Introducir Meta",IF(ISBLANK(K60),"Introducir Resultado",IF(K60>=J60,"Meta Conseguida","Meta Non Conseguida")))) -> Meta Non Conseguida | P60: =+IF(AND(ISBLANK(N60),ISBLANK(O60)),"Introducir Meta e Resultado",IF(ISBLANK(N60),"Introducir Meta",IF(ISBLANK(O60),"Introducir Resultado",IF(O60>=N60,"Meta Conseguida","Meta Non Conseguida")))) -> Introducir Meta e Resultado
A61: I24-2 | B61: Satisfacción do Profesorado coa orientación académica recibida no centro | C61: DO-0203: Orientación do estudantado e atención ás NEAE | D61: Cubrir Meta e Resultado. A meta poderá estar entre os valores [1-5] Introducir o Valor que se atopa na folla "Preguntas", na columna "Resultado" na fila "Valoración Total" da pregunta Nº 6 "Orientación académica programada no PAT"do informe "Enquisas de Satisfacción de profesorado do portal de transparencia. https://secretaria.uvigo.gal/uv/web/transparencia/grupo/show/5/28 Os resultados son do curso 22-23 | E61: 5 | F61: 3 | G61: - | H61: =+IF(AND(ISBLANK(F61),ISBLANK(G61)),"Introducir Meta e Resultado",IF(ISBLANK(F61),"Introducir Meta",IF(ISBLANK(G61),"Introducir Resultado",IF(G61>=F61,"Meta Conseguida","Meta Non Conseguida")))) -> Meta Conseguida | J61: 3 | K61: 4.43 | L61: =+IF(AND(ISBLANK(J61),ISBLANK(K61)),"Introducir Meta e Resultado",IF(ISBLANK(J61),"Introducir Meta",IF(ISBLANK(K61),"Introducir Resultado",IF(K61>=J61,"Meta Conseguida","Meta Non Conseguida")))) -> Meta Conseguida | P61: =+IF(AND(ISBLANK(N61),ISBLANK(O61)),"Introducir Meta e Resultado",IF(ISBLANK(N61),"Introducir Meta",IF(ISBLANK(O61),"Introducir Resultado",IF(O61>=N61,"Meta Conseguida","Meta Non Conseguida")))) -> Introducir Meta e Resultado
A62: I24-3 | B62: Satisfacción das Persoas tituladas coa orientación académica recibida no centro | C62: DO-0203: Orientación do estudantado e atención ás NEAE | D62: Cubrir Meta e Resultado. A meta poderá estar entre os valores [1-5] Introducir o valor que se atopa na folla "Preguntas", na columna "Resultado" nas filas "Valoración Total da pregunta Nº4 "Orientación académica recibida" do informe "Enquisas de Satisfacción dos/das egresados/as", do portal de transparencia. https://secretaria.uvigo.gal/uv/web/transparencia/grupo/show/5/28 Os resultados son do curso 23-24 | E62: 5 | F62: 3 | G62: 4.5 | H62: =+IF(AND(ISBLANK(F62),ISBLANK(G62)),"Introducir Meta e Resultado",IF(ISBLANK(F62),"Introducir Meta",IF(ISBLANK(G62),"Introducir Resultado",IF(G62>=F62,"Meta Conseguida","Meta Non Conseguida")))) -> Meta Conseguida | J62: 3 | K62: 4.67 | L62: =+IF(AND(ISBLANK(J62),ISBLANK(K62)),"Introducir Meta e Resultado",IF(ISBLANK(J62),"Introducir Meta",IF(ISBLANK(K62),"Introducir Resultado",IF(K62>=J62,"Meta Conseguida","Meta Non Conseguida")))) -> Meta Conseguida | P62: =+IF(AND(ISBLANK(N62),ISBLANK(O62)),"Introducir Meta e Resultado",IF(ISBLANK(N62),"Introducir Meta",IF(ISBLANK(O62),"Introducir Resultado",IF(O62>=N62,"Meta Conseguida","Meta Non Conseguida")))) -> Introducir Meta e Resultado
A63: I24-4 | B63: Satisfacción das Persoas tituladas coa orientación profesional e laboral recibida no centro | C63: DO-0203: Orientación do estudantado e atención ás NEAE | D63: Cubrir Meta e Resultado Introducir o valor que se atopa na folla "Preguntas", na columna "Resultado" nas filas "Valoración Total da pregunta Nº5 "Orientación profesional e laboral recibida", do informe "Enquisas de Satisfacción dos/das egresados/as", do portal de transparencia" https://secretaria.uvigo.gal/uv/web/transparencia/grupo/show/5/28 Os resultados son do curso 23-24 | E63: 5 | F63: 3 | G63: 4.5 | H63: =+IF(AND(ISBLANK(F63),ISBLANK(G63)),"Introducir Meta e Resultado",IF(ISBLANK(F63),"Introducir Meta",IF(ISBLANK(G63),"Introducir Resultado",IF(G63>=F63,"Meta Conseguida","Meta Non Conseguida")))) -> Meta Conseguida | J63: 3 | K63: 4 | L63: =+IF(AND(ISBLANK(J63),ISBLANK(K63)),"Introducir Meta e Resultado",IF(ISBLANK(J63),"Introducir Meta",IF(ISBLANK(K63),"Introducir Resultado",IF(K63>=J63,"Meta Conseguida","Meta Non Conseguida")))) -> Meta Conseguida | P63: =+IF(AND(ISBLANK(N63),ISBLANK(O63)),"Introducir Meta e Resultado",IF(ISBLANK(N63),"Introducir Meta",IF(ISBLANK(O63),"Introducir Resultado",IF(O63>=N63,"Meta Conseguida","Meta Non Conseguida")))) -> Introducir Meta e Resultado
A64: I25 | B64: % Alumnado en prácticas académicas | C64: DO-0204: Xestión das prácticas académicas | D64: Cubrir Meta e Resultado Esta porcentaxe é o estudantado que realiza prácticas sobre o total do estudantado que está matriculado na titulación, non sobre o estudantado que pode realizar prácticas. Elixir "% estudantes en prácticas sobre matrícula" da titulación, na folla "total_Centro_titulación" do documento "prácticas" https://secretaria.uvigo.gal/uv/web/transparencia/informe/show/5/5/9 | E64: 5 | F64: - | G64: 0.1 | H64: =+IF(AND(ISBLANK(F64),ISBLANK(G64)),"Introducir Meta e Resultado",IF(ISBLANK(F64),"Indicador sen Meta",IF(ISBLANK(G64),"Introducir Resultado",IF(G64>=F64,"Meta Conseguida","Meta Non Conseguida")))) -> Meta Non Conseguida | J64: 0.03 | K64: 0.02 | L64: =+IF(AND(ISBLANK(J64),ISBLANK(K64)),"Introducir Meta e Resultado",IF(ISBLANK(J64),"Indicador sen Meta",IF(ISBLANK(K64),"Introducir Resultado",IF(K64>=J64,"Meta Conseguida","Meta Non Conseguida")))) -> Meta Non Conseguida | P64: =+IF(AND(ISBLANK(N64),ISBLANK(O64)),"Introducir Meta e Resultado",IF(ISBLANK(N64),"Indicador sen Meta",IF(ISBLANK(O64),"Introducir Resultado",IF(O64>=N64,"Meta Conseguida","Meta Non Conseguida")))) -> Introducir Meta e Resultado
A65: I26 | B65: Índice de satisfacción coa promoción da titulación e a información pública na web | C65: DO-0301 Información Pública | D65: Nº dos obxectivos (I26-1, I26-2, I26-3 e I26-4) que se acadan | E65: 2 | F65: =+COUNTA(F66:F69) -> 4 | G65: =+COUNTIF(H66:H69,"Meta Conseguida") -> 4 | H65: =+IF((G65+F65)=0,"Introducir Meta e Resultado",IF(COUNTA(G66:G69)=0,"Indicador Sen Resultados",IF(F65=0,"Indicador Sen Meta",IF(G65=0,"Ningunha Meta Alcanzada",IF(G65>=F65,"Meta Totalmente Alcanzada",IF(G65>0,"Meta Parcialmente Alcanzada")))))) -> Meta Totalmente Alcanzada | J65: =+COUNTA(J66:J69) -> 4 | K65: =+COUNTIF(L66:L69,"Meta Conseguida") -> 4 | L65: =+IF((K65+J65)=0,"Introducir Meta e Resultado",IF(COUNTA(K66:K69)=0,"Indicador Sen Resultados",IF(J65=0,"Indicador Sen Meta",IF(K65=0,"Ningunha Meta Alcanzada",IF(K65>=J65,"Meta Totalmente Alcanzada",IF(K65>0,"Meta Parcialmente Alcanzada")))))) -> Meta Totalmente Alcanzada | N65: =+COUNTA(N66:N69) -> 0 | O65: =+COUNTIF(P66:P69,"Meta Conseguida") -> 0 | P65: =+IF((O65+N65)=0,"Introducir Meta e Resultado",IF(COUNTA(O66:O69)=0,"Indicador Sen Resultados",IF(N65=0,"Indicador Sen Meta",IF(O65=0,"Ningunha Meta Alcanzada",IF(O65>=N65,"Meta Totalmente Alcanzada",IF(O65>0,"Meta Parcialmente Alcanzada")))))) -> Introducir Meta e Resultado
A66: I26-1 | B66: Satisfacción do Estudantado coa promoción da titulación e a información pública na web | C66: DO-0301 Información Pública | D66: Cubrir Meta e Resultado. A meta poderá estar entre os valores [1-5] Indicar o Valor que se atopa na folla de "Bloque", na columna "Resultado" na fila "Valoración Total" do "Bloque 2 Información e Transparencia" da titulación correspondente do informe de "Enquisas de Satisfacción de estudantado" do portal de transparencia. https://secretaria.uvigo.gal/uv/web/transparencia/grupo/show/5/28 Os resultados son do curso 23-24 | E66: 2 | F66: 3 | G66: 3.3333333 | H66: =+IF(AND(ISBLANK(F66),ISBLANK(G66)),"Introducir Meta e Resultado",IF(ISBLANK(F66),"Introducir Meta",IF(ISBLANK(G66),"Introducir Resultado",IF(G66>=F66,"Meta Conseguida","Meta Non Conseguida")))) -> Meta Conseguida | J66: 3 | K66: 3.17 | L66: =+IF(AND(ISBLANK(J66),ISBLANK(K66)),"Introducir Meta e Resultado",IF(ISBLANK(J66),"Introducir Meta",IF(ISBLANK(K66),"Introducir Resultado",IF(K66>=J66,"Meta Conseguida","Meta Non Conseguida")))) -> Meta Conseguida | P66: =+IF(AND(ISBLANK(N66),ISBLANK(O66)),"Introducir Meta e Resultado",IF(ISBLANK(N66),"Introducir Meta",IF(ISBLANK(O66),"Introducir Resultado",IF(O66>=N66,"Meta Conseguida","Meta Non Conseguida")))) -> Introducir Meta e Resultado
A67: I26-2 | B67: Satisfacción do Profesorado coa promoción da titulación e a información pública na web | C67: DO-0301 Información Pública | D67: Cubrir Meta e Resultado. A meta poderá estar entre os valores [1-5] Indicar o Valor que se atopa na folla de "Bloque", na columna "Resultado" na fila "Valoración Total" do "Bloque 2 Información e Transparencia" da titulación correspondente do informe de "Enquisas de Satisfacción do Profesorado" do portal de transparencia. https://secretaria.uvigo.gal/uv/web/transparencia/grupo/show/5/28 No caso que no curso de referencia non houbera resultados, seleccionar o índice do curso pasado Os resultados son do curso 22-23 | E67: 2 | F67: 3 | G67: - | H67: =+IF(AND(ISBLANK(F67),ISBLANK(G67)),"Introducir Meta e Resultado",IF(ISBLANK(F67),"Introducir Meta",IF(ISBLANK(G67),"Introducir Resultado",IF(G67>=F67,"Meta Conseguida","Meta Non Conseguida")))) -> Meta Conseguida | J67: 3 | K67: 4.36 | L67: =+IF(AND(ISBLANK(J67),ISBLANK(K67)),"Introducir Meta e Resultado",IF(ISBLANK(J67),"Introducir Meta",IF(ISBLANK(K67),"Introducir Resultado",IF(K67>=J67,"Meta Conseguida","Meta Non Conseguida")))) -> Meta Conseguida | P67: =+IF(AND(ISBLANK(N67),ISBLANK(O67)),"Introducir Meta e Resultado",IF(ISBLANK(N67),"Introducir Meta",IF(ISBLANK(O67),"Introducir Resultado",IF(O67>=N67,"Meta Conseguida","Meta Non Conseguida")))) -> Introducir Meta e Resultado
A68: I26-3 | B68: Satisfacción das Persoas tituladas coa promoción da titulación e a información pública na web | C68: DO-0301 Información Pública | D68: Cubrir Meta e Resultado. A meta poderá estar entre os valores [1-5] Indicar o Valor que se atopa na folla de "Bloque", na columna "Resultado" na fila "Valoración Total" do "Bloque 2 Información e Transparencia" da titulación correspondente do informe de "Enquisas de Satisfacción dos/das egresados/as " do portal de transparencia. https://secretaria.uvigo.gal/uv/web/transparencia/grupo/show/5/28 Os resultados son do curso 23-24 | E68: 2 | F68: 3 | G68: 3.42 | H68: =+IF(AND(ISBLANK(F68),ISBLANK(G68)),"Introducir Meta e Resultado",IF(ISBLANK(F68),"Introducir Meta",IF(ISBLANK(G68),"Introducir Resultado",IF(G68>=F68,"Meta Conseguida","Meta Non Conseguida")))) -> Meta Conseguida | J68: 3 | K68: 3.83 | L68: =+IF(AND(ISBLANK(J68),ISBLANK(K68)),"Introducir Meta e Resultado",IF(ISBLANK(J68),"Introducir Meta",IF(ISBLANK(K68),"Introducir Resultado",IF(K68>=J68,"Meta Conseguida","Meta Non Conseguida")))) -> Meta Conseguida | P68: =+IF(AND(ISBLANK(N68),ISBLANK(O68)),"Introducir Meta e Resultado",IF(ISBLANK(N68),"Introducir Meta",IF(ISBLANK(O68),"Introducir Resultado",IF(O68>=N68,"Meta Conseguida","Meta Non Conseguida")))) -> Introducir Meta e Resultado
A69: I26-4 | B69: Satisfacción do PTXAS coa promoción da titulación e a información pública na web | C69: DO-0301 Información Pública | D69: Cubrir Meta e Resultado. A meta poderá estar entre os valores [1-5] Indicar o Valor que se atopa na folla de "Bloque", na columna "Resultado" na fila "Valoración Total" do "Bloque 1 Información Xeral" da titulación do informe de "Enquisas de Satisfacción do PAS" do portal de transparencia. https://secretaria.uvigo.gal/uv/web/transparencia/grupo/show/5/28 No caso que no curso de referencia non houbera resultados, seleccionar o índice do curso pasado Os resultados son do curso 22-23 | E69: 2 | F69: 3 | G69: - | H69: =+IF(AND(ISBLANK(F69),ISBLANK(G69)),"Introducir Meta e Resultado",IF(ISBLANK(F69),"Introducir Meta",IF(ISBLANK(G69),"Introducir Resultado",IF(G69>=F69,"Meta Conseguida","Meta Non Conseguida")))) -> Meta Conseguida | J69: 3 | K69: 3.05 | L69: =+IF(AND(ISBLANK(J69),ISBLANK(K69)),"Introducir Meta e Resultado",IF(ISBLANK(J69),"Introducir Meta",IF(ISBLANK(K69),"Introducir Resultado",IF(K69>=J69,"Meta Conseguida","Meta Non Conseguida")))) -> Meta Conseguida | P69: =+IF(AND(ISBLANK(N69),ISBLANK(O69)),"Introducir Meta e Resultado",IF(ISBLANK(N69),"Introducir Meta",IF(ISBLANK(O69),"Introducir Resultado",IF(O69>=N69,"Meta Conseguida","Meta Non Conseguida")))) -> Introducir Meta e Resultado
A70: I34 | B70: Nº Accións de mellora definidas neste curso | C70: DO-0102: Seguimento e mellora das titulacións | D70: Só cubrir o Resultado, é un indicador informativo Nº de melloras rexistradas asociadas á titulación na aplicación SGIC neste curso | E70: 3 | F70: ---- | G70: 1 | H70: =+IF(ISBLANK(G70),"Introducir Resultado","Indicador Completado") -> Indicador Completado | J70: ---- | L70: =+IF(ISBLANK(K70),"Introducir Resultado","Indicador Completado") -> Introducir Resultado | N70: ---- | P70: =+IF(ISBLANK(O70),"Introducir Resultado","Indicador Completado") -> Introducir Resultado
A71: I35 | B71: Nota media do acceso | C71: DO-0202 Promoción das titulacións | D71: Cubrir Meta e Resultado Escoller o documento de Nota Media dos graos ou másters segundo o caso: https://secretaria.uvigo.gal/uv/web/transparencia/informe/show/5/51/63 Posteriormente elixir a columna "Nota media de acceso" da fila "Título de Bacharelato do Sistema Educativo Español" da titulación. Son os resultados do curso 23-24 | E71: 7 | F71: 6 | G71: 8.1364444 | H71: =+IF(AND(ISBLANK(F71),ISBLANK(G71)),"Introducir Meta e Resultado",IF(ISBLANK(F71),"Indicador sen Meta",IF(ISBLANK(G71),"Introducir Resultado",IF(G71>=F71,"Meta Conseguida","Meta Non Conseguida")))) -> Meta Conseguida | J71: 3 | K71: 8.31 | L71: =+IF(AND(ISBLANK(J71),ISBLANK(K71)),"Introducir Meta e Resultado",IF(ISBLANK(J71),"Indicador sen Meta",IF(ISBLANK(K71),"Introducir Resultado",IF(K71>=J71,"Meta Conseguida","Meta Non Conseguida")))) -> Meta Conseguida | P71: =+IF(AND(ISBLANK(N71),ISBLANK(O71)),"Introducir Meta e Resultado",IF(ISBLANK(N71),"Indicador sen Meta",IF(ISBLANK(O71),"Introducir Resultado",IF(O71>=N71,"Meta Conseguida","Meta Non Conseguida")))) -> Introducir Meta e Resultado
A72: I36 | B72: Nº Estudantado titorizado | C72: DO-0203: Orientación do estudantado e atención ás NEAE | D72: Só cubrir o Resultado, é un indicador informativo Nº de estudantado incluído no PAT | E72: 5 | F72: ---- | G72: 2 | H72: =+IF(ISBLANK(G72),"Introducir Resultado","Indicador Completado") -> Indicador Completado | J72: ---- | K72: 90 | L72: =+IF(ISBLANK(K72),"Introducir Resultado","Indicador Completado") -> Indicador Completado | N72: ---- | P72: =+IF(ISBLANK(O72),"Introducir Resultado","Indicador Completado") -> Introducir Resultado
A73: I37 | B73: Grao de Satisfacción do estudantado co PAT | C73: DO-0203: Orientación do estudantado e atención ás NEAE | D73: Cubrir Meta e Resultado. Introducir o Grao de satisfacción do estudantado co PAT, mediante unha enquisa de realización propia. No caso de utilizar a enquisa do Anexo IV-A da "Guía para a elaboración do PAT", incluiríase o valor do ítem 4 " Valore o grao de utilidade do PAT" | E73: 5 | F73: 3 | G73: 3.5 | H73: =+IF(AND(ISBLANK(F73),ISBLANK(G73)),"Introducir Meta e Resultado",IF(ISBLANK(F73),"Indicador sen Meta",IF(ISBLANK(G73),"Introducir Resultado",IF(G73>=F73,"Meta Conseguida","Meta Non Conseguida")))) -> Meta Conseguida | J73: 3 | L73: =+IF(AND(ISBLANK(J73),ISBLANK(K73)),"Introducir Meta e Resultado",IF(ISBLANK(J73),"Indicador sen Meta",IF(ISBLANK(K73),"Introducir Resultado",IF(K73>=J73,"Meta Conseguida","Meta Non Conseguida")))) -> Introducir Resultado | P73: =+IF(AND(ISBLANK(N73),ISBLANK(O73)),"Introducir Meta e Resultado",IF(ISBLANK(N73),"Indicador sen Meta",IF(ISBLANK(O73),"Introducir Resultado",IF(O73>=N73,"Meta Conseguida","Meta Non Conseguida")))) -> Introducir Meta e Resultado
A74: I38 | B74: Grao de satisfacción das Persoas Tituladas coas Prácticas | C74: DO-0204: Xestión das prácticas académicas | D74: Cubrir Meta e Resultado. A meta poderá estar entre os valores [1-5] Indicar o Valor que se atopa na Folla de "Bloque", na columna "Resultado" na fila "Valoración Total" do "Bloque 7 Prácticas Externas" da titulación correspondente do informe de "Enquisas de satisfacción de egresados/as" do portal de transparencia https://secretaria.uvigo.gal/uv/web/transparencia/grupo/show/5/28 Son os resultados do curso 23-24 | E74: 5 | F74: 3 | G74: 3.6666667 | H74: =+IF(AND(ISBLANK(F74),ISBLANK(G74)),"Introducir Meta e Resultado",IF(ISBLANK(F74),"Indicador Sen Meta",IF(ISBLANK(G74),"Introducir Resultado",IF(G74>=F74,"Meta Conseguida","Meta Non Conseguida")))) -> Meta Conseguida | K74: --- | L74: =+IF(AND(ISBLANK(J74),ISBLANK(K74)),"Introducir Meta e Resultado",IF(ISBLANK(J74),"Indicador Sen Meta",IF(ISBLANK(K74),"Introducir Resultado",IF(K74>=J74,"Meta Conseguida","Meta Non Conseguida")))) -> Indicador Sen Meta | P74: =+IF(AND(ISBLANK(N74),ISBLANK(O74)),"Introducir Meta e Resultado",IF(ISBLANK(N74),"Indicador Sen Meta",IF(ISBLANK(O74),"Introducir Resultado",IF(O74>=N74,"Meta Conseguida","Meta Non Conseguida")))) -> Introducir Meta e Resultado
A75: I39 | B75: Grao de satisfacción cos RRHH | C75: PE-01 Xestión do PAS | D75: Nº dos obxectivos (I39-1, I39-2, I39-3 e I39-4) que se acadan | E75: 4 | F75: =+COUNTA(F76:F79) -> 4 | G75: =+COUNTIF(H76:H79,"Meta Conseguida") -> 4 | H75: =+IF((G75+F75)=0,"Introducir Meta e Resultado",IF(COUNTA(G76:G79)=0,"Indicador Sen Resultados",IF(F75=0,"Indicador Sen Meta",IF(G75=0,"Ningunha Meta Alcanzada",IF(G75>=F75,"Meta Totalmente Alcanzada",IF(G75>0,"Meta Parcialmente Alcanzada")))))) -> Meta Totalmente Alcanzada | J75: =+COUNTA(J76:J79) -> 4 | K75: =+COUNTIF(L76:L79,"Meta Conseguida") -> 3 | L75: =+IF((K75+J75)=0,"Introducir Meta e Resultado",IF(COUNTA(K76:K79)=0,"Indicador Sen Resultados",IF(J75=0,"Indicador Sen Meta",IF(K75=0,"Ningunha Meta Alcanzada",IF(K75>=J75,"Meta Totalmente Alcanzada",IF(K75>0,"Meta Parcialmente Alcanzada")))))) -> Meta Parcialmente Alcanzada | N75: =+COUNTA(N76:N79) -> 0 | O75: =+COUNTIF(P76:P79,"Meta Conseguida") -> 0 | P75: =+IF((O75+N75)=0,"Introducir Meta e Resultado",IF(COUNTA(O76:O79)=0,"Indicador Sen Resultados",IF(N75=0,"Indicador Sen Meta",IF(O75=0,"Ningunha Meta Alcanzada",IF(O75>=N75,"Meta Totalmente Alcanzada",IF(O75>0,"Meta Parcialmente Alcanzada")))))) -> Introducir Meta e Resultado
A76: I39-1 | B76: Satisfacción do Estudantado cos RRHH da titulación | C76: PE-01 Xestión do PAS | D76: Cubrir Meta e Resultado. A meta poderá estar entre os valores [1-5] Introducir o Valor que se atopa na folla de "Bloque", na columna "Resultado" na fila "Valoración Total" do "Bloque 4 Recursos Humanos" da titulación de "Enquisas de Satisfacción de estudantado" do portal de transparencia. https://secretaria.uvigo.gal/uv/web/transparencia/grupo/show/5/28 Os resultados son do curso 23-24 | E76: 4 | F76: 3 | G76: 4.5 | H76: =+IF(AND(ISBLANK(F76),ISBLANK(G76)),"Introducir Meta e Resultado",IF(ISBLANK(F76),"Introducir Meta",IF(ISBLANK(G76),"Introducir Resultado",IF(G76>=F76,"Meta Conseguida","Meta Non Conseguida")))) -> Meta Conseguida | J76: 3 | K76: 4 | L76: =+IF(AND(ISBLANK(J76),ISBLANK(K76)),"Introducir Meta e Resultado",IF(ISBLANK(J76),"Introducir Meta",IF(ISBLANK(K76),"Introducir Resultado",IF(K76>=J76,"Meta Conseguida","Meta Non Conseguida")))) -> Meta Conseguida | P76: =+IF(AND(ISBLANK(N76),ISBLANK(O76)),"Introducir Meta e Resultado",IF(ISBLANK(N76),"Introducir Meta",IF(ISBLANK(O76),"Introducir Resultado",IF(O76>=N76,"Meta Conseguida","Meta Non Conseguida")))) -> Introducir Meta e Resultado
A77: I39-2 | B77: Satisfacción do Profesorado cos RRHH da titulación | C77: PE-01 Xestión do PAS | D77: Cubrir Meta e Resultado. A meta poderá estar entre os valores [1-5] Introducir o valor que se atopa na folla de "Bloque", na columna "Resultado" na fila "Valoración Total" do "Bloque 4 Recursos Humanos" da titulación de "Enquisas de Satisfacción do Profesorado" do portal de transparencia. https://secretaria.uvigo.gal/uv/web/transparencia/grupo/show/5/28 Os resultados son do curso 22-23 | E77: 4 | F77: 3 | G77: - | H77: =+IF(AND(ISBLANK(F77),ISBLANK(G77)),"Introducir Meta e Resultado",IF(ISBLANK(F77),"Introducir Meta",IF(ISBLANK(G77),"Introducir Resultado",IF(G77>=F77,"Meta Conseguida","Meta Non Conseguida")))) -> Meta Conseguida | J77: 3 | K77: 4.09 | L77: =+IF(AND(ISBLANK(J77),ISBLANK(K77)),"Introducir Meta e Resultado",IF(ISBLANK(J77),"Introducir Meta",IF(ISBLANK(K77),"Introducir Resultado",IF(K77>=J77,"Meta Conseguida","Meta Non Conseguida")))) -> Meta Conseguida | P77: =+IF(AND(ISBLANK(N77),ISBLANK(O77)),"Introducir Meta e Resultado",IF(ISBLANK(N77),"Introducir Meta",IF(ISBLANK(O77),"Introducir Resultado",IF(O77>=N77,"Meta Conseguida","Meta Non Conseguida")))) -> Introducir Meta e Resultado
A78: I39-3 | B78: Satisfacción das Persoas tituladas cos RRHH da titulación | C78: PE-01 Xestión do PAS | D78: Cubrir Meta e Resultado. A meta poderá estar entre os valores [1-5] Introducir o valor que se atopa na folla de "Bloque", na columna "Resultado" na fila "Valoración Total" do "Bloque 4 Recursos Humanos" da titulación de "Enquisas de Satisfacción dos/das egresados/as " do portal de transparencia. https://secretaria.uvigo.gal/uv/web/transparencia/grupo/show/5/28 Os resultados son do curso 23-24 | E78: 4 | F78: 3 | G78: 4.12 | H78: =+IF(AND(ISBLANK(F78),ISBLANK(G78)),"Introducir Meta e Resultado",IF(ISBLANK(F78),"Introducir Meta",IF(ISBLANK(G78),"Introducir Resultado",IF(G78>=F78,"Meta Conseguida","Meta Non Conseguida")))) -> Meta Conseguida | J78: 3 | K78: 4.17 | L78: =+IF(AND(ISBLANK(J78),ISBLANK(K78)),"Introducir Meta e Resultado",IF(ISBLANK(J78),"Introducir Meta",IF(ISBLANK(K78),"Introducir Resultado",IF(K78>=J78,"Meta Conseguida","Meta Non Conseguida")))) -> Meta Conseguida | P78: =+IF(AND(ISBLANK(N78),ISBLANK(O78)),"Introducir Meta e Resultado",IF(ISBLANK(N78),"Introducir Meta",IF(ISBLANK(O78),"Introducir Resultado",IF(O78>=N78,"Meta Conseguida","Meta Non Conseguida")))) -> Introducir Meta e Resultado
A79: I39-4 | B79: Satisfacción do PTXAS cos RRHH da titulación | C79: PE-01 Xestión do PAS | D79: Cubrir Meta e Resultado. A meta poderá estar entre os valores [1-5] Introducir o valor que se atopa na folla de "Bloque", na columna "Resultado" na fila "Valoración Total" do "Bloque 3 Recursos Humanos " da titulación de "Enquisas de Satisfacción do PTXAS" do portal de transparencia. https://secretaria.uvigo.gal/uv/web/transparencia/grupo/show/5/28 Os resultados son do curso 22-23 | E79: 4 | F79: 3 | G79: - | H79: =+IF(AND(ISBLANK(F79),ISBLANK(G79)),"Introducir Meta e Resultado",IF(ISBLANK(F79),"Introducir Meta",IF(ISBLANK(G79),"Introducir Resultado",IF(G79>=F79,"Meta Conseguida","Meta Non Conseguida")))) -> Meta Conseguida | J79: 3 | K79: 2.29 | L79: =+IF(AND(ISBLANK(J79),ISBLANK(K79)),"Introducir Meta e Resultado",IF(ISBLANK(J79),"Introducir Meta",IF(ISBLANK(K79),"Introducir Resultado",IF(K79>=J79,"Meta Conseguida","Meta Non Conseguida")))) -> Meta Non Conseguida | P79: =+IF(AND(ISBLANK(N79),ISBLANK(O79)),"Introducir Meta e Resultado",IF(ISBLANK(N79),"Introducir Meta",IF(ISBLANK(O79),"Introducir Resultado",IF(O79>=N79,"Meta Conseguida","Meta Non Conseguida")))) -> Introducir Meta e Resultado
A80: I42 | B80: % Accións de Mellora finalizadas en prazo | C80: XD-01: Control dos documentos e dos rexistros | D80: Cubrir Meta e Resultado Porcentaxe das accións de mellora que está prevista a súa finalización neste curso, e efectivamente están finalizadas, sobre o total das accións de mellora que finalizaban o curso de referencia. | E80: 3 | F80: - | G80: 1 | H80: =+IF(AND(ISBLANK(F80),ISBLANK(G80)),"Introducir Meta e Resultado",IF(ISBLANK(F80),"Indicador Sen Meta",IF(ISBLANK(G80),"Introducir Resultado",IF(G80>=F80,"Meta Conseguida","Meta Non Conseguida")))) -> Meta Non Conseguida | J80: 0.8 | K80: 1 | L80: =+IF(AND(ISBLANK(J80),ISBLANK(K80)),"Introducir Meta e Resultado",IF(ISBLANK(J80),"Indicador Sen Meta",IF(ISBLANK(K80),"Introducir Resultado",IF(K80>=J80,"Meta Conseguida","Meta Non Conseguida")))) -> Meta Conseguida | P80: =+IF(AND(ISBLANK(N80),ISBLANK(O80)),"Introducir Meta e Resultado",IF(ISBLANK(N80),"Indicador Sen Meta",IF(ISBLANK(O80),"Introducir Resultado",IF(O80>=N80,"Meta Conseguida","Meta Non Conseguida")))) -> Introducir Meta e Resultado
A81: I43 | B81: Resultados EAD | C81: PE-02 Xestión de PDI | D81: Cubrir Meta e Resultado. A meta poderá estar entre os valores [1-5] Indicar o valor que se atopa na columna "Global" e na filla "GLOBAL", do informe de avaliación docente por titulación que se atopa na secretaría virtual. https://secretaria.uvigo.gal/uvigo.sv/index.php?modulo=informes&accion=InformeEadTitulacion Os resultados son do curso 22-23 | E81: 4 | F81: 3 | G81: 4.26 | H81: =+IF(AND(ISBLANK(F81),ISBLANK(G81)),"Introducir Meta e Resultado",IF(ISBLANK(F81),"Indicador Sen Meta",IF(ISBLANK(G81),"Introducir Resultado",IF(G81>=F81,"Meta Conseguida","Meta Non Conseguida")))) -> Meta Conseguida | K81: 4.07 | L81: =+IF(AND(ISBLANK(J81),ISBLANK(K81)),"Introducir Meta e Resultado",IF(ISBLANK(J81),"Indicador Sen Meta",IF(ISBLANK(K81),"Introducir Resultado",IF(K81>=J81,"Meta Conseguida","Meta Non Conseguida")))) -> Indicador Sen Meta | P81: =+IF(AND(ISBLANK(N81),ISBLANK(O81)),"Introducir Meta e Resultado",IF(ISBLANK(N81),"Indicador Sen Meta",IF(ISBLANK(O81),"Introducir Resultado",IF(O81>=N81,"Meta Conseguida","Meta Non Conseguida")))) -> Introducir Meta e Resultado
A82: I44 | B82: Índice de satisfacción coa organización e o desenvolvemento | C82: DO-0201 Planificación e desenvolvemento da ensinanza | D82: Nº dos obxectivos (I44-1, I44-2, I44-3 e I44-4) que se acadan | E82: 1 | F82: =+COUNTA(F83:F86) -> 4 | G82: =+COUNTIF(H83:H86,"Meta Conseguida") -> 4 | H82: =+IF((G82+F82)=0,"Introducir Meta e Resultado",IF(COUNTA(G83:G86)=0,"Indicador Sen Resultados",IF(F82=0,"Indicador Sen Meta",IF(G82=0,"Ningunha Meta Alcanzada",IF(G82>=F82,"Meta Totalmente Alcanzada",IF(G82>0,"Meta Parcialmente Alcanzada")))))) -> Meta Totalmente Alcanzada | J82: =+COUNTA(J83:J86) -> 4 | K82: =+COUNTIF(L83:L86,"Meta Conseguida") -> 4 | L82: =+IF((K82+J82)=0,"Introducir Meta e Resultado",IF(COUNTA(K83:K86)=0,"Indicador Sen Resultados",IF(J82=0,"Indicador Sen Meta",IF(K82=0,"Ningunha Meta Alcanzada",IF(K82>=J82,"Meta Totalmente Alcanzada",IF(K82>0,"Meta Parcialmente Alcanzada")))))) -> Meta Totalmente Alcanzada | N82: =+COUNTA(N83:N86) -> 0 | O82: =+COUNTIF(P83:P86,"Meta Conseguida") -> 0 | P82: =+IF((O82+N82)=0,"Introducir Meta e Resultado",IF(COUNTA(O83:O86)=0,"Indicador Sen Resultados",IF(N82=0,"Indicador Sen Meta",IF(O82=0,"Ningunha Meta Alcanzada",IF(O82>=N82,"Meta Totalmente Alcanzada",IF(O82>0,"Meta Parcialmente Alcanzada")))))) -> Introducir Meta e Resultado
A83: I44-1 | B83: Satisfacción do Estudantado coa organización e o desenvolvemento | C83: DO-0201 Planificación e desenvolvemento da ensinanza | D83: Cubrir Meta e Resultado. A meta poderá estar entre os valores [1-5] Introducir o Valor que se atopa na folla de "Bloque", na columna "Resultado" na fila "Valoración Total" do "Bloque 1 Organización e Desenvolvemento" da titulación do informe de "Enquisas de Satisfacción de estudantado" do portal de transparencia. https://secretaria.uvigo.gal/uv/web/transparencia/grupo/show/5/28 Os resultados son do curso 23-24 | E83: 1 | F83: 3 | G83: 3.1666667 | H83: =+IF(AND(ISBLANK(F83),ISBLANK(G83)),"Introducir Meta e Resultado",IF(ISBLANK(F83),"Introducir Meta",IF(ISBLANK(G83),"Introducir Resultado",IF(G83>=F83,"Meta Conseguida","Meta Non Conseguida")))) -> Meta Conseguida | J83: 3 | K83: 3.17 | L83: =+IF(AND(ISBLANK(J83),ISBLANK(K83)),"Introducir Meta e Resultado",IF(ISBLANK(J83),"Introducir Meta",IF(ISBLANK(K83),"Introducir Resultado",IF(K83>=J83,"Meta Conseguida","Meta Non Conseguida")))) -> Meta Conseguida | P83: =+IF(AND(ISBLANK(N83),ISBLANK(O83)),"Introducir Meta e Resultado",IF(ISBLANK(N83),"Introducir Meta",IF(ISBLANK(O83),"Introducir Resultado",IF(O83>=N83,"Meta Conseguida","Meta Non Conseguida")))) -> Introducir Meta e Resultado
A84: I44-2 | B84: Satisfacción do Profesorado coa organización e o desenvolvemento | C84: DO-0201 Planificación e desenvolvemento da ensinanza | D84: Cubrir Meta e Resultado. A meta poderá estar entre os valores [1-5] Introducir o Valor que se atopa na folla de "Bloque", na columna "Resultado" na fila "Valoración Total" do "Bloque 1 Organización e Desenvolvemento" da titulación do informe de "Enquisas de Satisfacción do Profesorado" do portal de transparencia. https://secretaria.uvigo.gal/uv/web/transparencia/grupo/show/5/28 Os resultados son do curso 22-23 | E84: 1 | F84: 3 | G84: - | H84: =+IF(AND(ISBLANK(F84),ISBLANK(G84)),"Introducir Meta e Resultado",IF(ISBLANK(F84),"Introducir Meta",IF(ISBLANK(G84),"Introducir Resultado",IF(G84>=F84,"Meta Conseguida","Meta Non Conseguida")))) -> Meta Conseguida | J84: 3 | K84: 4.37 | L84: =+IF(AND(ISBLANK(J84),ISBLANK(K84)),"Introducir Meta e Resultado",IF(ISBLANK(J84),"Introducir Meta",IF(ISBLANK(K84),"Introducir Resultado",IF(K84>=J84,"Meta Conseguida","Meta Non Conseguida")))) -> Meta Conseguida | P84: =+IF(AND(ISBLANK(N84),ISBLANK(O84)),"Introducir Meta e Resultado",IF(ISBLANK(N84),"Introducir Meta",IF(ISBLANK(O84),"Introducir Resultado",IF(O84>=N84,"Meta Conseguida","Meta Non Conseguida")))) -> Introducir Meta e Resultado
A85: I44-3 | B85: Satisfacción das Persoas tituladas coa organización e o desenvolvemento | C85: DO-0201 Planificación e desenvolvemento da ensinanza | D85: Cubrir Meta e Resultado. A meta poderá estar entre os valores [1-5] Introducir o Valor que se atopa na folla de "Bloque", na columna "Resultado" na fila "Valoración Total" do "Bloque 1 Organización e Desenvolvemento" da titulación corresponden do informe de "Enquisas de Satisfacción dos/das egresados/as " do portal de transparencia. https://secretaria.uvigo.gal/uv/web/transparencia/grupo/show/5/28 Os resultados son do curso 23-24 | E85: 1 | F85: 3 | G85: 4.4705882 | H85: =+IF(AND(ISBLANK(F85),ISBLANK(G85)),"Introducir Meta e Resultado",IF(ISBLANK(F85),"Introducir Meta",IF(ISBLANK(G85),"Introducir Resultado",IF(G85>=F85,"Meta Conseguida","Meta Non Conseguida")))) -> Meta Conseguida | J85: 3 | K85: 4.31 | L85: =+IF(AND(ISBLANK(J85),ISBLANK(K85)),"Introducir Meta e Resultado",IF(ISBLANK(J85),"Introducir Meta",IF(ISBLANK(K85),"Introducir Resultado",IF(K85>=J85,"Meta Conseguida","Meta Non Conseguida")))) -> Meta Conseguida | P85: =+IF(AND(ISBLANK(N85),ISBLANK(O85)),"Introducir Meta e Resultado",IF(ISBLANK(N85),"Introducir Meta",IF(ISBLANK(O85),"Introducir Resultado",IF(O85>=N85,"Meta Conseguida","Meta Non Conseguida")))) -> Introducir Meta e Resultado
A86: I44-3 | B86: Satisfacción do PTXAS coa organización e o desenvolvemento | C86: DO-0201 Planificación e desenvolvemento da ensinanza | D86: Cubrir Meta e Resultado. A meta poderá estar entre os valores [1-5] Introducir o Valor que se atopa na folla de "Preguntas", na columna "Resultado" na fila "Valoración Total" da "Pregunta 15 a xestión das titulacións" da titulación correspondente do informe de "Enquisas de Satisfacción do PTXAS" do portal de transparencia. https://secretaria.uvigo.gal/uv/web/transparencia/grupo/show/5/28 Os resultados son do curso 22-23 | E86: 1 | F86: 3 | G86: - | H86: =+IF(AND(ISBLANK(F86),ISBLANK(G86)),"Introducir Meta e Resultado",IF(ISBLANK(F86),"Introducir Meta",IF(ISBLANK(G86),"Introducir Resultado",IF(G86>=F86,"Meta Conseguida","Meta Non Conseguida")))) -> Meta Conseguida | J86: 3 | K86: 3.43 | L86: =+IF(AND(ISBLANK(J86),ISBLANK(K86)),"Introducir Meta e Resultado",IF(ISBLANK(J86),"Introducir Meta",IF(ISBLANK(K86),"Introducir Resultado",IF(K86>=J86,"Meta Conseguida","Meta Non Conseguida")))) -> Meta Conseguida | P86: =+IF(AND(ISBLANK(N86),ISBLANK(O86)),"Introducir Meta e Resultado",IF(ISBLANK(N86),"Introducir Meta",IF(ISBLANK(O86),"Introducir Resultado",IF(O86>=N86,"Meta Conseguida","Meta Non Conseguida")))) -> Introducir Meta e Resultado
A87: I45 | B87: Nº Estudantado matriculado | C87: AC-01: Acceso, evolución e Expedición de Titulos Oficiais | D87: Só Cubrir o Resultado. Este indicador utilizase para calcular outros indicadores Elixir o documento estudantes matriculados de Grao ou Máster segundo sea o caso. https://secretaria.uvigo.gal/uv/web/transparencia/informe/show/5/51/61 Indicar o Nº total de Estudantes matriculados da titulación e neste curso Os resultados son do curso 23-24 | E87: ---- | F87: ---- | G87: 106 | H87: =+IF(ISBLANK(G87),"Introducir Resultado","Indicador Completado") -> Indicador Completado | J87: ---- | K87: 102 | L87: =+IF(ISBLANK(K87),"Introducir Resultado","Indicador Completado") -> Indicador Completado | N87: ---- | P87: =+IF(ISBLANK(O87),"Introducir Resultado","Indicador Completado") -> Introducir Resultado
A88: I46 | B88: Nº PDI que imparte docencia en titulación | C88: PE-02 Xestión de PDI | D88: Só Cubrir o Resultado. Este indicador utilizase para calcular outros indicadores Acceder á consulta DOC. Profesorado con Docencia, do portal de transparencia. https://secretaria.uvigo.gal/uv/web/transparencia/informe/show/5/34/25 E seleccionar o profesorado con caracter permanente: Catedráticos/as, Profesorado Titular, Profesorado Contratado Doutor e Profesorado Permanente Laboral | E88: ---- | F88: ---- | G88: 41 | H88: =+IF(ISBLANK(G88),"Introducir Resultado","Indicador Completado") -> Indicador Completado | J88: ---- | K88: 21 | L88: =+IF(ISBLANK(K88),"Introducir Resultado","Indicador Completado") -> Indicador Completado | N88: ---- | P88: =+IF(ISBLANK(O88),"Introducir Resultado","Indicador Completado") -> Introducir Resultado

Sheet Anexos 1
B2: I7-3 | C2: Resultados do PDI avaliado | D2: PE-02 Xestión de PDI | J2: I10-7 I10-10 | L2: Taxa de Rendemento por materia Taxa de éxito por materia | M2: DE-02 Seguimento e Medición; DE-03 Revisión do sistema pola dirección | P2: https://secretaria.uvigo.gal/uv/web/transparencia/informe/show/5/51/64
R3: =IFERROR(+COUNTIF(R6:R50,"SI")/(COUNTIF(R6:R50,"SI")+COUNTIF(R6:R50,"Non")),0) -> 0 | S3: =IFERROR(+COUNTIF(S6:S50,"SI")/(COUNTIF(S6:S50,"SI")+COUNTIF(S6:S50,"Non")),0) -> 0
B4: Titulación | D4: Excelente | E4: Notable | F4: Favorable | G4: Desfavorable | H4: Total | J4: Titulación | M4: Curso | N4: Taxa de éxito | O4: Taxa de Rendemento | P4: Meta Taxa de éxito | Q4: Meta Taxa de Rendemento | R4: Acada a meta de éxito | S4: Acada a meta de Rto.
D5: Nº | E5: Nº | F5: Nº | G5: Nº | H5: Nº
B6: P03G370V01 | C6: Grao en Enxeñaría Forestal | D6: 3 | E6: 2 | F6: 0 | G6: 0 | H6: =SUM(D6:G6) -> 5 | J6: Grado en Ingeniería Forestal | K6: 22446 | L6: Expresión gráfica: Expresión gráfica y cartografía | M6: 2023/24 | N6: 0.94117647 | O6: 0.8 | R6: =+IF(COUNTA(N6)=0,"----",IF(COUNTA(P6)=0,"Sen Meta",IF(N6>=P6,"SI","NON"))) -> Sen Meta | S6: =+IF(COUNTA(O6)=0,"----",IF(COUNTA(Q6)=0,"Sen Meta",IF(O6>=Q6,"SI","NON"))) -> Sen Meta
K7: 22447 | L7: Física: Física I | M7: 2023/24 | N7: 0.57894737 | O7: 0.39285714 | R7: =+IF(COUNTA(N7)=0,"----",IF(COUNTA(P7)=0,"Sen Meta",IF(N7>=P7,"SI","NON"))) -> Sen Meta | S7: =+IF(COUNTA(O7)=0,"----",IF(COUNTA(Q7)=0,"Sen Meta",IF(O7>=Q7,"SI","NON"))) -> Sen Meta
K8: 22448 | L8: Matemáticas: Matemáticas e informática | M8: 2023/24 | N8: 0.78947368 | O8: 0.57692308 | R8: =+IF(COUNTA(N8)=0,"----",IF(COUNTA(P8)=0,"Sen Meta",IF(N8>=P8,"SI","NON"))) -> Sen Meta | S8: =+IF(COUNTA(O8)=0,"----",IF(COUNTA(Q8)=0,"Sen Meta",IF(O8>=Q8,"SI","NON"))) -> Sen Meta
C9: =+Centro!F4 -> Curso 2023-2024 | K9: 22449 | L9: Fundamentos de economía de la empresa | M9: 2023/24 | N9: 1 | O9: 0.72727273 | R9: =+IF(COUNTA(N9)=0,"----",IF(COUNTA(P9)=0,"Sen Meta",IF(N9>=P9,"SI","NON"))) -> Sen Meta | S9: =+IF(COUNTA(O9)=0,"----",IF(COUNTA(Q9)=0,"Sen Meta",IF(O9>=Q9,"SI","NON"))) -> Sen Meta
K10: 22450 | L10: Biología: Biología vegetal | M10: 2023/24 | N10: 0.84615385 | O10: 0.55 | R10: =+IF(COUNTA(N10)=0,"----",IF(COUNTA(P10)=0,"Sen Meta",IF(N10>=P10,"SI","NON"))) -> Sen Meta | S10: =+IF(COUNTA(O10)=0,"----",IF(COUNTA(Q10)=0,"Sen Meta",IF(O10>=Q10,"SI","NON"))) -> Sen Meta
K11: 22451 | L11: Física: Física II | M11: 2023/24 | N11: 0.82608696 | O11: 0.55882353 | R11: =+IF(COUNTA(N11)=0,"----",IF(COUNTA(P11)=0,"Sen Meta",IF(N11>=P11,"SI","NON"))) -> Sen Meta | S11: =+IF(COUNTA(O11)=0,"----",IF(COUNTA(Q11)=0,"Sen Meta",IF(O11>=Q11,"SI","NON"))) -> Sen Meta
K12: 22452 | L12: Matemáticas: Ampliación de matemáticas | M12: 2023/24 | N12: 0.70588235 | O12: 0.48 | R12: =+IF(COUNTA(N12)=0,"----",IF(COUNTA(P12)=0,"Sen Meta",IF(N12>=P12,"SI","NON"))) -> Sen Meta | S12: =+IF(COUNTA(O12)=0,"----",IF(COUNTA(Q12)=0,"Sen Meta",IF(O12>=Q12,"SI","NON"))) -> Sen Meta
K13: 22453 | L13: Química: Química | M13: 2023/24 | N13: 1 | O13: 0.64705882 | R13: =+IF(COUNTA(N13)=0,"----",IF(COUNTA(P13)=0,"Sen Meta",IF(N13>=P13,"SI","NON"))) -> Sen Meta | S13: =+IF(COUNTA(O13)=0,"----",IF(COUNTA(Q13)=0,"Sen Meta",IF(O13>=Q13,"SI","NON"))) -> Sen Meta
K14: 22454 | L14: Matemáticas: Estadística | M14: 2023/24 | N14: 0.73684211 | O14: 0.63636364 | R14: =+IF(COUNTA(N14)=0,"----",IF(COUNTA(P14)=0,"Sen Meta",IF(N14>=P14,"SI","NON"))) -> Sen Meta | S14: =+IF(COUNTA(O14)=0,"----",IF(COUNTA(Q14)=0,"Sen Meta",IF(O14>=Q14,"SI","NON"))) -> Sen Meta
K15: 22455 | L15: Edafología | M15: 2023/24 | N15: 0.91666667 | O15: 0.91666667 | R15: =+IF(COUNTA(N15)=0,"----",IF(COUNTA(P15)=0,"Sen Meta",IF(N15>=P15,"SI","NON"))) -> Sen Meta | S15: =+IF(COUNTA(O15)=0,"----",IF(COUNTA(Q15)=0,"Sen Meta",IF(O15>=Q15,"SI","NON"))) -> Sen Meta
K16: 22456 | L16: Botánica | M16: 2023/24 | N16: 0.61111111 | O16: 0.5 | R16: =+IF(COUNTA(N16)=0,"----",IF(COUNTA(P16)=0,"Sen Meta",IF(N16>=P16,"SI","NON"))) -> Sen Meta | S16: =+IF(COUNTA(O16)=0,"----",IF(COUNTA(Q16)=0,"Sen Meta",IF(O16>=Q16,"SI","NON"))) -> Sen Meta
K17: 22457 | L17: Electrotecnia y electrificación rural | M17: 2023/24 | N17: 0.85 | O17: 0.70833333 | R17: =+IF(COUNTA(N17)=0,"----",IF(COUNTA(P17)=0,"Sen Meta",IF(N17>=P17,"SI","NON"))) -> Sen Meta | S17: =+IF(COUNTA(O17)=0,"----",IF(COUNTA(Q17)=0,"Sen Meta",IF(O17>=Q17,"SI","NON"))) -> Sen Meta
K18: 22458 | L18: Zoología y entomología forestal | M18: 2023/24 | N18: 0.62962963 | O18: 0.53125 | R18: =+IF(COUNTA(N18)=0,"----",IF(COUNTA(P18)=0,"Sen Meta",IF(N18>=P18,"SI","NON"))) -> Sen Meta | S18: =+IF(COUNTA(O18)=0,"----",IF(COUNTA(Q18)=0,"Sen Meta",IF(O18>=Q18,"SI","NON"))) -> Sen Meta
K19: 22459 | L19: Selvicultura | M19: 2023/24 | N19: 1 | O19: 0.95 | R19: =+IF(COUNTA(N19)=0,"----",IF(COUNTA(P19)=0,"Sen Meta",IF(N19>=P19,"SI","NON"))) -> Sen Meta | S19: =+IF(COUNTA(O19)=0,"----",IF(COUNTA(Q19)=0,"Sen Meta",IF(O19>=Q19,"SI","NON"))) -> Sen Meta
K20: 22460 | L20: Ecología forestal | M20: 2023/24 | N20: 0.92857143 | O20: 0.92857143 | R20: =+IF(COUNTA(N20)=0,"----",IF(COUNTA(P20)=0,"Sen Meta",IF(N20>=P20,"SI","NON"))) -> Sen Meta | S20: =+IF(COUNTA(O20)=0,"----",IF(COUNTA(Q20)=0,"Sen Meta",IF(O20>=Q20,"SI","NON"))) -> Sen Meta
K21: 22461 | L21: Topografía, teledetección y sistemas de información geográfica | M21: 2023/24 | N21: 1 | O21: 0.89473684 | R21: =+IF(COUNTA(N21)=0,"----",IF(COUNTA(P21)=0,"Sen Meta",IF(N21>=P21,"SI","NON"))) -> Sen Meta | S21: =+IF(COUNTA(O21)=0,"----",IF(COUNTA(Q21)=0,"Sen Meta",IF(O21>=Q21,"SI","NON"))) -> Sen Meta
... K47: 22492 | L47: Trabajo de Fin de Grado | M47: 2023/24 | N47: 1 | O47: 0.58333333 | R47: =+IF(COUNTA(N47)=0,"----",IF(COUNTA(P47)=0,"Sen Meta",IF(N47>=P47,"SI","NON"))) -> Sen Meta | S47: =+IF(COUNTA(O47)=0,"----",IF(COUNTA(Q47)=0,"Sen Meta",IF(O47>=Q47,"SI","NON"))) -> Sen Meta

Sheet Anexos 2
B2: I7-3 | C2: Resultados do PDI avaliado | D2: PE-02 Xestión de PDI | J2: I10-7 I10-10 | L2: Taxa de Rendemento por materia Taxa de éxito por materia | M2: DE-02 Seguimento e Medición; DE-03 Revisión do sistema pola dirección | P2: https://secretaria.uvigo.gal/uv/web/transparencia/informe/show/5/51/64
C3: =+Centro!J4 -> Curso 2024-2025 | R3: =IFERROR(+COUNTIF(R6:R52,"SI")/(COUNTIF(R6:R52,"SI")+COUNTIF(R6:R52,"Non")),0) -> 1 | S3: =IFERROR(+COUNTIF(S6:S52,"SI")/(COUNTIF(S6:S52,"SI")+COUNTIF(S6:S52,"Non")),0) -> 0.95238095
B4: Titulación | D4: Excelente | E4: Notable | F4: Favorable | G4: Desfavorable | H4: Total | J4: Titulación | M4: Curso | N4: Taxa de éxito | O4: Taxa de Rendemento | P4: Meta Taxa de éxito | Q4: Meta Taxa de Rendemento | R4: Acada a meta de éxito | S4: Acada a meta de Rto.
D5: Nº | E5: Nº | F5: Nº | G5: Nº | H5: Nº
B6: P03G370V01 | C6: Grao en Enxeñaría Forestal | D6: 3 | E6: 2 | F6: 0 | G6: 0 | H6: =SUM(D6:G6) -> 5 | J6: Grado en Ingeniería Forestal | K6: 22446 | L6: Expresión gráfica: Expresión gráfica y cartografía | M6: 2024/2025 | N6: 0.86666667 | O6: 0.61904762 | P6: 0.5 | Q6: 0.5 | R6: =+IF(COUNTA(N6)=0,"----",IF(COUNTA(P6)=0,"Sen Meta",IF(N6>=P6,"SI","NON"))) -> SI | S6: =+IF(COUNTA(O6)=0,"----",IF(COUNTA(Q6)=0,"Sen Meta",IF(O6>=Q6,"SI","NON"))) -> SI
K7: 22447 | L7: Física: Física I | M7: 2024/2025 | N7: 0.72727273 | O7: 0.57142857 | P7: 0.5 | Q7: 0.5 | R7: =+IF(COUNTA(N7)=0,"----",IF(COUNTA(P7)=0,"Sen Meta",IF(N7>=P7,"SI","NON"))) -> SI | S7: =+IF(COUNTA(O7)=0,"----",IF(COUNTA(Q7)=0,"Sen Meta",IF(O7>=Q7,"SI","NON"))) -> SI
K8: 22448 | L8: Matemáticas: Matemáticas e informática | M8: 2024/2025 | N8: 0.70588235 | O8: 0.52173913 | P8: 0.5 | Q8: 0.5 | R8: =+IF(COUNTA(N8)=0,"----",IF(COUNTA(P8)=0,"Sen Meta",IF(N8>=P8,"SI","NON"))) -> SI | S8: =+IF(COUNTA(O8)=0,"----",IF(COUNTA(Q8)=0,"Sen Meta",IF(O8>=Q8,"SI","NON"))) -> SI
K9: 22449 | L9: Fundamentos de economía de la empresa | M9: 2024/2025 | N9: 1 | O9: 1 | P9: 0.5 | Q9: 0.5 | R9: =+IF(COUNTA(N9)=0,"----",IF(COUNTA(P9)=0,"Sen Meta",IF(N9>=P9,"SI","NON"))) -> SI | S9: =+IF(COUNTA(O9)=0,"----",IF(COUNTA(Q9)=0,"Sen Meta",IF(O9>=Q9,"SI","NON"))) -> SI
K10: 22450 | L10: Biología: Biología vegetal | M10: 2024/2025 | N10: 0.8 | O10: 0.5 | P10: 0.5 | Q10: 0.5 | R10: =+IF(COUNTA(N10)=0,"----",IF(COUNTA(P10)=0,"Sen Meta",IF(N10>=P10,"SI","NON"))) -> SI | S10: =+IF(COUNTA(O10)=0,"----",IF(COUNTA(Q10)=0,"Sen Meta",IF(O10>=Q10,"SI","NON"))) -> SI
K11: 22451 | L11: Física: Física II | M11: 2024/2025 | N11: 0.80952381 | O11: 0.53125 | P11: 0.5 | Q11: 0.5 | R11: =+IF(COUNTA(N11)=0,"----",IF(COUNTA(P11)=0,"Sen Meta",IF(N11>=P11,"SI","NON"))) -> SI | S11: =+IF(COUNTA(O11)=0,"----",IF(COUNTA(Q11)=0,"Sen Meta",IF(O11>=Q11,"SI","NON"))) -> SI
K12: 22452 | L12: Matemáticas: Ampliación de matemáticas | M12: 2024/2025 | N12: 0.70588235 | O12: 0.42857143 | P12: 0.5 | Q12: 0.5 | R12: =+IF(COUNTA(N12)=0,"----",IF(COUNTA(P12)=0,"Sen Meta",IF(N12>=P12,"SI","NON"))) -> SI | S12: =+IF(COUNTA(O12)=0,"----",IF(COUNTA(Q12)=0,"Sen Meta",IF(O12>=Q12,"SI","NON"))) -> NON
K13: 22453 | L13: Química: Química | M13: 2024/2025 | N13: 0.69230769 | O13: 0.45 | P13: 0.5 | Q13: 0.5 | R13: =+IF(COUNTA(N13)=0,"----",IF(COUNTA(P13)=0,"Sen Meta",IF(N13>=P13,"SI","NON"))) -> SI | S13: =+IF(COUNTA(O13)=0,"----",IF(COUNTA(Q13)=0,"Sen Meta",IF(O13>=Q13,"SI","NON"))) -> NON
K14: 22454 | L14: Matemáticas: Estadística | M14: 2024/2025 | N14: 0.94444444 | O14: 0.94444444 | P14: 0.5 | Q14: 0.5 | R14: =+IF(COUNTA(N14)=0,"----",IF(COUNTA(P14)=0,"Sen Meta",IF(N14>=P14,"SI","NON"))) -> SI | S14: =+IF(COUNTA(O14)=0,"----",IF(COUNTA(Q14)=0,"Sen Meta",IF(O14>=Q14,"SI","NON"))) -> SI
K15: 22455 | L15: Edafología | M15: 2024/2025 | N15: 0.63636364 | O15: 0.58333333 | P15: 0.5 | Q15: 0.5 | R15: =+IF(COUNTA(N15)=0,"----",IF(COUNTA(P15)=0,"Sen Meta",IF(N15>=P15,"SI","NON"))) -> SI | S15: =+IF(COUNTA(O15)=0,"----",IF(COUNTA(Q15)=0,"Sen Meta",IF(O15>=Q15,"SI","NON"))) -> SI
K16: 22456 | L16: Botánica | M16: 2024/2025 | N16: 0.625 | O16: 0.55555556 | P16: 0.5 | Q16: 0.5 | R16: =+IF(COUNTA(N16)=0,"----",IF(COUNTA(P16)=0,"Sen Meta",IF(N16>=P16,"SI","NON"))) -> SI | S16: =+IF(COUNTA(O16)=0,"----",IF(COUNTA(Q16)=0,"Sen Meta",IF(O16>=Q16,"SI","NON"))) -> SI
K17: 22457 | L17: Electrotecnia y electrificación rural | M17: 2024/2025 | N17: 0.75 | O17: 0.75 | P17: 0.5 | Q17: 0.5 | R17: =+IF(COUNTA(N17)=0,"----",IF(COUNTA(P17)=0,"Sen Meta",IF(N17>=P17,"SI","NON"))) -> SI | S17: =+IF(COUNTA(O17)=0,"----",IF(COUNTA(Q17)=0,"Sen Meta",IF(O17>=Q17,"SI","NON"))) -> SI
K18: 22458 | L18: Zoología y entomología forestal | M18: 2024/2025 | N18: 0.63636364 | O18: 0.60869565 | P18: 0.5 | Q18: 0.5 | R18: =+IF(COUNTA(N18)=0,"----",IF(COUNTA(P18)=0,"Sen Meta",IF(N18>=P18,"SI","NON"))) -> SI | S18: =+IF(COUNTA(O18)=0,"----",IF(COUNTA(Q18)=0,"Sen Meta",IF(O18>=Q18,"SI","NON"))) -> SI
... K41: 22482 | L41: Industrias de primera transformación de la madera | M41: 2024/2025 | N41: 1 | O41: 1 | P41: 0.5 | Q41: 0.5 | R41: =+IF(COUNTA(N41)=0,"----",IF(COUNTA(P41)=0,"Sen Meta",IF(N41>=P41,"SI","NON"))) -> SI | S41: =+IF(COUNTA(O41)=0,"----",IF(COUNTA(Q41)=0,"Sen Meta",IF(O41>=Q41,"SI","NON"))) -> SI
K42: 22483 | L42: Organización industrial y procesos en la industria de la madera | M42: 2024/2025 | N42: 1 | O42: 1 | P42: 0.5 | Q42: 0.5 | R42: =+IF(COUNTA(N42)=0,"----",IF(COUNTA(P42)=0,"Sen Meta",IF(N42>=P42,"SI","NON"))) -> SI
K43: 22485 | L43: Innovación y desarrollo de productos en la industria forestal | M43: 2024/2025 | N43: 1 | O43: 1 | P43: 0.5 | Q43: 0.5 | R43: =+IF(COUNTA(N43)=0,"----",IF(COUNTA(P43)=0,"Sen Meta",IF(N43>=P43,"SI","NON"))) -> SI | S43: =+IF(COUNTA(O43)=0,"----",IF(COUNTA(Q43)=0,"Sen Meta",IF(O43>=Q43,"SI","NON"))) -> SI
K44: 22486 | L44: Gestión de espacios protegidos y biodiversidad | M44: 2024/2025 | N44: 1 | O44: 0.93333333 | P44: 0.5 | Q44: 0.5 | R44: =+IF(COUNTA(N44)=0,"----",IF(COUNTA(P44)=0,"Sen Meta",IF(N44>=P44,"SI","NON"))) -> SI | S44: =+IF(COUNTA(O44)=0,"----",IF(COUNTA(Q44)=0,"Sen Meta",IF(O44>=Q44,"SI","NON"))) -> SI
K45: 22487 | L45: Incendios forestales | M45: 2024/2025 | N45: 1 | O45: 0.90909091 | P45: 0.5 | Q45: 0.5 | R45: =+IF(COUNTA(N45)=0,"----",IF(COUNTA(P45)=0,"Sen Meta",IF(N45>=P45,"SI","NON"))) -> SI | S45: =+IF(COUNTA(O45)=0,"----",IF(COUNTA(Q45)=0,"Sen Meta",IF(O45>=Q45,"SI","NON"))) -> SI
K46: 22489 | L46: Control de calidad y prevención de riesgos laborales en la industria forestal | M46: 2024/2025 | N46: 1 | O46: 1 | P46: 0.5 | Q46: 0.5 | R46: =+IF(COUNTA(N46)=0,"----",IF(COUNTA(P46)=0,"Sen Meta",IF(N46>=P46,"SI","NON"))) -> SI | S46: =+IF(COUNTA(O46)=0,"----",IF(COUNTA(Q46)=0,"Sen Meta",IF(O46>=Q46,"SI","NON"))) -> SI
K47: 22490 | L47: Industrias químicas de la madera, celulosa, pasta y papel | M47: 2024/2025 | N47: 1 | O47: 1 | P47: 0.5 | Q47: 0.5 | R47: =+IF(COUNTA(N47)=0,"----",IF(COUNTA(P47)=0,"Sen Meta",IF(N47>=P47,"SI","NON"))) -> SI
K48: 22491 | L48: Prácticas externas: Prácticas en empresas | M48: 2024/2025 | N48: 1 | O48: 0.83333333 | P48: 0.5 | Q48: 0.5 | R48: =+IF(COUNTA(N48)=0,"----",IF(COUNTA(P48)=0,"Sen Meta",IF(N48>=P48,"SI","NON"))) -> SI | S48: =+IF(COUNTA(O48)=0,"----",IF(COUNTA(Q48)=0,"Sen Meta",IF(O48>=Q48,"SI","NON"))) -> SI
K49: 22492 | L49: Trabajo de Fin de Grado | M49: 2024/2025 | N49: 1 | O49: 0.54166667 | P49: 0.5 | Q49: 0.5 | R49: =+IF(COUNTA(N49)=0,"----",IF(COUNTA(P49)=0,"Sen Meta",IF(N49>=P49,"SI","NON"))) -> SI | S49: =+IF(COUNTA(O49)=0,"----",IF(COUNTA(Q49)=0,"Sen Meta",IF(O49>=Q49,"SI","NON"))) -> SI

Sheet Anexos 3
B2: I7-3 | C2: Resultados do PDI avaliado | D2: PE-02 Xestión de PDI | J2: I10-7 I10-10 | L2: Taxa de Rendemento por materia Taxa de éxito por materia | M2: DE-02 Seguimento e Medición; DE-03 Revisión do sistema pola dirección | P2: https://secretaria.uvigo.gal/uv/web/transparencia/informe/show/5/51/64
R3: =IFERROR(+COUNTIF(R6:R50,"SI")/(COUNTIF(R6:R50,"SI")+COUNTIF(R6:R50,"Non")),0) -> 0 | S3: =IFERROR(+COUNTIF(S6:S50,"SI")/(COUNTIF(S6:S50,"SI")+COUNTIF(S6:S50,"Non")),0) -> 0
B4: Titulación | D4: Excelente | E4: Notable | F4: Favorable | G4: Desfavorable | H4: Total | J4: Titulación | M4: Curso | N4: Taxa de éxito | O4: Taxa de Rendemento | P4: Meta Taxa de éxito | Q4: Meta Taxa de Rendemento | R4: Acada a meta de éxito | S4: Acada a meta de Rto.
D5: Nº | E5: Nº | F5: Nº | G5: Nº | H5: Nº
B6: P03G370V01 | C6: Grao en Enxeñaría Forestal | D6: 3 | E6: 2 | F6: 0 | G6: 0 | H6: =SUM(D6:G6) -> 5 | J6: Grado en Ingeniería Forestal | K6: 22446 | L6: Expresión gráfica: Expresión gráfica y cartografía | R6: =+IF(COUNTA(N6)=0,"----",IF(COUNTA(P6)=0,"Sen Meta",IF(N6>=P6,"SI","NON"))) -> ---- | S6: =+IF(COUNTA(O6)=0,"----",IF(COUNTA(Q6)=0,"Sen Meta",IF(O6>=Q6,"SI","NON"))) -> ----
K7: 22447 | L7: Física: Física I | R7: =+IF(COUNTA(N7)=0,"----",IF(COUNTA(P7)=0,"Sen Meta",IF(N7>=P7,"SI","NON"))) -> ---- | S7: =+IF(COUNTA(O7)=0,"----",IF(COUNTA(Q7)=0,"Sen Meta",IF(O7>=Q7,"SI","NON"))) -> ----
K8: 22448 | L8: Matemáticas: Matemáticas e informática | R8: =+IF(COUNTA(N8)=0,"----",IF(COUNTA(P8)=0,"Sen Meta",IF(N8>=P8,"SI","NON"))) -> ---- | S8: =+IF(COUNTA(O8)=0,"----",IF(COUNTA(Q8)=0,"Sen Meta",IF(O8>=Q8,"SI","NON"))) -> ----
C9: =+Centro!N4 -> Curso 2025-2026 | K9: 22449 | L9: Fundamentos de economía de la empresa | R9: =+IF(COUNTA(N9)=0,"----",IF(COUNTA(P9)=0,"Sen Meta",IF(N9>=P9,"SI","NON"))) -> ---- | S9: =+IF(COUNTA(O9)=0,"----",IF(COUNTA(Q9)=0,"Sen Meta",IF(O9>=Q9,"SI","NON"))) -> ----
K10: 22450 | L10: Biología: Biología vegetal | R10: =+IF(COUNTA(N10)=0,"----",IF(COUNTA(P10)=0,"Sen Meta",IF(N10>=P10,"SI","NON"))) -> ---- | S10: =+IF(COUNTA(O10)=0,"----",IF(COUNTA(Q10)=0,"Sen Meta",IF(O10>=Q10,"SI","NON"))) -> ----
K11: 22451 | L11: Física: Física II | R11: =+IF(COUNTA(N11)=0,"----",IF(COUNTA(P11)=0,"Sen Meta",IF(N11>=P11,"SI","NON"))) -> ---- | S11: =+IF(COUNTA(O11)=0,"----",IF(COUNTA(Q11)=0,"Sen Meta",IF(O11>=Q11,"SI","NON"))) -> ----
K12: 22452 | L12: Matemáticas: Ampliación de matemáticas | R12: =+IF(COUNTA(N12)=0,"----",IF(COUNTA(P12)=0,"Sen Meta",IF(N12>=P12,"SI","NON"))) -> ---- | S12: =+IF(COUNTA(O12)=0,"----",IF(COUNTA(Q12)=0,"Sen Meta",IF(O12>=Q12,"SI","NON"))) -> ----
K13: 22453 | L13: Química: Química | R13: =+IF(COUNTA(N13)=0,"----",IF(COUNTA(P13)=0,"Sen Meta",IF(N13>=P13,"SI","NON"))) -> ---- | S13: =+IF(COUNTA(O13)=0,"----",IF(COUNTA(Q13)=0,"Sen Meta",IF(O13>=Q13,"SI","NON"))) -> ----
K14: 22454 | L14: Matemáticas: Estadística | R14: =+IF(COUNTA(N14)=0,"----",IF(COUNTA(P14)=0,"Sen Meta",IF(N14>=P14,"SI","NON"))) -> ---- | S14: =+IF(COUNTA(O14)=0,"----",IF(COUNTA(Q14)=0,"Sen Meta",IF(O14>=Q14,"SI","NON"))) -> ----
K15: 22455 | L15: Edafología | R15: =+IF(COUNTA(N15)=0,"----",IF(COUNTA(P15)=0,"Sen Meta",IF(N15>=P15,"SI","NON"))) -> ---- | S15: =+IF(COUNTA(O15)=0,"----",IF(COUNTA(Q15)=0,"Sen Meta",IF(O15>=Q15,"SI","NON"))) -> ----
K16: 22456 | L16: Botánica | R16: =+IF(COUNTA(N16)=0,"----",IF(COUNTA(P16)=0,"Sen Meta",IF(N16>=P16,"SI","NON"))) -> ---- | S16: =+IF(COUNTA(O16)=0,"----",IF(COUNTA(Q16)=0,"Sen Meta",IF(O16>=Q16,"SI","NON"))) -> ----
K17: 22457 | L17: Electrotecnia y electrificación rural | R17: =+IF(COUNTA(N17)=0,"----",IF(COUNTA(P17)=0,"Sen Meta",IF(N17>=P17,"SI","NON"))) -> ---- | S17: =+IF(COUNTA(O17)=0,"----",IF(COUNTA(Q17)=0,"Sen Meta",IF(O17>=Q17,"SI","NON"))) -> ----
K18: 22458 | L18: Zoología y entomología forestal | R18: =+IF(COUNTA(N18)=0,"----",IF(COUNTA(P18)=0,"Sen Meta",IF(N18>=P18,"SI","NON"))) -> ---- | S18: =+IF(COUNTA(O18)=0,"----",IF(COUNTA(Q18)=0,"Sen Meta",IF(O18>=Q18,"SI","NON"))) -> ----
K19: 22459 | L19: Selvicultura | R19: =+IF(COUNTA(N19)=0,"----",IF(COUNTA(P19)=0,"Sen Meta",IF(N19>=P19,"SI","NON"))) -> ---- | S19: =+IF(COUNTA(O19)=0,"----",IF(COUNTA(Q19)=0,"Sen Meta",IF(O19>=Q19,"SI","NON"))) -> ----
K20: 22460 | L20: Ecología forestal | R20: =+IF(COUNTA(N20)=0,"----",IF(COUNTA(P20)=0,"Sen Meta",IF(N20>=P20,"SI","NON"))) -> ---- | S20: =+IF(COUNTA(O20)=0,"----",IF(COUNTA(Q20)=0,"Sen Meta",IF(O20>=Q20,"SI","NON"))) -> ----
K21: 22461 | L21: Topografía, teledetección y sistemas de información geográfica | R21: =+IF(COUNTA(N21)=0,"----",IF(COUNTA(P21)=0,"Sen Meta",IF(N21>=P21,"SI","NON"))) -> ---- | S21: =+IF(COUNTA(O21)=0,"----",IF(COUNTA(Q21)=0,"Sen Meta",IF(O21>=Q21,"SI","NON"))) -> ----
... K47: 22492 | L47: Trabajo de Fin de Grado | R47: =+IF(COUNTA(N47)=0,"----",IF(COUNTA(P47)=0,"Sen Meta",IF(N47>=P47,"SI","NON"))) -> ---- | S47: =+IF(COUNTA(O47)=0,"----",IF(COUNTA(Q47)=0,"Sen Meta",IF(O47>=Q47,"SI","NON"))) -> ----

Sheet Resumo
A1: Escola de Enxeñaría Forestal | D1: Nº Obxectivos conseguidos | F1: =+GEnxFor!G11+Centro!G6 -> 47 | H1: Nº Obxectivos conseguidos | J1: =+GEnxFor!K11+Centro!K6 -> 45 | L1: Nº Obxectivos conseguidos | N1: =+GEnxFor!O11+Centro!O6 -> 0 | AA1: a
A2: Panel de indicadores- Cadro de mando | D2: % Obxectivos conseguidos | F2: =+IFERROR((GEnxFor!G11+Centro!G6)/(GEnxFor!F11+Centro!F6),0) -> 0.68115942 | H2: % Obxectivos conseguidos | J2: =+IFERROR((GEnxFor!K11+Centro!K6)/(GEnxFor!J11+Centro!J6),0) -> 0.67164179 | L2: % Obxectivos conseguidos | N2: =+IFERROR((GEnxFor!O11+Centro!O6)/(GEnxFor!N11+Centro!N6),0) -> 0 | AA2: =+$F$5 -> Grao en Enxeñaría Forestal | BA2: =+$F$5 -> Grao en Enxeñaría Forestal | BE2: =+$F$5 -> Grao en Enxeñaría Forestal
A4: Indicadores | C4: Procedimientos asociados | D4: =+Centro!F4 -> Curso 2023-2024 | H4: =+Centro!J4 -> Curso 2024-2025 | L4: =+Centro!N4 -> Curso 2025-2026 | AA4: =+$D$4 -> Curso 2023-2024 | BA4: =+H4 -> Curso 2024-2025 | BE4: =+L4 -> Curso 2025-2026
A5: Cod | B5: Denominación Indicador | C5: Denominación | D5: % Consecución | E5: Centro | F5: Grao en Enxeñaría Forestal | H5: % Consecución | I5: Centro | J5: Grao en Enxeñaría Forestal | L5: % Consecución | M5: Centro | N5: Grao en Enxeñaría Forestal | AA5: Consecución | BA5: Consecución | BE5: Consecución
A6: Indicadores dos Programas de Calidade
A7: =+GEnxFor!A7 -> I1-I2 | B7: =+GEnxFor!B7 -> Nº Estudantes de novo ingreso (Grao e Máster) | C7: =+GEnxFor!C7 -> AC-01: Acceso, evolución e Expedición de Titulos Oficiais | D7: =+IFERROR(AVERAGE(AA7),0) -> 0 | E7: ----- | F7: =+IF(GEnxFor!$H7="Meta Conseguida","OK",IF(GEnxFor!$H7="Meta Non Conseguida","NO OK",IF(GEnxFor!$H7="Indicador Sen Meta","Non Procede","----"))) -> NO OK | H7: =+IFERROR(AVERAGE(BA7),0) -> 0 | I7: ----- | J7: =+IF(GEnxFor!$L7="Meta Conseguida","OK",IF(GEnxFor!$L7="Meta Non Conseguida","NO OK",IF(GEnxFor!$L7="Indicador Sen Meta","Non Procede","----"))) -> Non Procede | L7: =+IFERROR(AVERAGE(BE7),0) -> 0 | M7: ----- | N7: =+IF(GEnxFor!$P7="Meta Conseguida","OK",IF(GEnxFor!$P7="Meta Non Conseguida","NO OK",IF(GEnxFor!$P7="Indicador Sen Meta","Non Procede","----"))) -> ---- | AA7: =+IF(F7="NO OK",0,IF(F7="OK",1,"")) -> 0 | BA7: =+IF(J7="NO OK",0,IF(J7="OK",1,"")) | BE7: =+IF(N7="NO OK",0,IF(N7="OK",1,""))
A8: =+GEnxFor!A8 -> I3 | B8: =+GEnxFor!B8 -> Indicadores de mobilidade do estudantado | C8: =+GEnxFor!C8 -> DO-0205: Xestión da mobilidade | D8: =+IFERROR(AVERAGE(AA8),0) -> 0 | E8: ----- | F8: =+IFERROR(IF(GEnxFor!$H8="Meta Totalmente Alcanzada","OK",IF(GEnxFor!$H8="Meta Parcialmente Alcanzada","PARCIAL", IF(GEnxFor!$H8="Ningunha Meta Alcanzada", "NO OK", IF(GEnxFor!$H8="Indicador Sen Meta", "Non Procede","----")))),"----") -> NO OK | H8: =+IFERROR(AVERAGE(BA8),0) -> 0 | I8: ----- | J8: =+IFERROR(IF(GEnxFor!$L8="Meta Totalmente Alcanzada","OK",IF(GEnxFor!$L8="Meta Parcialmente Alcanzada","PARCIAL", IF(GEnxFor!$L8="Ningunha Meta Alcanzada", "NO OK", IF(GEnxFor!$L8="Indicador Sen Meta", "Non Procede","----")))),"----") -> NO OK | L8: =+IFERROR(AVERAGE(BE8:BE8),0) -> 0 | M8: ----- | N8: =+IFERROR(IF(GEnxFor!$P8="Meta Totalmente Alcanzada","OK",IF(GEnxFor!$P8="Meta Parcialmente Alcanzada","PARCIAL", IF(GEnxFor!$P8="Ningunha Meta Alcanzada", "NO OK", IF(GEnxFor!$P8="Indicador Sen Meta", "Non Procede","----")))),"----") -> Non Procede | AA8: =+IFERROR(IF(GEnxFor!$H8="Indicador Sen Meta","",GEnxFor!$G8/GEnxFor!$F8),0) -> 0 | BA8: =+IFERROR(IF(GEnxFor!$L8="Indicador Sen Meta","",GEnxFor!$K8/GEnxFor!$J8),0) -> 0 | BE8: =+IFERROR(IF(GEnxFor!$P8="Indicador Sen Meta","",GEnxFor!$O8/GEnxFor!$N8),0)
A9: =+GEnxFor!A11 -> I4 | B9: =+GEnxFor!B11 -> Resultados dos indicadores do SGC | C9: DE-02 Seguimento e Medición; Este indicador mostra os resultados do conxunto dos indicadores do cadro de mando | D9: =+IFERROR(AVERAGE(AA9),0) -> 0.67272727 | E9: ----- | F9: =+IFERROR(IF(GEnxFor!$H11="Meta Totalmente Alcanzada","OK",IF(GEnxFor!$H11="Meta Parcialmente Alcanzada","PARCIAL", IF(GEnxFor!$H11="Ningunha Meta Alcanzada", "NO OK", IF(GEnxFor!$H11="Indicador Sen Meta", "Non Procede","----")))),"----") -> ---- | H9: =+IFERROR(AVERAGE(BA9),0) -> 0.63636364 | I9: ----- | J9: =+IFERROR(IF(GEnxFor!$L11="Meta Totalmente Alcanzada","OK",IF(GEnxFor!$L11="Meta Parcialmente Alcanzada","PARCIAL", IF(GEnxFor!$L11="Ningunha Meta Alcanzada", "NO OK", IF(GEnxFor!$L11="Indicador Sen Meta", "Non Procede","----")))),"----") -> ---- | L9: =+IFERROR(AVERAGE(BE9:BE9),0) -> 0 | M9: ----- | N9: =+IFERROR(IF(GEnxFor!$P11="Meta Totalmente Alcanzada","OK",IF(GEnxFor!$P11="Meta Parcialmente Alcanzada","PARCIAL", IF(GEnxFor!$P11="Ningunha Meta Alcanzada", "NO OK", IF(GEnxFor!$P11="Indicador Sen Meta", "Non Procede","----")))),"----") -> ---- | AA9: =+IFERROR(IF(GEnxFor!$H11="Indicador Sen Meta","",GEnxFor!$G11/GEnxFor!$F11),0) -> 0.67272727 | BA9: =+IFERROR(IF(GEnxFor!$L11="Indicador Sen Meta","",GEnxFor!$K11/GEnxFor!$J11),0) -> 0.63636364 | BE9: =+IFERROR(IF(GEnxFor!$P11="Indicador Sen Meta","",GEnxFor!$O11/GEnxFor!$N11),0) -> 0
A10: =+GEnxFor!A12 -> I5 | B10: =+GEnxFor!B12 -> Indicadores de formación do PDI | C10: =+GEnxFor!C12 -> PE-02 Xestión de PDI | D10: =+IFERROR(AVERAGE(AA10),0) -> 0 | E10: ----- | F10: =+IFERROR(IF(GEnxFor!$H12="Meta Totalmente Alcanzada","OK",IF(GEnxFor!$H12="Meta Parcialmente Alcanzada","PARCIAL", IF(GEnxFor!$H12="Ningunha Meta Alcanzada", "NO OK", IF(GEnxFor!$H12="Indicador Sen Meta", "Non Procede","----")))),"----") -> NO OK | H10: =+IFERROR(AVERAGE(BA10),0) -> 0 | I10: ----- | J10: =+IFERROR(IF(GEnxFor!$L12="Meta Totalmente Alcanzada","OK",IF(GEnxFor!$L12="Meta Parcialmente Alcanzada","PARCIAL", IF(GEnxFor!$L12="Ningunha Meta Alcanzada", "NO OK", IF(GEnxFor!$L12="Indicador Sen Meta", "Non Procede","----")))),"----") -> ---- | L10: =+IFERROR(AVERAGE(BE10:BE10),0) -> 0 | M10: ----- | N10: =+IFERROR(IF(GEnxFor!$P12="Meta Totalmente Alcanzada","OK",IF(GEnxFor!$P12="Meta Parcialmente Alcanzada","PARCIAL", IF(GEnxFor!$P12="Ningunha Meta Alcanzada", "NO OK", IF(GEnxFor!$P12="Indicador Sen Meta", "Non Procede","----")))),"----") -> Non Procede | AA10: =+IFERROR(IF(GEnxFor!$H12="Indicador Sen Meta","",GEnxFor!$G12/GEnxFor!$F12),0) -> 0 | BA10: =+IFERROR(IF(GEnxFor!$L12="Indicador Sen Meta","",GEnxFor!$K12/GEnxFor!$J12),0) -> 0 | BE10: =+IFERROR(IF(GEnxFor!$P12="Indicador Sen Meta","",GEnxFor!$O12/GEnxFor!$N12),0)
A11: =+GEnxFor!A16 -> I7 | B11: =+GEnxFor!B16 -> % PDI do título avaliado polo programa DOCENTIA e resultados obtidos | C11: =+GEnxFor!C16 -> PE-02 Xestión de PDI | D11: =+IFERROR(AVERAGE(AA11),0) -> 0 | E11: ----- | F11: =+IFERROR(IF(GEnxFor!$H16="Meta Totalmente Alcanzada","OK",IF(GEnxFor!$H16="Meta Parcialmente Alcanzada","PARCIAL", IF(GEnxFor!$H16="Ningunha Meta Alcanzada", "NO OK", IF(GEnxFor!$H16="Indicador Sen Meta", "Non Procede","----")))),"----") -> NO OK | H11: =+IFERROR(AVERAGE(BA11),0) -> 1 | I11: ----- | J11: =+IFERROR(IF(GEnxFor!$L16="Meta Totalmente Alcanzada","OK",IF(GEnxFor!$L16="Meta Parcialmente Alcanzada","PARCIAL", IF(GEnxFor!$L16="Ningunha Meta Alcanzada", "NO OK", IF(GEnxFor!$L16="Indicador Sen Meta", "Non Procede","----")))),"----") -> OK | L11: =+IFERROR(AVERAGE(BE11:BE11),0) -> 0 | M11: ----- | N11: =+IFERROR(IF(GEnxFor!$P16="Meta Totalmente Alcanzada","OK",IF(GEnxFor!$P16="Meta Parcialmente Alcanzada","PARCIAL", IF(GEnxFor!$P16="Ningunha Meta Alcanzada", "NO OK", IF(GEnxFor!$P16="Indicador Sen Meta", "Non Procede","----")))),"----") -> Non Procede | AA11: =+IFERROR(IF(GEnxFor!$H16="Indicador Sen Meta","",GEnxFor!$G16/GEnxFor!$F16),0) -> 0 | BA11: =+IFERROR(IF(GEnxFor!$L16="Indicador Sen Meta","",GEnxFor!$K16/GEnxFor!$J16),0) -> 1 | BE11: =+IFERROR(IF(GEnxFor!$P16="Indicador Sen Meta","",GEnxFor!$O16/GEnxFor!$N16),0)
A12: =+GEnxFor!A20 -> I8 | B12: =+GEnxFor!B20 -> Indicadores de mobilidade do PDI | C12: =+GEnxFor!C20 -> PE-02 Xestión de PDI | D12: =+IFERROR(AVERAGE(AA12),0) -> 0 | E12: ----- | F12: =+IFERROR(IF(GEnxFor!$H20="Meta Totalmente Alcanzada","OK",IF(GEnxFor!$H20="Meta Parcialmente Alcanzada","PARCIAL", IF(GEnxFor!$H20="Ningunha Meta Alcanzada", "NO OK", IF(GEnxFor!$H20="Indicador Sen Meta", "Non Procede","----")))),"----") -> NO OK | H12: =+IFERROR(AVERAGE(BA12),0) -> 0 | I12: ----- | J12: =+IFERROR(IF(GEnxFor!$L20="Meta Totalmente Alcanzada","OK",IF(GEnxFor!$L20="Meta Parcialmente Alcanzada","PARCIAL", IF(GEnxFor!$L20="Ningunha Meta Alcanzada", "NO OK", IF(GEnxFor!$L20="Indicador Sen Meta", "Non Procede","----")))),"----") -> ---- | L12: =+IFERROR(AVERAGE(BE12:BE12),0) -> 0 | M12: ----- | N12: =+IFERROR(IF(GEnxFor!$P20="Meta Totalmente Alcanzada","OK",IF(GEnxFor!$P20="Meta Parcialmente Alcanzada","PARCIAL", IF(GEnxFor!$P20="Ningunha Meta Alcanzada", "NO OK", IF(GEnxFor!$P20="Indicador Sen Meta", "Non Procede","----")))),"----") -> Non Procede | AA12: =+IFERROR(IF(GEnxFor!$H20="Indicador Sen Meta","",GEnxFor!$G20/GEnxFor!$F20),0) -> 0 | BA12: =+IFERROR(IF(GEnxFor!$L20="Indicador Sen Meta","",GEnxFor!$K20/GEnxFor!$J20),0) -> 0 | BE12: =+IFERROR(IF(GEnxFor!$P20="Indicador Sen Meta","",GEnxFor!$O20/GEnxFor!$N20),0)
A13: =+GEnxFor!A24 -> I10 | B13: =+GEnxFor!B24 -> Indicadores de resultados | C13: =+GEnxFor!C24 -> DE-02 Seguimento e Medición; DE-03 Revisión do sistema pola dirección | D13: =+IFERROR(AVERAGE(AA13),0) -> 0.5 | E13: ----- | F13: =+IFERROR(IF(GEnxFor!$H24="Meta Totalmente Alcanzada","OK",IF(GEnxFor!$H24="Meta Parcialmente Alcanzada","PARCIAL", IF(GEnxFor!$H24="Ningunha Meta Alcanzada", "NO OK", IF(GEnxFor!$H24="Indicador Sen Meta", "Non Procede","----")))),"----") -> PARCIAL | H13: =+IFERROR(AVERAGE(BA13),0) -> 0.7 | I13: ----- | J13: =+IFERROR(IF(GEnxFor!$L24="Meta Totalmente Alcanzada","OK",IF(GEnxFor!$L24="Meta Parcialmente Alcanzada","PARCIAL", IF(GEnxFor!$L24="Ningunha Meta Alcanzada", "NO OK", IF(GEnxFor!$L24="Indicador Sen Meta", "Non Procede","----")))),"----") -> PARCIAL | L13: =+IFERROR(AVERAGE(BE13:BE13),0) -> 0 | M13: ----- | N13: =+IFERROR(IF(GEnxFor!$P24="Meta Totalmente Alcanzada","OK",IF(GEnxFor!$P24="Meta Parcialmente Alcanzada","PARCIAL", IF(GEnxFor!$P24="Ningunha Meta Alcanzada", "NO OK", IF(GEnxFor!$P24="Indicador Sen Meta", "Non Procede","----")))),"----") -> ---- | AA13: =+IFERROR(IF(GEnxFor!$H24="Indicador Sen Meta","",GEnxFor!$G24/GEnxFor!$F24),0) -> 0.5 | BA13: =+IFERROR(IF(GEnxFor!$L24="Indicador Sen Meta","",GEnxFor!$K24/GEnxFor!$J24),0) -> 0.7 | BE13: =+IFERROR(IF(GEnxFor!$P24="Indicador Sen Meta","",GEnxFor!$O24/GEnxFor!$N24),0) -> 0
A14: =+GEnxFor!A37 -> I11 | B14: =+GEnxFor!B37 -> Relación de Oferta / Demanda de prazas | C14: =+GEnxFor!C37 -> AC-01: Acceso, evolución e Expedición de Titulos Oficiais | D14: =+IFERROR(AVERAGE(AA14),0) -> 0.33333333 | E14: ----- | F14: =+IFERROR(IF(GEnxFor!$H37="Meta Totalmente Alcanzada","OK",IF(GEnxFor!$H37="Meta Parcialmente Alcanzada","PARCIAL", IF(GEnxFor!$H37="Ningunha Meta Alcanzada", "NO OK", IF(GEnxFor!$H37="Indicador Sen Meta", "Non Procede","----")))),"----") -> PARCIAL | H14: =+IFERROR(AVERAGE(BA14),0) -> 0.33333333 | I14: ----- | J14: =+IFERROR(IF(GEnxFor!$L37="Meta Totalmente Alcanzada","OK",IF(GEnxFor!$L37="Meta Parcialmente Alcanzada","PARCIAL", IF(GEnxFor!$L37="Ningunha Meta Alcanzada", "NO OK", IF(GEnxFor!$L37="Indicador Sen Meta", "Non Procede","----")))),"----") -> PARCIAL | L14: =+IFERROR(AVERAGE(BE14:BE14),0) -> 0 | M14: ----- | N14: =+IFERROR(IF(GEnxFor!$P37="Meta Totalmente Alcanzada","OK",IF(GEnxFor!$P37="Meta Parcialmente Alcanzada","PARCIAL", IF(GEnxFor!$P37="Ningunha Meta Alcanzada", "NO OK", IF(GEnxFor!$P37="Indicador Sen Meta", "Non Procede","----")))),"----") -> Non Procede | AA14: =+IFERROR(IF(GEnxFor!$H37="Indicador Sen Meta","",GEnxFor!$G37/GEnxFor!$F37),0) -> 0.33333333 | BA14: =+IFERROR(IF(GEnxFor!$L37="Indicador Sen Meta","",GEnxFor!$K37/GEnxFor!$J37),0) -> 0.33333333 | BE14: =+IFERROR(IF(GEnxFor!$P37="Indicador Sen Meta","",GEnxFor!$O37/GEnxFor!$N37),0)
A16: Indicadores institucionais da Universidade de Vigo
A18: =+GEnxFor!A46 -> I20 | B18: =+GEnxFor!B46 -> Índice das enquisas de satisfacción coas titulacións | C18: =+GEnxFor!C46 -> MC-05 Medición satisfacción | D18: =+IFERROR(AVERAGE(AA18),0) -> 1 | E18: ----- | F18: =+IFERROR(IF(GEnxFor!$H46="Meta Totalmente Alcanzada","OK",IF(GEnxFor!$H46="Meta Parcialmente Alcanzada","PARCIAL", IF(GEnxFor!$H46="Ningunha Meta Alcanzada", "NO OK", IF(GEnxFor!$H46="Indicador Sen Meta", "Non Procede","----")))),"----") -> OK | H18: =+IFERROR(AVERAGE(BA18),0) -> 0.8 | I18: ----- | J18: =+IFERROR(IF(GEnxFor!$L46="Meta Totalmente Alcanzada","OK",IF(GEnxFor!$L46="Meta Parcialmente Alcanzada","PARCIAL", IF(GEnxFor!$L46="Ningunha Meta Alcanzada", "NO OK", IF(GEnxFor!$L46="Indicador Sen Meta", "Non Procede","----")))),"----") -> PARCIAL | L18: =+IFERROR(AVERAGE(BE18:BE18),0) -> 0 | M18: ----- | N18: =+IFERROR(IF(GEnxFor!$P46="Meta Totalmente Alcanzada","OK",IF(GEnxFor!$P46="Meta Parcialmente Alcanzada","PARCIAL", IF(GEnxFor!$P46="Ningunha Meta Alcanzada", "NO OK", IF(GEnxFor!$P46="Indicador Sen Meta", "Non Procede","----")))),"----") -> ---- | AA18: =+IFERROR(IF(GEnxFor!$H46="Indicador Sen Meta","",GEnxFor!$G46/GEnxFor!$F46),0) -> 1 | BA18: =+IFERROR(IF(GEnxFor!$L46="Indicador Sen Meta","",GEnxFor!$K46/GEnxFor!$J46),0) -> 0.8 | BE18: =+IFERROR(IF(GEnxFor!$P46="Indicador Sen Meta","",GEnxFor!$O46/GEnxFor!$N46),0) -> 0
A19: =+GEnxFor!A52 -> I21 | B19: =+GEnxFor!B52 -> Taxa de abandono (Egreso) | C19: =+GEnxFor!C52 -> DE-02 Seguimento e Medición; DE-03 Revisión do sistema pola dirección | D19: =+IFERROR(AVERAGE(AA19),0) -> 1 | E19: ----- | F19: =+IF(GEnxFor!$H52="Meta Conseguida","OK",IF(GEnxFor!$H52="Meta Non Conseguida","NO OK",IF(GEnxFor!$H52="Indicador Sen Meta","Non Procede","----"))) -> OK | H19: =+IFERROR(AVERAGE(BA19),0) -> 0 | I19: ----- | J19: =+IF(GEnxFor!$L52="Meta Conseguida","OK",IF(GEnxFor!$L52="Meta Non Conseguida","NO OK",IF(GEnxFor!$L52="Indicador Sen Meta","Non Procede","----"))) -> NO OK | L19: =+IFERROR(AVERAGE(BE19:BE19),0) -> 0 | M19: ----- | N19: =+IF(GEnxFor!$P52="Meta Conseguida","OK",IF(GEnxFor!$P52="Meta Non Conseguida","NO OK",IF(GEnxFor!$P52="Indicador Sen Meta","Non Procede","----"))) -> ---- | AA19: =+IF(F19="NO OK",0,IF(F19="OK",1,"")) -> 1 | BA19: =+IF(J19="NO OK",0,IF(J19="OK",1,"")) -> 0 | BE19: =+IF(N19="NO OK",0,IF(N19="OK",1,""))
A20: =+GEnxFor!A53 -> I22 | B20: =+GEnxFor!B53 -> Taxa de cambio de estudo | C20: =+GEnxFor!C53 -> DE-02 Seguimento e Medición; DE-03 Revisión do sistema pola dirección | D20: =+IFERROR(AVERAGE(AA20),0) -> 1 | E20: ----- | F20: =+IF(GEnxFor!$H53="Meta Conseguida","OK",IF(GEnxFor!$H53="Meta Non Conseguida","NO OK",IF(GEnxFor!$H53="Indicador Sen Meta","Non Procede","----"))) -> OK | H20: =+IFERROR(AVERAGE(BA20),0) -> 0 | I20: ----- | J20: =+IF(GEnxFor!$L53="Meta Conseguida","OK",IF(GEnxFor!$L53="Meta Non Conseguida","NO OK",IF(GEnxFor!$L53="Indicador Sen Meta","Non Procede","----"))) -> NO OK | L20: =+IFERROR(AVERAGE(BE20:BE20),0) -> 0 | M20: ----- | N20: =+IF(GEnxFor!$P53="Meta Conseguida","OK",IF(GEnxFor!$P53="Meta Non Conseguida","NO OK",IF(GEnxFor!$P53="Indicador Sen Meta","Non Procede","----"))) -> ---- | AA20: =+IF(F20="NO OK",0,IF(F20="OK",1,"")) -> 1 | BA20: =+IF(J20="NO OK",0,IF(J20="OK",1,"")) -> 0 | BE20: =+IF(N20="NO OK",0,IF(N20="OK",1,""))
A21: =+GEnxFor!A54 -> I23 | B21: =+GEnxFor!B54 -> Índice de satisfacción cos recursos materiais e servizos | C21: =+GEnxFor!C54 -> IA-01: Xestión dos recursos materiais e dos servizos | D21: =+IFERROR(AVERAGE(AA21),0) -> 1 | E21: ----- | F21: =+IFERROR(IF(GEnxFor!$H54="Meta Totalmente Alcanzada","OK",IF(GEnxFor!$H54="Meta Parcialmente Alcanzada","PARCIAL", IF(GEnxFor!$H54="Ningunha Meta Alcanzada", "NO OK", IF(GEnxFor!$H54="Indicador Sen Meta", "Non Procede","----")))),"----") -> OK | H21: =+IFERROR(AVERAGE(BA21),0) -> 1 | I21: ----- | J21: =+IFERROR(IF(GEnxFor!$L54="Meta Totalmente Alcanzada","OK",IF(GEnxFor!$L54="Meta Parcialmente Alcanzada","PARCIAL", IF(GEnxFor!$L54="Ningunha Meta Alcanzada", "NO OK", IF(GEnxFor!$L54="Indicador Sen Meta", "Non Procede","----")))),"----") -> OK | L21: =+IFERROR(AVERAGE(BE21:BE21),0) -> 0 | M21: ----- | N21: =+IFERROR(IF(GEnxFor!$P54="Meta Totalmente Alcanzada","OK",IF(GEnxFor!$P54="Meta Parcialmente Alcanzada","PARCIAL", IF(GEnxFor!$P54="Ningunha Meta Alcanzada", "NO OK", IF(GEnxFor!$P54="Indicador Sen Meta", "Non Procede","----")))),"----") -> ---- | AA21: =+IFERROR(IF(GEnxFor!$H54="Indicador Sen Meta","",GEnxFor!$G54/GEnxFor!$F54),0) -> 1 | BA21: =+IFERROR(IF(GEnxFor!$L54="Indicador Sen Meta","",GEnxFor!$K54/GEnxFor!$J54),0) -> 1 | BE21: =+IFERROR(IF(GEnxFor!$P54="Indicador Sen Meta","",GEnxFor!$O54/GEnxFor!$N54),0) -> 0
A22: =+GEnxFor!A59 -> I24 | B22: =+GEnxFor!B59 -> Índice de satisfacción coa orientación recibida no centro | C22: =+GEnxFor!C59 -> DO-0203: Orientación do estudantado e atención ás NEAE | D22: =+IFERROR(AVERAGE(AA22),0) -> 1 | E22: ----- | F22: =+IFERROR(IF(GEnxFor!$H59="Meta Totalmente Alcanzada","OK",IF(GEnxFor!$H59="Meta Parcialmente Alcanzada","PARCIAL", IF(GEnxFor!$H59="Ningunha Meta Alcanzada", "NO OK", IF(GEnxFor!$H59="Indicador Sen Meta", "Non Procede","----")))),"----") -> OK | H22: =+IFERROR(AVERAGE(BA22),0) -> 0.75 | I22: ----- | J22: =+IFERROR(IF(GEnxFor!$L59="Meta Totalmente Alcanzada","OK",IF(GEnxFor!$L59="Meta Parcialmente Alcanzada","PARCIAL", IF(GEnxFor!$L59="Ningunha Meta Alcanzada", "NO OK", IF(GEnxFor!$L59="Indicador Sen Meta", "Non Procede","----")))),"----") -> PARCIAL | L22: =+IFERROR(AVERAGE(BE22:BE22),0) -> 0 | M22: ----- | N22: =+IFERROR(IF(GEnxFor!$P59="Meta Totalmente Alcanzada","OK",IF(GEnxFor!$P59="Meta Parcialmente Alcanzada","PARCIAL", IF(GEnxFor!$P59="Ningunha Meta Alcanzada", "NO OK", IF(GEnxFor!$P59="Indicador Sen Meta", "Non Procede","----")))),"----") -> ---- | AA22: =+IFERROR(IF(GEnxFor!$H59="Indicador Sen Meta","",GEnxFor!$G59/GEnxFor!$F59),0) -> 1 | BA22: =+IFERROR(IF(GEnxFor!$L59="Indicador Sen Meta","",GEnxFor!$K59/GEnxFor!$J59),0) -> 0.75 | BE22: =+IFERROR(IF(GEnxFor!$P59="Indicador Sen Meta","",GEnxFor!$O59/GEnxFor!$N59),0) -> 0
A23: =+GEnxFor!A64 -> I25 | B23: =+GEnxFor!B64 -> % Alumnado en prácticas académicas | C23: =+GEnxFor!C64 -> DO-0204: Xestión das prácticas académicas | D23: =+IFERROR(AVERAGE(AA23),0) -> 0 | E23: ----- | F23: =+IF(GEnxFor!$H64="Meta Conseguida","OK",IF(GEnxFor!$H64="Meta Non Conseguida","NO OK",IF(GEnxFor!$H64="Indicador Sen Meta","Non Procede","----"))) -> NO OK | H23: =+IFERROR(AVERAGE(BA23),0) -> 0 | I23: ----- | J23: =+IF(GEnxFor!$L64="Meta Conseguida","OK",IF(GEnxFor!$L64="Meta Non Conseguida","NO OK",IF(GEnxFor!$L64="Indicador Sen Meta","Non Procede","----"))) -> NO OK | L23: =+IFERROR(AVERAGE(BE23:BE23),0) -> 0 | M23: ----- | N23: =+IF(GEnxFor!$P64="Meta Conseguida","OK",IF(GEnxFor!$P64="Meta Non Conseguida","NO OK",IF(GEnxFor!$P64="Indicador Sen Meta","Non Procede","----"))) -> ---- | AA23: =+IF(F23="NO OK",0,IF(F23="OK",1,"")) -> 0 | BA23: =+IF(J23="NO OK",0,IF(J23="OK",1,"")) -> 0 | BE23: =+IF(N23="NO OK",0,IF(N23="OK",1,""))
A24: =+GEnxFor!A65 -> I26 | B24: =+GEnxFor!B65 -> Índice de satisfacción coa promoción da titulación e a información pública na web | C24: =+GEnxFor!C65 -> DO-0301 Información Pública | D24: =+IFERROR(AVERAGE(AA24),0) -> 1 | E24: ----- | F24: =+IFERROR(IF(GEnxFor!$H65="Meta Totalmente Alcanzada","OK",IF(GEnxFor!$H65="Meta Parcialmente Alcanzada","PARCIAL", IF(GEnxFor!$H65="Ningunha Meta Alcanzada", "NO OK", IF(GEnxFor!$H65="Indicador Sen Meta", "Non Procede","----")))),"----") -> OK | H24: =+IFERROR(AVERAGE(BA24),0) -> 1 | I24: ----- | J24: =+IFERROR(IF(GEnxFor!$L65="Meta Totalmente Alcanzada","OK",IF(GEnxFor!$L65="Meta Parcialmente Alcanzada","PARCIAL", IF(GEnxFor!$L65="Ningunha Meta Alcanzada", "NO OK", IF(GEnxFor!$L65="Indicador Sen Meta", "Non Procede","----")))),"----") -> OK | L24: =+IFERROR(AVERAGE(BE24:BE24),0) -> 0 | M24: ----- | N24: =+IFERROR(IF(GEnxFor!$P65="Meta Totalmente Alcanzada","OK",IF(GEnxFor!$P65="Meta Parcialmente Alcanzada","PARCIAL", IF(GEnxFor!$P65="Ningunha Meta Alcanzada", "NO OK", IF(GEnxFor!$P65="Indicador Sen Meta", "Non Procede","----")))),"----") -> ---- | AA24: =+IFERROR(IF(GEnxFor!$H65="Indicador Sen Meta","",GEnxFor!$G65/GEnxFor!$F65),0) -> 1 | BA24: =+IFERROR(IF(GEnxFor!$L65="Indicador Sen Meta","",GEnxFor!$K65/GEnxFor!$J65),0) -> 1 | BE24: =+IFERROR(IF(GEnxFor!$P65="Indicador Sen Meta","",GEnxFor!$O65/GEnxFor!$N65),0) -> 0
A25: =+Centro!A10 -> I27 | B25: =+Centro!B10 -> Nº Queixas recibidas | C25: =+Centro!C10 -> MC-02: Xestión das queixas, suxestións e parabéns | D25: =+IFERROR(AVERAGE(AA25),0) -> 1 | E25: =+IF(Centro!$H10="Meta Conseguida","OK",IF(Centro!$H10="Meta Non Conseguida","NO OK", IF(Centro!$H10="Indicador Sen Meta","Non Procede","----") )) -> OK | F25: =+E25 -> OK | H25: =+IFERROR(AVERAGE(BA25),0) -> 1 | I25: =+IF(Centro!$L10="Meta Conseguida","OK",IF(Centro!$L10="Meta Non Conseguida","NO OK", IF(Centro!$L10="Indicador Sen Meta","Non Procede","----") )) -> OK | J25: =+I25 -> OK | L25: =+IFERROR(AVERAGE(BE25:BE25),0) -> 0 | M25: =+IF(Centro!$P10="Meta Conseguida","OK",IF(Centro!$P10="Meta Non Conseguida","NO OK", IF(Centro!$P10="Indicador Sen Meta","Non Procede","----") )) -> ---- | N25: =+M25 -> ---- | AA25: =+IF(F25="NO OK",0,IF(F25="OK",1,"")) -> 1 | BA25: =+IF(J25="NO OK",0,IF(J25="OK",1,"")) -> 1 | BE25: =+IF(N25="NO OK",0,IF(N25="OK",1,""))
A26: =+Centro!A11 -> I28 | B26: =+Centro!B11 -> % de Titulacións que renovaron a súa acreditación | C26: =+Centro!C11 -> DO-0101: Deseño, verificación, modificación e acreditación das titulacións oficiais | D26: =+IFERROR(AVERAGE(AA26),0) -> 1 | E26: =+IF(Centro!$H11="Meta Conseguida","OK",IF(Centro!$H11="Meta Non Conseguida","NO OK", IF(Centro!$H11="Indicador Sen Meta","Non Procede","----") )) -> OK | F26: =+E26 -> OK | H26: =+IFERROR(AVERAGE(BA26),0) -> 1 | I26: =+IF(Centro!$L11="Meta Conseguida","OK",IF(Centro!$L11="Meta Non Conseguida","NO OK", IF(Centro!$L11="Indicador Sen Meta","Non Procede","----") )) -> OK | J26: =+I26 -> OK | L26: =+IFERROR(AVERAGE(BE26:BE26),0) -> 0 | M26: =+IF(Centro!$P11="Meta Conseguida","OK",IF(Centro!$P11="Meta Non Conseguida","NO OK", IF(Centro!$P11="Indicador Sen Meta","Non Procede","----") )) -> ---- | N26: =+M26 -> ---- | AA26: =+IF(F26="NO OK",0,IF(F26="OK",1,"")) -> 1 | BA26: =+IF(J26="NO OK",0,IF(J26="OK",1,"")) -> 1 | BE26: =+IF(N26="NO OK",0,IF(N26="OK",1,""))
A27: =+Centro!A15 -> I30 | B27: =+Centro!B15 -> % Titulacións con avaliación favorable en Seguimento | C27: =+Centro!C15 -> DO-0102: Seguimento e mellora das titulacións | D27: =+IFERROR(AVERAGE(AA27),0) -> 1 | E27: =+IF(Centro!$H15="Meta Conseguida","OK",IF(Centro!$H15="Meta Non Conseguida","NO OK", IF(Centro!$H15="Indicador Sen Meta","Non Procede","----") )) -> OK | F27: =+E27 -> OK | H27: =+IFERROR(AVERAGE(BA27),0) -> 1 | I27: =+IF(Centro!$L15="Meta Conseguida","OK",IF(Centro!$L15="Meta Non Conseguida","NO OK", IF(Centro!$L15="Indicador Sen Meta","Non Procede","----") )) -> OK | J27: =+I27 -> OK | L27: =+IFERROR(AVERAGE(BE27:BE27),0) -> 0 | M27: =+IF(Centro!$P15="Meta Conseguida","OK",IF(Centro!$P15="Meta Non Conseguida","NO OK", IF(Centro!$P15="Indicador Sen Meta","Non Procede","----") )) -> ---- | N27: =+M27 -> ---- | AA27: =+IF(F27="NO OK",0,IF(F27="OK",1,"")) -> 1 | BA27: =+IF(J27="NO OK",0,IF(J27="OK",1,"")) -> 1 | BE27: =+IF(N27="NO OK",0,IF(N27="OK",1,""))
A28: =+GEnxFor!A71 -> I35 | B28: =+GEnxFor!B71 -> Nota media do acceso | C28: =+GEnxFor!C71 -> DO-0202 Promoción das titulacións | D28: =+IFERROR(AVERAGE(AA28),0) -> 1 | E28: ----- | F28: =+IF(GEnxFor!$H71="Meta Conseguida","OK",IF(GEnxFor!$H71="Meta Non Conseguida","NO OK",IF(GEnxFor!$H71="Indicador Sen Meta","Non Procede","----"))) -> OK | H28: =+IFERROR(AVERAGE(BA28),0) -> 1 | I28: ----- | J28: =+IF(GEnxFor!$L71="Meta Conseguida","OK",IF(GEnxFor!$L71="Meta Non Conseguida","NO OK",IF(GEnxFor!$L71="Indicador Sen Meta","Non Procede","----"))) -> OK | L28: =+IFERROR(AVERAGE(BE28:BE28),0) -> 0 | M28: ----- | N28: =+IF(GEnxFor!$P71="Meta Conseguida","OK",IF(GEnxFor!$P71="Meta Non Conseguida","NO OK",IF(GEnxFor!$P71="Indicador Sen Meta","Non Procede","----"))) -> ---- | AA28: =+IF(F28="NO OK",0,IF(F28="OK",1,"")) -> 1 | BA28: =+IF(J28="NO OK",0,IF(J28="OK",1,"")) -> 1 | BE28: =+IF(N28="NO OK",0,IF(N28="OK",1,""))
A29: =+Centro!A20 -> I37 | B29: =+Centro!B20 -> Grao de Satisfacción do estudantado co PAT | C29: =+Centro!C20 -> DO-0203: Orientación do estudantado e atención ás NEAE | D29: =+IFERROR(AVERAGE(AA29),0) -> 0.5 | E29: =+IF(Centro!$H17="Meta Conseguida","OK",IF(Centro!$H17="Meta Non Conseguida","NO OK", IF(Centro!$H17="Indicador Sen Meta","Non Procede","----") )) -> ---- | F29: =+IF(GEnxFor!$H73="Meta Conseguida","OK",IF(GEnxFor!$H73="Meta Non Conseguida","NO OK",IF(GEnxFor!$H73="Indicador Sen Meta","Non Procede","----"))) -> OK | H29: =+IFERROR(AVERAGE(BA29),0) -> 0 | I29: =+IF(Centro!$L17="Meta Conseguida","OK",IF(Centro!$L17="Meta Non Conseguida","NO OK", IF(Centro!$L17="Indicador Sen Meta","Non Procede","----") )) -> ---- | J29: =+IF(GEnxFor!$L73="Meta Conseguida","OK",IF(GEnxFor!$L73="Meta Non Conseguida","NO OK",IF(GEnxFor!$L73="Indicador Sen Meta","Non Procede","----"))) -> ---- | L29: =+IFERROR(AVERAGE(BE29:BE29),0) -> 0 | M29: =+IF(Centro!$P17="Meta Conseguida","OK",IF(Centro!$P17="Meta Non Conseguida","NO OK", IF(Centro!$P17="Indicador Sen Meta","Non Procede","----") )) -> ---- | N29: =+IF(GEnxFor!$P73="Meta Conseguida","OK",IF(GEnxFor!$P73="Meta Non Conseguida","NO OK",IF(GEnxFor!$P73="Indicador Sen Meta","Non Procede","----"))) -> ---- | AA29: =+COUNTIF($E29:$F29,"OK")/+COUNTA($E29:$F29) -> 0.5 | BA29: =+COUNTIF(I29:J29,"OK")/+COUNTA(I29:J29) -> 0 | BE29: =+COUNTIF(M29:N29,"OK")/+COUNTA(M29:N29) -> 0
A30: =+GEnxFor!A74 -> I38 | B30: =+GEnxFor!B74 -> Grao de satisfacción das Persoas Tituladas coas Prácticas | C30: =+GEnxFor!C74 -> DO-0204: Xestión das prácticas académicas | D30: =+IFERROR(AVERAGE(AA30),0) -> 1 | E30: ----- | F30: =+IF(GEnxFor!$H74="Meta Conseguida","OK",IF(GEnxFor!$H74="Meta Non Conseguida","NO OK",IF(GEnxFor!$H74="Indicador Sen Meta","Non Procede","----"))) -> OK | H30: =+IFERROR(AVERAGE(BA30),0) -> 0 | I30: ----- | J30: =+IF(GEnxFor!$L74="Meta Conseguida","OK",IF(GEnxFor!$L74="Meta Non Conseguida","NO OK",IF(GEnxFor!$L74="Indicador Sen Meta","Non Procede","----"))) -> Non Procede | L30: =+IFERROR(AVERAGE(BE30:BE30),0) -> 0 | M30: ----- | N30: =+IF(GEnxFor!$P74="Meta Conseguida","OK",IF(GEnxFor!$P74="Meta Non Conseguida","NO OK",IF(GEnxFor!$P74="Indicador Sen Meta","Non Procede","----"))) -> ---- | AA30: =+IF(F30="NO OK",0,IF(F30="OK",1,"")) -> 1 | BA30: =+IF(J30="NO OK",0,IF(J30="OK",1,"")) | BE30: =+IF(N30="NO OK",0,IF(N30="OK",1,""))
A31: =+GEnxFor!A75 -> I39 | B31: =+GEnxFor!B75 -> Grao de satisfacción cos RRHH | C31: =+GEnxFor!C75 -> PE-01 Xestión do PAS | D31: =+IFERROR(AVERAGE(AA31),0) -> 1 | E31: ----- | F31: =+IFERROR(IF(GEnxFor!$H72="Meta Totalmente Alcanzada","OK",IF(GEnxFor!$H72="Meta Parcialmente Alcanzada","PARCIAL", IF(GEnxFor!$H72="Ningunha Meta Alcanzada", "NO OK", IF(GEnxFor!$H72="Indicador Sen Meta", "Non Procede","----")))),"----") -> ---- | H31: =+IFERROR(AVERAGE(BA31),0) -> 0.75 | I31: ----- | J31: =+IFERROR(IF(GEnxFor!$L72="Meta Totalmente Alcanzada","OK",IF(GEnxFor!$L72="Meta Parcialmente Alcanzada","PARCIAL", IF(GEnxFor!$L72="Ningunha Meta Alcanzada", "NO OK", IF(GEnxFor!$L72="Indicador Sen Meta", "Non Procede","----")))),"----") -> ---- | L31: =+IFERROR(AVERAGE(BE31:BE31),0) -> 0 | M31: ----- | N31: =+IFERROR(IF(GEnxFor!$P72="Meta Totalmente Alcanzada","OK",IF(GEnxFor!$P72="Meta Parcialmente Alcanzada","PARCIAL", IF(GEnxFor!$P72="Ningunha Meta Alcanzada", "NO OK", IF(GEnxFor!$P72="Indicador Sen Meta", "Non Procede","----")))),"----") -> ---- | AA31: =+IFERROR(IF(GEnxFor!$H75="Indicador Sen Meta","",GEnxFor!$G75/GEnxFor!$F75),0) -> 1 | BA31: =+IFERROR(IF(GEnxFor!$L75="Indicador Sen Meta","",GEnxFor!$K75/GEnxFor!$J75),0) -> 0.75 | BE31: =+IFERROR(IF(GEnxFor!$P75="Indicador Sen Meta","",GEnxFor!$O75/GEnxFor!$N75),0) -> 0
A32: =+Centro!A22 -> I41 | B32: =+Centro!B22 -> % Rexistros en estado completado na aplicación SGIC | C32: =+Centro!C22 -> XD-01: Control dos documentos e dos rexistros | D32: =+IFERROR(AVERAGE(AA32),0) -> 1 | E32: =+IF(Centro!$H22="Meta Conseguida","OK",IF(Centro!$H22="Meta Non Conseguida","NO OK", IF(Centro!$H22="Indicador Sen Meta","Non Procede","----") )) -> OK | F32: =+E32 -> OK | H32: =+IFERROR(AVERAGE(BA32),0) -> 1 | I32: =+IF(Centro!$L22="Meta Conseguida","OK",IF(Centro!$L22="Meta Non Conseguida","NO OK", IF(Centro!$L22="Indicador Sen Meta","Non Procede","----") )) -> OK | J32: =+I32 -> OK | L32: =+IFERROR(AVERAGE(BE32:BE32),0) -> 0 | M32: =+IF(Centro!$P22="Meta Conseguida","OK",IF(Centro!$P22="Meta Non Conseguida","NO OK", IF(Centro!$P22="Indicador Sen Meta","Non Procede","----") )) -> ---- | N32: =+M32 -> ---- | AA32: =+IF(F32="NO OK",0,IF(F32="OK",1,"")) -> 1 | BA32: =+IF(J32="NO OK",0,IF(J32="OK",1,"")) -> 1 | BE32: =+IF(N32="NO OK",0,IF(N32="OK",1,""))
A33: =+GEnxFor!A80 -> I42 | B33: =+GEnxFor!B80 -> % Accións de Mellora finalizadas en prazo | C33: =+GEnxFor!C80 -> XD-01: Control dos documentos e dos rexistros | D33: =+IFERROR(AVERAGE(AA33),0) -> 0 | E33: =+IF(Centro!$H23="Meta Conseguida","OK",IF(Centro!$H23="Meta Non Conseguida","NO OK", IF(Centro!$H23="Indicador Sen Meta","Non Procede","----") )) -> ---- | F33: =+IF(GEnxFor!$H80="Meta Conseguida","OK",IF(GEnxFor!$H80="Meta Non Conseguida","NO OK",IF(GEnxFor!$H80="Indicador Sen Meta","Non Procede","----"))) -> NO OK | H33: =+IFERROR(AVERAGE(BA33),0) -> 0.5 | I33: =+IF(Centro!$L23="Meta Conseguida","OK",IF(Centro!$L23="Meta Non Conseguida","NO OK", IF(Centro!$L23="Indicador Sen Meta","Non Procede","----") )) -> Non Procede | J33: =+IF(GEnxFor!$L80="Meta Conseguida","OK",IF(GEnxFor!$L80="Meta Non Conseguida","NO OK",IF(GEnxFor!$L80="Indicador Sen Meta","Non Procede","----"))) -> OK | L33: =+IFERROR(AVERAGE(BE33:BE33),0) -> 0 | M33: =+IF(Centro!$P23="Meta Conseguida","OK",IF(Centro!$P23="Meta Non Conseguida","NO OK", IF(Centro!$P23="Indicador Sen Meta","Non Procede","----") )) -> ---- | N33: =+IF(GEnxFor!$P80="Meta Conseguida","OK",IF(GEnxFor!$P80="Meta Non Conseguida","NO OK",IF(GEnxFor!$P80="Indicador Sen Meta","Non Procede","----"))) -> ---- | AA33: =+COUNTIF($E33:$F33,"OK")/+COUNTA($E33:$F33) -> 0 | BA33: =+COUNTIF(I33:J33,"OK")/+COUNTA(I33:J33) -> 0.5 | BE33: =+COUNTIF(M33:N33,"OK")/+COUNTA(M33:N33) -> 0
A34: =+GEnxFor!A81 -> I43 | B34: =+GEnxFor!B81 -> Resultados EAD | C34: =+GEnxFor!C81 -> PE-02 Xestión de PDI | D34: =+IFERROR(AVERAGE(AA34),0) -> 1 | E34: ----- | F34: =+IF(GEnxFor!$H81="Meta Conseguida","OK",IF(GEnxFor!$H81="Meta Non Conseguida","NO OK",IF(GEnxFor!$H81="Indicador Sen Meta","Non Procede","----"))) -> OK | H34: =+IFERROR(AVERAGE(BA34),0) -> 0 | I34: ----- | J34: =+IF(GEnxFor!$L81="Meta Conseguida","OK",IF(GEnxFor!$L81="Meta Non Conseguida","NO OK",IF(GEnxFor!$L81="Indicador Sen Meta","Non Procede","----"))) -> Non Procede | L34: =+IFERROR(AVERAGE(BE34:BE34),0) -> 0 | M34: ----- | N34: =+IF(GEnxFor!$P81="Meta Conseguida","OK",IF(GEnxFor!$P81="Meta Non Conseguida","NO OK",IF(GEnxFor!$P81="Indicador Sen Meta","Non Procede","----"))) -> ---- | AA34: =+IF(F34="NO OK",0,IF(F34="OK",1,"")) -> 1 | BA34: =+IF(J34="NO OK",0,IF(J34="OK",1,"")) | BE34: =+IF(N34="NO OK",0,IF(N34="OK",1,""))
A35: =+GEnxFor!A82 -> I44 | B35: =+GEnxFor!B82 -> Índice de satisfacción coa organización e o desenvolvemento | C35: =+GEnxFor!C82 -> DO-0201 Planificación e desenvolvemento da ensinanza | D35: =+IFERROR(AVERAGE(AA35),0) -> 1 | E35: ----- | F35: =+IFERROR(IF(GEnxFor!$H76="Meta Totalmente Alcanzada","OK",IF(GEnxFor!$H76="Meta Parcialmente Alcanzada","PARCIAL", IF(GEnxFor!$H76="Ningunha Meta Alcanzada", "NO OK", IF(GEnxFor!$H76="Indicador Sen Meta", "Non Procede","----")))),"----") -> ---- | H35: =+IFERROR(AVERAGE(BA35),0) -> 1 | I35: ----- | J35: =+IFERROR(IF(GEnxFor!$L76="Meta Totalmente Alcanzada","OK",IF(GEnxFor!$L76="Meta Parcialmente Alcanzada","PARCIAL", IF(GEnxFor!$L76="Ningunha Meta Alcanzada", "NO OK", IF(GEnxFor!$L76="Indicador Sen Meta", "Non Procede","----")))),"----") -> ---- | L35: =+IFERROR(AVERAGE(BE35:BE35),0) -> 0 | M35: ----- | N35: =+IFERROR(IF(GEnxFor!$P76="Meta Totalmente Alcanzada","OK",IF(GEnxFor!$P76="Meta Parcialmente Alcanzada","PARCIAL", IF(GEnxFor!$P76="Ningunha Meta Alcanzada", "NO OK", IF(GEnxFor!$P76="Indicador Sen Meta", "Non Procede","----")))),"----") -> ---- | AA35: =+IFERROR(IF(GEnxFor!$H82="Indicador Sen Meta","",GEnxFor!$G82/GEnxFor!$F82),0) -> 1 | BA35: =+IFERROR(IF(GEnxFor!$L82="Indicador Sen Meta","",GEnxFor!$K82/GEnxFor!$J82),0) -> 1 | BE35: =+IFERROR(IF(GEnxFor!$P82="Indicador Sen Meta","",GEnxFor!$O82/GEnxFor!$N82),0) -> 0
A37: Indicadores do programa estratéxico de centro
A39: I50 | B39: Indicadores do programa estratexico do centro | C39: DE-01: Programación e desenvolvemento estratéxico | D39: =+IFERROR(AVERAGE(AA39),0) -> 0.80952381 | E39: =+IFERROR(IF(Centro!$H$27="Meta Totalmente Alcanzada","OK",IF(Centro!$H$27="Meta Parcialmente Alcanzada","PARCIAL",IF(Centro!$H$27="Ningunha Meta Alcanzada","NO OK","----"))),"----") -> PARCIAL | F39: ---- | H39: =+IFERROR(AVERAGE(BA39),0) -> 1 | I39: =+IFERROR(IF(Centro!$L$27="Meta Totalmente Alcanzada","OK",IF(Centro!$L$27="Meta Parcialmente Alcanzada","PARCIAL",IF(Centro!$L$27="Ningunha Meta Alcanzada","NO OK","----"))),"----") -> OK | J39: ---- | L39: =IFERROR(BE39,0) -> ---- | M39: =+IFERROR(IF(Centro!$P$27="Meta Totalmente Alcanzada","OK",IF(Centro!$P$27="Meta Parcialmente Alcanzada","PARCIAL",IF(Centro!$P$27="Ningunha Meta Alcanzada","NO OK","----"))),"----") -> ---- | N39: ---- | AA39: =+IFERROR(Centro!$G$27/Centro!$F$27,"----") -> 0.80952381 | BA39: =+IFERROR(Centro!$K$27/Centro!$J$27,"----") -> 1 | BE39: =+IFERROR(Centro!$O$27/Centro!$N$27,"----") -> ----

Sheet Procedementos
A2: Panel de indicadores- Cadro de mando dos Procedementos de Calidade
H4: Resultados
E5: Cod | F5: Denominación Indicador | G5: Denominación | H5: =+Centro!F4 -> Curso 2023-2024 | J5: =+Centro!J4 -> Curso 2024-2025 | L5: =+Centro!N4 -> Curso 2025-2026
A6: Procesos | H6: =+AVERAGE(H7,H21,H49) -> 0.7710588 | J6: =+AVERAGE(J7,J21,J49) -> 0.73131313 | L6: =+AVERAGE(L7,L21,L49) -> 0 | N6: Responsable do Indicador
B7: Procesos Estratéxicos | H7: =+AVERAGE(H8,H16) -> 0.90067641 | J7: =+AVERAGE(J8,J16) -> 0.78352273 | L7: =+AVERAGE(L8,L16) -> 0
C8: Dirección Estratéxica (DE) | H8: =+AVERAGE(H9,H11) -> 0.80135281 | J8: =+AVERAGE(J9,J11) -> 0.66704545 | L8: =+AVERAGE(L9,L11) -> 0
D9: DE-01: Programación estratéxica | H9: =+H10 -> 0.80952381 | J9: =+J10 -> 1 | L9: =+L10 -> ---- | N9: Decanato ou Dirección do Centro
E10: =+Resumo!A39 -> I50 | F10: =+Resumo!B39 -> Indicadores do programa estratexico do centro | G10: =+Resumo!C39 -> DE-01: Programación e desenvolvemento estratéxico | H10: =+Resumo!D39 -> 0.80952381 | J10: =+Resumo!H39 -> 1 | L10: =+Resumo!L39 -> ---- | N10: =+N9 -> Decanato ou Dirección do Centro
D11: DE-02: Seguimento e medición e DE-03: Revisión do sistema (IRD) | H11: =+AVERAGE(H12:H15) -> 0.79318182 | J11: =+AVERAGE(J12:J15) -> 0.33409091 | L11: =+AVERAGE(L12:L15) -> 0 | N11: Decanato ou Dirección do Centro
E12: =+Resumo!A9 -> I4 | F12: =+Resumo!B9 -> Resultados dos indicadores do SGC | G12: =+Resumo!C9 -> DE-02 Seguimento e Medición; Este indicador mostra os resultados do conxunto dos indicadores do cadro de mando | H12: =+Resumo!D9 -> 0.67272727 | J12: =+Resumo!H9 -> 0.63636364 | L12: =+Resumo!L9 -> 0 | N12: =+N11 -> Decanato ou Dirección do Centro
E13: =+Resumo!A13 -> I10 | F13: =+Resumo!B13 -> Indicadores de resultados | G13: =+Resumo!C13 -> DE-02 Seguimento e Medición; DE-03 Revisión do sistema pola dirección | H13: =+Resumo!D13 -> 0.5 | J13: =+Resumo!H13 -> 0.7 | L13: =+Resumo!L13 -> 0 | N13: =+N12 -> Decanato ou Dirección do Centro
E14: =+Resumo!A19 -> I21 | F14: =+Resumo!B19 -> Taxa de abandono (Egreso) | G14: =+Resumo!C19 -> DE-02 Seguimento e Medición; DE-03 Revisión do sistema pola dirección | H14: =+Resumo!D19 -> 1 | J14: =+Resumo!H19 -> 0 | L14: =+Resumo!L19 -> 0 | N14: =+N13 -> Decanato ou Dirección do Centro
E15: =+Resumo!A20 -> I22 | F15: =+Resumo!B20 -> Taxa de cambio de estudo | G15: =+Resumo!C20 -> DE-02 Seguimento e Medición; DE-03 Revisión do sistema pola dirección | H15: =+Resumo!D20 -> 1 | J15: =+Resumo!H20 -> 0 | L15: =+Resumo!L20 -> 0 | N15: =+N14 -> Decanato ou Dirección do Centro
C16: Xestión da Calidade e mellora continua (MC) | H16: =+AVERAGE(H17,H19) -> 1 | J16: =+AVERAGE(J17,J19) -> 0.9 | L16: =+AVERAGE(L17,L19) -> 0
D17: MC-02 Xestión QSPs | H17: =+H18 -> 1 | J17: =+J18 -> 1 | L17: =+L18 -> 0 | N17: Coordinación do Centro
E18: =+Resumo!A25 -> I27 | F18: =+Resumo!B25 -> Nº Queixas recibidas | G18: =+Resumo!C25 -> MC-02: Xestión das queixas, suxestións e parabéns | H18: =+Resumo!D25 -> 1 | J18: =+Resumo!H25 -> 1 | L18: =+Resumo!L25 -> 0 | N18: =+N17 -> Coordinación do Centro
D19: MC-05 Medición satisfacción | H19: =+H20 -> 1 | J19: =+J20 -> 0.8 | L19: =+L20 -> 0 | N19: Decanato ou Dirección do Centro
E20: =+Resumo!A18 -> I20 | F20: =+Resumo!B18 -> Índice das enquisas de satisfacción coas titulacións | G20: =+Resumo!C18 -> MC-05 Medición satisfacción | H20: =+Resumo!D18 -> 1 | J20: =+Resumo!H18 -> 0.8 | L20: =+Resumo!L18 -> 0 | N20: =+N19 -> Decanato ou Dirección do Centro
B21: Procesos Chave | H21: =+AVERAGE(H29,H22,H42,H45) -> 0.70416667 | J21: =+AVERAGE(J29,J22,J42,J45) -> 0.66041667 | L21: =+AVERAGE(L29,L22,L42,L45) -> 0
C22: DO-01: Xestión dos programas formativos | H22: =+AVERAGE(H23,H25) -> 1 | J22: =+AVERAGE(J23,J25) -> 1 | L22: =+AVERAGE(L23,L25) -> 0
D23: DO-0101 Titulacións | H23: =+H24 -> 1 | J23: =+J24 -> 1 | L23: =+L24 -> 0 | N23: Decanato ou Dirección do Centro
E24: =+Resumo!A26 -> I28 | F24: =+Resumo!B26 -> % de Titulacións que renovaron a súa acreditación | G24: =+Resumo!C26 -> DO-0101: Deseño, verificación, modificación e acreditación das titulacións oficiais | H24: =+Resumo!D26 -> 1 | J24: =+Resumo!H26 -> 1 | L24: =+Resumo!L26 -> 0 | N24: =+N23 -> Decanato ou Dirección do Centro
D25: DO-0102 Seguimento | H25: =+H26 -> 1 | J25: =+J26 -> 1 | L25: =+L26 -> 0 | N25: Coordinación das titulacións e de Calidade
E26: =+Resumo!A27 -> I30 | F26: =+Resumo!B27 -> % Titulacións con avaliación favorable en Seguimento | G26: =+Resumo!C27 -> DO-0102: Seguimento e mellora das titulacións | H26: =+Resumo!D27 -> 1 | J26: =+Resumo!H27 -> 1 | L26: =+Resumo!L27 -> 0 | N26: =+N25 -> Coordinación das titulacións e de Calidade
D27: DO-0103 Extinción | H27: ----- | J27: ----- | L27: ----- | N27: Decanato ou Dirección do Centro
E28: =+Centro!A17 -> I32 | F28: =+Centro!B17 -> Nº Titulacións en proceso de extinción ou suspensión | G28: =+Centro!C17 -> DO-0103: Suspensión e extinción dunha titulación | H28: ----- | J28: ----- | L28: ----- | N28: =+N27 -> Decanato ou Dirección do Centro
C29: DO-02:Planificación e desenvolvemento do ensino | H29: =+AVERAGE(H30,H32,H34,H37,H40) -> 0.65 | J29: =+AVERAGE(J30,J32,J34,J37,J40) -> 0.475 | L29: =+AVERAGE(L30,L32,L34,L37,L40) -> 0
D30: DO-0201 Planificación | H30: =+H31 -> 1 | J30: =+J31 -> 1 | L30: =+L31 -> 0 | N30: Vicedecanato ou subdirección do centro con competencias en organización académica
E31: =+Resumo!A35 -> I44 | F31: =+Resumo!B35 -> Índice de satisfacción coa organización e o desenvolvemento | G31: =+Resumo!C35 -> DO-0201 Planificación e desenvolvemento da ensinanza | H31: =+Resumo!D35 -> 1 | J31: =+Resumo!H35 -> 1 | L31: =+Resumo!L35 -> 0 | N31: =+N30 -> Vicedecanato ou subdirección do centro con competencias en organización académica
D32: DO-0202 Promoción | H32: =+H33 -> 1 | J32: =+J33 -> 1 | L32: =+L33 -> 0 | N32: Decanato ou Dirección do Centro
E33: =+Resumo!A28 -> I35 | F33: =+Resumo!B28 -> Nota media do acceso | G33: =+Resumo!C28 -> DO-0202 Promoción das titulacións | H33: =+Resumo!D28 -> 1 | J33: =+Resumo!H28 -> 1 | L33: =+Resumo!L28 -> 0 | N33: =+N32 -> Decanato ou Dirección do Centro
D34: DO-0203 Orientación | H34: =+AVERAGE(H35:H36) -> 0.75 | J34: =+AVERAGE(J35:J36) -> 0.375 | L34: =+AVERAGE(L35:L36) -> 0 | N34: Coordinación do PAT
E35: =+Resumo!A22 -> I24 | F35: =+Resumo!B22 -> Índice de satisfacción coa orientación recibida no centro | G35: =+Resumo!C22 -> DO-0203: Orientación do estudantado e atención ás NEAE | H35: =+Resumo!D22 -> 1 | J35: =+Resumo!H22 -> 0.75 | L35: =+Resumo!L22 -> 0 | N35: =+N34 -> Coordinación do PAT
E36: =+Resumo!A29 -> I37 | F36: =+Resumo!B29 -> Grao de Satisfacción do estudantado co PAT | G36: =+Resumo!C29 -> DO-0203: Orientación do estudantado e atención ás NEAE | H36: =+Resumo!D29 -> 0.5 | J36: =+Resumo!H29 -> 0 | L36: =+Resumo!L29 -> 0 | N36: =+N35 -> Coordinación do PAT
D37: DO-0204 Prácticas | H37: =+AVERAGE(H38:H39) -> 0.5 | J37: =+AVERAGE(J38:J39) -> 0 | L37: =+AVERAGE(L38:L39) -> 0 | N37: Coordinación de prácticas externas do centro
E38: =+Resumo!A23 -> I25 | F38: =+Resumo!B23 -> % Alumnado en prácticas académicas | G38: =+Resumo!C23 -> DO-0204: Xestión das prácticas académicas | H38: =+Resumo!D23 -> 0 | J38: =+Resumo!H23 -> 0 | L38: =+Resumo!L23 -> 0 | N38: =+N37 -> Coordinación de prácticas externas do centro
E39: =+Resumo!A30 -> I38 | F39: =+Resumo!B30 -> Grao de satisfacción das Persoas Tituladas coas Prácticas | G39: =+Resumo!C30 -> DO-0204: Xestión das prácticas académicas | H39: =+Resumo!D30 -> 1 | J39: =+Resumo!H30 -> 0 | L39: =+Resumo!L30 -> 0 | N39: =+N38 -> Coordinación de prácticas externas do centro
D40: DO-0205 Mobilidade | H40: =+H41 -> 0 | J40: =+J41 -> 0 | L40: =+L41 -> 0 | N40: Responsable das relacions externas do centro
E41: =+Resumo!A8 -> I3 | F41: =+Resumo!B8 -> Indicadores de mobilidade do estudantado | G41: =+Resumo!C8 -> DO-0205: Xestión da mobilidade | H41: =+Resumo!D8 -> 0 | J41: =+Resumo!H8 -> 0 | L41: =+Resumo!L8 -> 0 | N41: =+N40 -> Responsable das relacions externas do centro
C42: DO-03: Información pública e rendemento de contas | H42: =+H43 -> 1 | J42: =+J43 -> 1 | L42: =+L43 -> 0
D43: DO-0301: Información pública e rendemento de contas | H43: =+H44 -> 1 | J43: =+J44 -> 1 | L43: =+L44 -> 0 | N43: Decanato ou Dirección do Centro
E44: =+Resumo!A24 -> I26 | F44: =+Resumo!B24 -> Índice de satisfacción coa promoción da titulación e a información pública na web | G44: =+Resumo!C24 -> DO-0301 Información Pública | H44: =+Resumo!D24 -> 1 | J44: =+Resumo!H24 -> 1 | L44: =+Resumo!L24 -> 0 | N44: =+N43 -> Decanato ou Dirección do Centro
C45: Xestión Académica (AC) | H45: =+H46 -> 0.16666667 | J45: =+J46 -> 0.16666667 | L45: =+L46 -> 0
D46: AC-01: Acceso, Evolución e Expedición de Titulos Oficiais | H46: =+AVERAGE(H47:H48) -> 0.16666667 | J46: =+AVERAGE(J47:J48) -> 0.16666667 | L46: =+AVERAGE(L47:L48) -> 0 | N46: Xefatura do Servizo de Xestión de Estudos de Grao e Posgrao
E47: =+Resumo!A7 -> I1-I2 | F47: =+Resumo!B7 -> Nº Estudantes de novo ingreso (Grao e Máster) | G47: =+Resumo!C7 -> AC-01: Acceso, evolución e Expedición de Titulos Oficiais | H47: =+Resumo!D7 -> 0 | J47: =+Resumo!H7 -> 0 | L47: =+Resumo!L7 -> 0 | N47: Coordinación da Titulación
E48: =+Resumo!A14 -> I11 | F48: =+Resumo!B14 -> Relación de Oferta / Demanda de prazas | G48: =+Resumo!C14 -> AC-01: Acceso, evolución e Expedición de Titulos Oficiais | H48: =+Resumo!D14 -> 0.33333333 | J48: =+Resumo!H14 -> 0.33333333 | L48: =+Resumo!L14 -> 0 | N48: =+N47 -> Coordinación da Titulación
B49: Procesos Soporte | H49: =+AVERAGE(H50,H58,H62) -> 0.70833333 | J49: =+AVERAGE(J50,J58,J62) -> 0.75 | L49: =+AVERAGE(L50,L58,L62) -> 0
C50: Xestión do persoal (PE) | H50: =+AVERAGE(H51,H53) -> 0.625 | J50: =+AVERAGE(J51,J53) -> 0.5 | L50: =+AVERAGE(L51,L53) -> 0
D51: PE-01 PAS | H51: =+AVERAGE(H52:H52) -> 1 | J51: =+AVERAGE(J52:J52) -> 0.75 | L51: =+AVERAGE(L52:L52) -> 0 | N51: Administación do centro
E52: =+Resumo!A31 -> I39 | F52: =+Resumo!B31 -> Grao de satisfacción cos RRHH | G52: =+Resumo!C31 -> PE-01 Xestión do PAS | H52: =+Resumo!D31 -> 1 | J52: =+Resumo!H31 -> 0.75 | L52: =+Resumo!L31 -> 0 | N52: =+N51 -> Administación do centro
D53: PE-02 PDI | H53: =+AVERAGE(H54:H57) -> 0.25 | J53: =+AVERAGE(J54:J57) -> 0.25 | L53: =+AVERAGE(L54:L57) -> 0 | N53: Vicerreitoría con competencias en profesorado.
E54: =+Resumo!A10 -> I5 | F54: =+Resumo!B10 -> Indicadores de formación do PDI | G54: =+Resumo!C10 -> PE-02 Xestión de PDI | H54: =+Resumo!D10 -> 0 | J54: =+Resumo!H10 -> 0 | L54: =+Resumo!L10 -> 0 | N54: Decanato ou Dirección
E55: =+Resumo!A11 -> I7 | F55: =+Resumo!B11 -> % PDI do título avaliado polo programa DOCENTIA e resultados obtidos | G55: =+Resumo!C11 -> PE-02 Xestión de PDI | H55: =+Resumo!D11 -> 0 | J55: =+Resumo!H11 -> 1 | L55: =+Resumo!L11 -> 0 | N55: =+N54 -> Decanato ou Dirección
E56: =+Resumo!A12 -> I8 | F56: =+Resumo!B12 -> Indicadores de mobilidade do PDI | G56: =+Resumo!C12 -> PE-02 Xestión de PDI | H56: =+Resumo!D12 -> 0 | J56: =+Resumo!H12 -> 0 | L56: =+Resumo!L12 -> 0 | N56: =+N55 -> Decanato ou Dirección
E57: =+Resumo!A34 -> I43 | F57: =+Resumo!B34 -> Resultados EAD | G57: =+Resumo!C34 -> PE-02 Xestión de PDI | H57: =+Resumo!D34 -> 1 | J57: =+Resumo!H34 -> 0 | L57: =+Resumo!L34 -> 0 | N57: =+N56 -> Decanato ou Dirección
C58: Xestión Documental (XD) | H58: =+H59 -> 0.5 | J58: =+J59 -> 0.75 | L58: =+L59 -> 0
D59: XD-01 Documentos e Rexistros | H59: =+AVERAGE(H60:H61) -> 0.5 | J59: =+AVERAGE(J60:J61) -> 0.75 | L59: =+AVERAGE(L60:L61) -> 0 | N59: Coordinación de calidade
E60: =+Resumo!A32 -> I41 | F60: =+Resumo!B32 -> % Rexistros en estado completado na aplicación SGIC | G60: =+Resumo!C32 -> XD-01: Control dos documentos e dos rexistros | H60: =+Resumo!D32 -> 1 | J60: =+Resumo!H32 -> 1 | L60: =+Resumo!L32 -> 0 | N60: =+N59 -> Coordinación de calidade
E61: =+Resumo!A33 -> I42 | F61: =+Resumo!B33 -> % Accións de Mellora finalizadas en prazo | G61: =+Resumo!C33 -> XD-01: Control dos documentos e dos rexistros | H61: =+Resumo!D33 -> 0 | J61: =+Resumo!H33 -> 0.5 | L61: =+Resumo!L33 -> 0 | N61: =+N60 -> Coordinación de calidade
C62: Xestión da infraestrutura (IA) | H62: =+H63 -> 1 | J62: =+J63 -> 1 | L62: =+L63 -> 0
D63: IA-01 Recursos e servizos | H63: =+H64 -> 1 | J63: =+J64 -> 1 | L63: =+L64 -> 0 | N63: vicedecano/a ou subdirector/a con competencias en recursos materiais e servizos
E64: =+Resumo!A21 -> I23 | F64: =+Resumo!B21 -> Índice de satisfacción cos recursos materiais e servizos | G64: =+Resumo!C21 -> IA-01: Xestión dos recursos materiais e dos servizos | H64: =+Resumo!D21 -> 1 | J64: =+Resumo!H21 -> 1 | L64: =+Resumo!L21 -> 0 | N64: =+N63 -> vicedecano/a ou subdirector/a con competencias en recursos materiais e servizos
